Workbook

Sheet Calculator
A1: Calculator
A3: Enemy | B3: HP | C3: MP | D3: Att | E3: Def | F3: Mat | G3: Mdf | H3: Agi | I3: Luk | L3: Level
A4: Ghoul | B4: =VLOOKUP($A$4,Enemies!$A$4:$I$204,2,FALSE) -> 100 | C4: =VLOOKUP($A$4,Enemies!$A$4:$I$204,3,FALSE) -> 15 | D4: =VLOOKUP($A$4,Enemies!$A$4:$I$204,4,FALSE) -> 10 | E4: =VLOOKUP($A$4,Enemies!$A$4:$I$204,5,FALSE) -> 10 | F4: =VLOOKUP($A$4,Enemies!$A$4:$I$204,6,FALSE) -> 10 | G4: =VLOOKUP($A$4,Enemies!$A$4:$I$204,7,FALSE) -> 10 | H4: =VLOOKUP($A$4,Enemies!$A$4:$I$204,8,FALSE) -> 10 | I4: =VLOOKUP($A$4,Enemies!$A$4:$I$204,9,FALSE) -> 10 | L4: 1
A6: Characters | B6: HP | C6: MP | D6: Att | E6: Def | F6: Mat | G6: Mdf | H6: Agi | I6: Luk | J6: Main Hand | K6: Off Hand | L6: Armor | M6: HP | N6: MP | O6: Att | P6: Def | Q6: Mat | R6: Mdf | S6: Agi | T6: Luk
A7: Soldier | B7: =VLOOKUP($L$4,INDIRECT($A7&"!$A$5:$I$103"),2,FALSE) -> 100 | C7: =VLOOKUP($L$4,INDIRECT($A7&"!$A$5:$I$103"),3,FALSE) -> 5 | D7: =VLOOKUP($L$4,INDIRECT($A7&"!$A$5:$I$103"),4,FALSE) -> 10 | E7: =VLOOKUP($L$4,INDIRECT($A7&"!$A$5:$I$103"),5,FALSE) -> 10 | F7: =VLOOKUP($L$4,INDIRECT($A7&"!$A$5:$I$103"),6,FALSE) -> 10 | G7: =VLOOKUP($L$4,INDIRECT($A7&"!$A$5:$I$103"),7,FALSE) -> 10 | H7: =VLOOKUP($L$4,INDIRECT($A7&"!$A$5:$I$103"),8,FALSE) -> 10 | I7: =VLOOKUP($L$4,INDIRECT($A7&"!$A$5:$I$103"),9,FALSE) -> 10 | J7: Rusted Sword | K7: (None) | L7: Rusted Mail | M7: =B7+VLOOKUP($J7,Equipment!$A$4:$I$204,2,FALSE)+VLOOKUP($K7,Equipment!$A$4:$I$204,2,FALSE)+VLOOKUP($L7,Equipment!$A$4:$I$204,2,FALSE) -> 140 | N7: =C7+VLOOKUP($J7,Equipment!$A$4:$I$204,3,FALSE)+VLOOKUP($K7,Equipment!$A$4:$I$204,3,FALSE)+VLOOKUP($L7,Equipment!$A$4:$I$204,3,FALSE) -> 5 | O7: =D7+VLOOKUP($J7,Equipment!$A$4:$I$204,4,FALSE)+VLOOKUP($K7,Equipment!$A$4:$I$204,4,FALSE)+VLOOKUP($L7,Equipment!$A$4:$I$204,4,FALSE) -> 19 | P7: =E7+VLOOKUP($J7,Equipment!$A$4:$I$204,5,FALSE)+VLOOKUP($K7,Equipment!$A$4:$I$204,5,FALSE)+VLOOKUP($L7,Equipment!$A$4:$I$204,5,FALSE) -> 20 | Q7: =F7+VLOOKUP($J7,Equipment!$A$4:$I$204,6,FALSE)+VLOOKUP($K7,Equipment!$A$4:$I$204,6,FALSE)+VLOOKUP($L7,Equipment!$A$4:$I$204,6,FALSE) -> 12 | R7: =G7+VLOOKUP($J7,Equipment!$A$4:$I$204,7,FALSE)+VLOOKUP($K7,Equipment!$A$4:$I$204,7,FALSE)+VLOOKUP($L7,Equipment!$A$4:$I$204,7,FALSE) -> 14 | S7: =H7+VLOOKUP($J7,Equipment!$A$4:$I$204,8,FALSE)+VLOOKUP($K7,Equipment!$A$4:$I$204,8,FALSE)+VLOOKUP($L7,Equipment!$A$4:$I$204,8,FALSE) -> 14 | T7: =I7+VLOOKUP($J7,Equipment!$A$4:$I$204,9,FALSE)+VLOOKUP($K7,Equipment!$A$4:$I$204,9,FALSE)+VLOOKUP($L7,Equipment!$A$4:$I$204,9,FALSE) -> 12
A8: Sorcerer | B8: =VLOOKUP($L$4,INDIRECT($A8&"!$A$5:$I$103"),2,FALSE) -> 100 | C8: =VLOOKUP($L$4,INDIRECT($A8&"!$A$5:$I$103"),3,FALSE) -> 5 | D8: =VLOOKUP($L$4,INDIRECT($A8&"!$A$5:$I$103"),4,FALSE) -> 10 | E8: =VLOOKUP($L$4,INDIRECT($A8&"!$A$5:$I$103"),5,FALSE) -> 10 | F8: =VLOOKUP($L$4,INDIRECT($A8&"!$A$5:$I$103"),6,FALSE) -> 10 | G8: =VLOOKUP($L$4,INDIRECT($A8&"!$A$5:$I$103"),7,FALSE) -> 10 | H8: =VLOOKUP($L$4,INDIRECT($A8&"!$A$5:$I$103"),8,FALSE) -> 10 | I8: =VLOOKUP($L$4,INDIRECT($A8&"!$A$5:$I$103"),9,FALSE) -> 10 | J8: Tattered Spellbook | K8: (None) | L8: Tattered Robes | M8: =B8+VLOOKUP($J8,Equipment!$A$4:$I$204,2,FALSE)+VLOOKUP($K8,Equipment!$A$4:$I$204,2,FALSE)+VLOOKUP($L8,Equipment!$A$4:$I$204,2,FALSE) -> 110 | N8: =C8+VLOOKUP($J8,Equipment!$A$4:$I$204,3,FALSE)+VLOOKUP($K8,Equipment!$A$4:$I$204,3,FALSE)+VLOOKUP($L8,Equipment!$A$4:$I$204,3,FALSE) -> 40 | O8: =D8+VLOOKUP($J8,Equipment!$A$4:$I$204,4,FALSE)+VLOOKUP($K8,Equipment!$A$4:$I$204,4,FALSE)+VLOOKUP($L8,Equipment!$A$4:$I$204,4,FALSE) -> 12 | P8: =E8+VLOOKUP($J8,Equipment!$A$4:$I$204,5,FALSE)+VLOOKUP($K8,Equipment!$A$4:$I$204,5,FALSE)+VLOOKUP($L8,Equipment!$A$4:$I$204,5,FALSE) -> 13 | Q8: =F8+VLOOKUP($J8,Equipment!$A$4:$I$204,6,FALSE)+VLOOKUP($K8,Equipment!$A$4:$I$204,6,FALSE)+VLOOKUP($L8,Equipment!$A$4:$I$204,6,FALSE) -> 15 | R8: =G8+VLOOKUP($J8,Equipment!$A$4:$I$204,7,FALSE)+VLOOKUP($K8,Equipment!$A$4:$I$204,7,FALSE)+VLOOKUP($L8,Equipment!$A$4:$I$204,7,FALSE) -> 17 | S8: =H8+VLOOKUP($J8,Equipment!$A$4:$I$204,8,FALSE)+VLOOKUP($K8,Equipment!$A$4:$I$204,8,FALSE)+VLOOKUP($L8,Equipment!$A$4:$I$204,8,FALSE) -> 14 | T8: =I8+VLOOKUP($J8,Equipment!$A$4:$I$204,9,FALSE)+VLOOKUP($K8,Equipment!$A$4:$I$204,9,FALSE)+VLOOKUP($L8,Equipment!$A$4:$I$204,9,FALSE) -> 16
A9: Scout | B9: =VLOOKUP($L$4,INDIRECT($A9&"!$A$5:$I$103"),2,FALSE) -> 100 | C9: =VLOOKUP($L$4,INDIRECT($A9&"!$A$5:$I$103"),3,FALSE) -> 5 | D9: =VLOOKUP($L$4,INDIRECT($A9&"!$A$5:$I$103"),4,FALSE) -> 10 | E9: =VLOOKUP($L$4,INDIRECT($A9&"!$A$5:$I$103"),5,FALSE) -> 10 | F9: =VLOOKUP($L$4,INDIRECT($A9&"!$A$5:$I$103"),6,FALSE) -> 10 | G9: =VLOOKUP($L$4,INDIRECT($A9&"!$A$5:$I$103"),7,FALSE) -> 10 | H9: =VLOOKUP($L$4,INDIRECT($A9&"!$A$5:$I$103"),8,FALSE) -> 10 | I9: =VLOOKUP($L$4,INDIRECT($A9&"!$A$5:$I$103"),9,FALSE) -> 10 | J9: Rickety Bow | K9: (None) | L9: Worn Leather | M9: =B9+VLOOKUP($J9,Equipment!$A$4:$I$204,2,FALSE)+VLOOKUP($K9,Equipment!$A$4:$I$204,2,FALSE)+VLOOKUP($L9,Equipment!$A$4:$I$204,2,FALSE) -> 120 | N9: =C9+VLOOKUP($J9,Equipment!$A$4:$I$204,3,FALSE)+VLOOKUP($K9,Equipment!$A$4:$I$204,3,FALSE)+VLOOKUP($L9,Equipment!$A$4:$I$204,3,FALSE) -> 10 | O9: =D9+VLOOKUP($J9,Equipment!$A$4:$I$204,4,FALSE)+VLOOKUP($K9,Equipment!$A$4:$I$204,4,FALSE)+VLOOKUP($L9,Equipment!$A$4:$I$204,4,FALSE) -> 15 | P9: =E9+VLOOKUP($J9,Equipment!$A$4:$I$204,5,FALSE)+VLOOKUP($K9,Equipment!$A$4:$I$204,5,FALSE)+VLOOKUP($L9,Equipment!$A$4:$I$204,5,FALSE) -> 16 | Q9: =F9+VLOOKUP($J9,Equipment!$A$4:$I$204,6,FALSE)+VLOOKUP($K9,Equipment!$A$4:$I$204,6,FALSE)+VLOOKUP($L9,Equipment!$A$4:$I$204,6,FALSE) -> 12 | R9: =G9+VLOOKUP($J9,Equipment!$A$4:$I$204,7,FALSE)+VLOOKUP($K9,Equipment!$A$4:$I$204,7,FALSE)+VLOOKUP($L9,Equipment!$A$4:$I$204,7,FALSE) -> 13 | S9: =H9+VLOOKUP($J9,Equipment!$A$4:$I$204,8,FALSE)+VLOOKUP($K9,Equipment!$A$4:$I$204,8,FALSE)+VLOOKUP($L9,Equipment!$A$4:$I$204,8,FALSE) -> 18 | T9: =I9+VLOOKUP($J9,Equipment!$A$4:$I$204,9,FALSE)+VLOOKUP($K9,Equipment!$A$4:$I$204,9,FALSE)+VLOOKUP($L9,Equipment!$A$4:$I$204,9,FALSE) -> 17
A10: Gryn | B10: =VLOOKUP($L$4,INDIRECT($A10&"!$A$5:$I$103"),2,FALSE) -> 100 | C10: =VLOOKUP($L$4,INDIRECT($A10&"!$A$5:$I$103"),3,FALSE) -> 5 | D10: =VLOOKUP($L$4,INDIRECT($A10&"!$A$5:$I$103"),4,FALSE) -> 10 | E10: =VLOOKUP($L$4,INDIRECT($A10&"!$A$5:$I$103"),5,FALSE) -> 10 | F10: =VLOOKUP($L$4,INDIRECT($A10&"!$A$5:$I$103"),6,FALSE) -> 10 | G10: =VLOOKUP($L$4,INDIRECT($A10&"!$A$5:$I$103"),7,FALSE) -> 10 | H10: =VLOOKUP($L$4,INDIRECT($A10&"!$A$5:$I$103"),8,FALSE) -> 10 | I10: =VLOOKUP($L$4,INDIRECT($A10&"!$A$5:$I$103"),9,FALSE) -> 10 | J10: Spiked Glove | K10: (None) | L10: (None) | M10: =B10+VLOOKUP($J10,Equipment!$A$4:$I$204,2,FALSE)+VLOOKUP($K10,Equipment!$A$4:$I$204,2,FALSE)+VLOOKUP($L10,Equipment!$A$4:$I$204,2,FALSE) -> 100 | N10: =C10+VLOOKUP($J10,Equipment!$A$4:$I$204,3,FALSE)+VLOOKUP($K10,Equipment!$A$4:$I$204,3,FALSE)+VLOOKUP($L10,Equipment!$A$4:$I$204,3,FALSE) -> 5 | O10: =D10+VLOOKUP($J10,Equipment!$A$4:$I$204,4,FALSE)+VLOOKUP($K10,Equipment!$A$4:$I$204,4,FALSE)+VLOOKUP($L10,Equipment!$A$4:$I$204,4,FALSE) -> 17 | P10: =E10+VLOOKUP($J10,Equipment!$A$4:$I$204,5,FALSE)+VLOOKUP($K10,Equipment!$A$4:$I$204,5,FALSE)+VLOOKUP($L10,Equipment!$A$4:$I$204,5,FALSE) -> 12 | Q10: =F10+VLOOKUP($J10,Equipment!$A$4:$I$204,6,FALSE)+VLOOKUP($K10,Equipment!$A$4:$I$204,6,FALSE)+VLOOKUP($L10,Equipment!$A$4:$I$204,6,FALSE) -> 10 | R10: =G10+VLOOKUP($J10,Equipment!$A$4:$I$204,7,FALSE)+VLOOKUP($K10,Equipment!$A$4:$I$204,7,FALSE)+VLOOKUP($L10,Equipment!$A$4:$I$204,7,FALSE) -> 10 | S10: =H10+VLOOKUP($J10,Equipment!$A$4:$I$204,8,FALSE)+VLOOKUP($K10,Equipment!$A$4:$I$204,8,FALSE)+VLOOKUP($L10,Equipment!$A$4:$I$204,8,FALSE) -> 13 | T10: =I10+VLOOKUP($J10,Equipment!$A$4:$I$204,9,FALSE)+VLOOKUP($K10,Equipment!$A$4:$I$204,9,FALSE)+VLOOKUP($L10,Equipment!$A$4:$I$204,9,FALSE) -> 14
A11: Dumpy | B11: =VLOOKUP($L$4,INDIRECT($A11&"!$A$5:$I$103"),2,FALSE) -> 100 | C11: =VLOOKUP($L$4,INDIRECT($A11&"!$A$5:$I$103"),3,FALSE) -> 5 | D11: =VLOOKUP($L$4,INDIRECT($A11&"!$A$5:$I$103"),4,FALSE) -> 10 | E11: =VLOOKUP($L$4,INDIRECT($A11&"!$A$5:$I$103"),5,FALSE) -> 10 | F11: =VLOOKUP($L$4,INDIRECT($A11&"!$A$5:$I$103"),6,FALSE) -> 10 | G11: =VLOOKUP($L$4,INDIRECT($A11&"!$A$5:$I$103"),7,FALSE) -> 10 | H11: =VLOOKUP($L$4,INDIRECT($A11&"!$A$5:$I$103"),8,FALSE) -> 10 | I11: =VLOOKUP($L$4,INDIRECT($A11&"!$A$5:$I$103"),9,FALSE) -> 10 | J11: (None) | K11: (None) | L11: (None) | M11: =B11+VLOOKUP($J11,Equipment!$A$4:$I$204,2,FALSE)+VLOOKUP($K11,Equipment!$A$4:$I$204,2,FALSE)+VLOOKUP($L11,Equipment!$A$4:$I$204,2,FALSE) -> 100 | N11: =C11+VLOOKUP($J11,Equipment!$A$4:$I$204,3,FALSE)+VLOOKUP($K11,Equipment!$A$4:$I$204,3,FALSE)+VLOOKUP($L11,Equipment!$A$4:$I$204,3,FALSE) -> 5 | O11: =D11+VLOOKUP($J11,Equipment!$A$4:$I$204,4,FALSE)+VLOOKUP($K11,Equipment!$A$4:$I$204,4,FALSE)+VLOOKUP($L11,Equipment!$A$4:$I$204,4,FALSE) -> 10 | P11: =E11+VLOOKUP($J11,Equipment!$A$4:$I$204,5,FALSE)+VLOOKUP($K11,Equipment!$A$4:$I$204,5,FALSE)+VLOOKUP($L11,Equipment!$A$4:$I$204,5,FALSE) -> 10 | Q11: =F11+VLOOKUP($J11,Equipment!$A$4:$I$204,6,FALSE)+VLOOKUP($K11,Equipment!$A$4:$I$204,6,FALSE)+VLOOKUP($L11,Equipment!$A$4:$I$204,6,FALSE) -> 10 | R11: =G11+VLOOKUP($J11,Equipment!$A$4:$I$204,7,FALSE)+VLOOKUP($K11,Equipment!$A$4:$I$204,7,FALSE)+VLOOKUP($L11,Equipment!$A$4:$I$204,7,FALSE) -> 10 | S11: =H11+VLOOKUP($J11,Equipment!$A$4:$I$204,8,FALSE)+VLOOKUP($K11,Equipment!$A$4:$I$204,8,FALSE)+VLOOKUP($L11,Equipment!$A$4:$I$204,8,FALSE) -> 10 | T11: =I11+VLOOKUP($J11,Equipment!$A$4:$I$204,9,FALSE)+VLOOKUP($K11,Equipment!$A$4:$I$204,9,FALSE)+VLOOKUP($L11,Equipment!$A$4:$I$204,9,FALSE) -> 10
A12: Ahmrin | B12: =VLOOKUP($L$4,INDIRECT($A12&"!$A$5:$I$103"),2,FALSE) -> 100 | C12: =VLOOKUP($L$4,INDIRECT($A12&"!$A$5:$I$103"),3,FALSE) -> 5 | D12: =VLOOKUP($L$4,INDIRECT($A12&"!$A$5:$I$103"),4,FALSE) -> 10 | E12: =VLOOKUP($L$4,INDIRECT($A12&"!$A$5:$I$103"),5,FALSE) -> 10 | F12: =VLOOKUP($L$4,INDIRECT($A12&"!$A$5:$I$103"),6,FALSE) -> 10 | G12: =VLOOKUP($L$4,INDIRECT($A12&"!$A$5:$I$103"),7,FALSE) -> 10 | H12: =VLOOKUP($L$4,INDIRECT($A12&"!$A$5:$I$103"),8,FALSE) -> 10 | I12: =VLOOKUP($L$4,INDIRECT($A12&"!$A$5:$I$103"),9,FALSE) -> 10 | J12: Longsword | K12: Shield | L12: Iron Mail | M12: =B12+VLOOKUP($J12,Equipment!$A$4:$I$204,2,FALSE)+VLOOKUP($K12,Equipment!$A$4:$I$204,2,FALSE)+VLOOKUP($L12,Equipment!$A$4:$I$204,2,FALSE) -> 180 | N12: =C12+VLOOKUP($J12,Equipment!$A$4:$I$204,3,FALSE)+VLOOKUP($K12,Equipment!$A$4:$I$204,3,FALSE)+VLOOKUP($L12,Equipment!$A$4:$I$204,3,FALSE) -> 15 | O12: =D12+VLOOKUP($J12,Equipment!$A$4:$I$204,4,FALSE)+VLOOKUP($K12,Equipment!$A$4:$I$204,4,FALSE)+VLOOKUP($L12,Equipment!$A$4:$I$204,4,FALSE) -> 30 | P12: =E12+VLOOKUP($J12,Equipment!$A$4:$I$204,5,FALSE)+VLOOKUP($K12,Equipment!$A$4:$I$204,5,FALSE)+VLOOKUP($L12,Equipment!$A$4:$I$204,5,FALSE) -> 35 | Q12: =F12+VLOOKUP($J12,Equipment!$A$4:$I$204,6,FALSE)+VLOOKUP($K12,Equipment!$A$4:$I$204,6,FALSE)+VLOOKUP($L12,Equipment!$A$4:$I$204,6,FALSE) -> 20 | R12: =G12+VLOOKUP($J12,Equipment!$A$4:$I$204,7,FALSE)+VLOOKUP($K12,Equipment!$A$4:$I$204,7,FALSE)+VLOOKUP($L12,Equipment!$A$4:$I$204,7,FALSE) -> 27 | S12: =H12+VLOOKUP($J12,Equipment!$A$4:$I$204,8,FALSE)+VLOOKUP($K12,Equipment!$A$4:$I$204,8,FALSE)+VLOOKUP($L12,Equipment!$A$4:$I$204,8,FALSE) -> 13 | T12: =I12+VLOOKUP($J12,Equipment!$A$4:$I$204,9,FALSE)+VLOOKUP($K12,Equipment!$A$4:$I$204,9,FALSE)+VLOOKUP($L12,Equipment!$A$4:$I$204,9,FALSE) -> 14
A13: Leira | B13: =VLOOKUP($L$4,INDIRECT($A13&"!$A$5:$I$103"),2,FALSE) -> 100 | C13: =VLOOKUP($L$4,INDIRECT($A13&"!$A$5:$I$103"),3,FALSE) -> 5 | D13: =VLOOKUP($L$4,INDIRECT($A13&"!$A$5:$I$103"),4,FALSE) -> 10 | E13: =VLOOKUP($L$4,INDIRECT($A13&"!$A$5:$I$103"),5,FALSE) -> 10 | F13: =VLOOKUP($L$4,INDIRECT($A13&"!$A$5:$I$103"),6,FALSE) -> 10 | G13: =VLOOKUP($L$4,INDIRECT($A13&"!$A$5:$I$103"),7,FALSE) -> 10 | H13: =VLOOKUP($L$4,INDIRECT($A13&"!$A$5:$I$103"),8,FALSE) -> 10 | I13: =VLOOKUP($L$4,INDIRECT($A13&"!$A$5:$I$103"),9,FALSE) -> 10 | J13: Folding Bow | K13: Lute | L13: Worn Leather | M13: =B13+VLOOKUP($J13,Equipment!$A$4:$I$204,2,FALSE)+VLOOKUP($K13,Equipment!$A$4:$I$204,2,FALSE)+VLOOKUP($L13,Equipment!$A$4:$I$204,2,FALSE) -> 120 | N13: =C13+VLOOKUP($J13,Equipment!$A$4:$I$204,3,FALSE)+VLOOKUP($K13,Equipment!$A$4:$I$204,3,FALSE)+VLOOKUP($L13,Equipment!$A$4:$I$204,3,FALSE) -> 20 | O13: =D13+VLOOKUP($J13,Equipment!$A$4:$I$204,4,FALSE)+VLOOKUP($K13,Equipment!$A$4:$I$204,4,FALSE)+VLOOKUP($L13,Equipment!$A$4:$I$204,4,FALSE) -> 15 | P13: =E13+VLOOKUP($J13,Equipment!$A$4:$I$204,5,FALSE)+VLOOKUP($K13,Equipment!$A$4:$I$204,5,FALSE)+VLOOKUP($L13,Equipment!$A$4:$I$204,5,FALSE) -> 16 | Q13: =F13+VLOOKUP($J13,Equipment!$A$4:$I$204,6,FALSE)+VLOOKUP($K13,Equipment!$A$4:$I$204,6,FALSE)+VLOOKUP($L13,Equipment!$A$4:$I$204,6,FALSE) -> 15 | R13: =G13+VLOOKUP($J13,Equipment!$A$4:$I$204,7,FALSE)+VLOOKUP($K13,Equipment!$A$4:$I$204,7,FALSE)+VLOOKUP($L13,Equipment!$A$4:$I$204,7,FALSE) -> 13 | S13: =H13+VLOOKUP($J13,Equipment!$A$4:$I$204,8,FALSE)+VLOOKUP($K13,Equipment!$A$4:$I$204,8,FALSE)+VLOOKUP($L13,Equipment!$A$4:$I$204,8,FALSE) -> 18 | T13: =I13+VLOOKUP($J13,Equipment!$A$4:$I$204,9,FALSE)+VLOOKUP($K13,Equipment!$A$4:$I$204,9,FALSE)+VLOOKUP($L13,Equipment!$A$4:$I$204,9,FALSE) -> 14
A14: Hero8 | B14: =VLOOKUP($L$4,INDIRECT($A14&"!$A$5:$I$103"),2,FALSE) -> 100 | C14: =VLOOKUP($L$4,INDIRECT($A14&"!$A$5:$I$103"),3,FALSE) -> 5 | D14: =VLOOKUP($L$4,INDIRECT($A14&"!$A$5:$I$103"),4,FALSE) -> 10 | E14: =VLOOKUP($L$4,INDIRECT($A14&"!$A$5:$I$103"),5,FALSE) -> 10 | F14: =VLOOKUP($L$4,INDIRECT($A14&"!$A$5:$I$103"),6,FALSE) -> 10 | G14: =VLOOKUP($L$4,INDIRECT($A14&"!$A$5:$I$103"),7,FALSE) -> 10 | H14: =VLOOKUP($L$4,INDIRECT($A14&"!$A$5:$I$103"),8,FALSE) -> 10 | I14: =VLOOKUP($L$4,INDIRECT($A14&"!$A$5:$I$103"),9,FALSE) -> 10 | J14: (None) | K14: (None) | L14: (None) | M14: =B14+VLOOKUP($J14,Equipment!$A$4:$I$204,2,FALSE)+VLOOKUP($K14,Equipment!$A$4:$I$204,2,FALSE)+VLOOKUP($L14,Equipment!$A$4:$I$204,2,FALSE) -> 100 | N14: =C14+VLOOKUP($J14,Equipment!$A$4:$I$204,3,FALSE)+VLOOKUP($K14,Equipment!$A$4:$I$204,3,FALSE)+VLOOKUP($L14,Equipment!$A$4:$I$204,3,FALSE) -> 5 | O14: =D14+VLOOKUP($J14,Equipment!$A$4:$I$204,4,FALSE)+VLOOKUP($K14,Equipment!$A$4:$I$204,4,FALSE)+VLOOKUP($L14,Equipment!$A$4:$I$204,4,FALSE) -> 10 | P14: =E14+VLOOKUP($J14,Equipment!$A$4:$I$204,5,FALSE)+VLOOKUP($K14,Equipment!$A$4:$I$204,5,FALSE)+VLOOKUP($L14,Equipment!$A$4:$I$204,5,FALSE) -> 10 | Q14: =F14+VLOOKUP($J14,Equipment!$A$4:$I$204,6,FALSE)+VLOOKUP($K14,Equipment!$A$4:$I$204,6,FALSE)+VLOOKUP($L14,Equipment!$A$4:$I$204,6,FALSE) -> 10 | R14: =G14+VLOOKUP($J14,Equipment!$A$4:$I$204,7,FALSE)+VLOOKUP($K14,Equipment!$A$4:$I$204,7,FALSE)+VLOOKUP($L14,Equipment!$A$4:$I$204,7,FALSE) -> 10 | S14: =H14+VLOOKUP($J14,Equipment!$A$4:$I$204,8,FALSE)+VLOOKUP($K14,Equipment!$A$4:$I$204,8,FALSE)+VLOOKUP($L14,Equipment!$A$4:$I$204,8,FALSE) -> 10 | T14: =I14+VLOOKUP($J14,Equipment!$A$4:$I$204,9,FALSE)+VLOOKUP($K14,Equipment!$A$4:$I$204,9,FALSE)+VLOOKUP($L14,Equipment!$A$4:$I$204,9,FALSE) -> 10
A15: Hero9 | B15: =VLOOKUP($L$4,INDIRECT($A15&"!$A$5:$I$103"),2,FALSE) -> 100 | C15: =VLOOKUP($L$4,INDIRECT($A15&"!$A$5:$I$103"),3,FALSE) -> 5 | D15: =VLOOKUP($L$4,INDIRECT($A15&"!$A$5:$I$103"),4,FALSE) -> 10 | E15: =VLOOKUP($L$4,INDIRECT($A15&"!$A$5:$I$103"),5,FALSE) -> 10 | F15: =VLOOKUP($L$4,INDIRECT($A15&"!$A$5:$I$103"),6,FALSE) -> 10 | G15: =VLOOKUP($L$4,INDIRECT($A15&"!$A$5:$I$103"),7,FALSE) -> 10 | H15: =VLOOKUP($L$4,INDIRECT($A15&"!$A$5:$I$103"),8,FALSE) -> 10 | I15: =VLOOKUP($L$4,INDIRECT($A15&"!$A$5:$I$103"),9,FALSE) -> 10 | J15: (None) | K15: (None) | L15: (None) | M15: =B15+VLOOKUP($J15,Equipment!$A$4:$I$204,2,FALSE)+VLOOKUP($K15,Equipment!$A$4:$I$204,2,FALSE)+VLOOKUP($L15,Equipment!$A$4:$I$204,2,FALSE) -> 100 | N15: =C15+VLOOKUP($J15,Equipment!$A$4:$I$204,3,FALSE)+VLOOKUP($K15,Equipment!$A$4:$I$204,3,FALSE)+VLOOKUP($L15,Equipment!$A$4:$I$204,3,FALSE) -> 5 | O15: =D15+VLOOKUP($J15,Equipment!$A$4:$I$204,4,FALSE)+VLOOKUP($K15,Equipment!$A$4:$I$204,4,FALSE)+VLOOKUP($L15,Equipment!$A$4:$I$204,4,FALSE) -> 10 | P15: =E15+VLOOKUP($J15,Equipment!$A$4:$I$204,5,FALSE)+VLOOKUP($K15,Equipment!$A$4:$I$204,5,FALSE)+VLOOKUP($L15,Equipment!$A$4:$I$204,5,FALSE) -> 10 | Q15: =F15+VLOOKUP($J15,Equipment!$A$4:$I$204,6,FALSE)+VLOOKUP($K15,Equipment!$A$4:$I$204,6,FALSE)+VLOOKUP($L15,Equipment!$A$4:$I$204,6,FALSE) -> 10 | R15: =G15+VLOOKUP($J15,Equipment!$A$4:$I$204,7,FALSE)+VLOOKUP($K15,Equipment!$A$4:$I$204,7,FALSE)+VLOOKUP($L15,Equipment!$A$4:$I$204,7,FALSE) -> 10 | S15: =H15+VLOOKUP($J15,Equipment!$A$4:$I$204,8,FALSE)+VLOOKUP($K15,Equipment!$A$4:$I$204,8,FALSE)+VLOOKUP($L15,Equipment!$A$4:$I$204,8,FALSE) -> 10 | T15: =I15+VLOOKUP($J15,Equipment!$A$4:$I$204,9,FALSE)+VLOOKUP($K15,Equipment!$A$4:$I$204,9,FALSE)+VLOOKUP($L15,Equipment!$A$4:$I$204,9,FALSE) -> 10
A16: Hero10 | B16: =VLOOKUP($L$4,INDIRECT($A16&"!$A$5:$I$103"),2,FALSE) -> 100 | C16: =VLOOKUP($L$4,INDIRECT($A16&"!$A$5:$I$103"),3,FALSE) -> 5 | D16: =VLOOKUP($L$4,INDIRECT($A16&"!$A$5:$I$103"),4,FALSE) -> 10 | E16: =VLOOKUP($L$4,INDIRECT($A16&"!$A$5:$I$103"),5,FALSE) -> 10 | F16: =VLOOKUP($L$4,INDIRECT($A16&"!$A$5:$I$103"),6,FALSE) -> 10 | G16: =VLOOKUP($L$4,INDIRECT($A16&"!$A$5:$I$103"),7,FALSE) -> 10 | H16: =VLOOKUP($L$4,INDIRECT($A16&"!$A$5:$I$103"),8,FALSE) -> 10 | I16: =VLOOKUP($L$4,INDIRECT($A16&"!$A$5:$I$103"),9,FALSE) -> 10 | J16: (None) | K16: (None) | L16: (None) | M16: =B16+VLOOKUP($J16,Equipment!$A$4:$I$204,2,FALSE)+VLOOKUP($K16,Equipment!$A$4:$I$204,2,FALSE)+VLOOKUP($L16,Equipment!$A$4:$I$204,2,FALSE) -> 100 | N16: =C16+VLOOKUP($J16,Equipment!$A$4:$I$204,3,FALSE)+VLOOKUP($K16,Equipment!$A$4:$I$204,3,FALSE)+VLOOKUP($L16,Equipment!$A$4:$I$204,3,FALSE) -> 5 | O16: =D16+VLOOKUP($J16,Equipment!$A$4:$I$204,4,FALSE)+VLOOKUP($K16,Equipment!$A$4:$I$204,4,FALSE)+VLOOKUP($L16,Equipment!$A$4:$I$204,4,FALSE) -> 10 | P16: =E16+VLOOKUP($J16,Equipment!$A$4:$I$204,5,FALSE)+VLOOKUP($K16,Equipment!$A$4:$I$204,5,FALSE)+VLOOKUP($L16,Equipment!$A$4:$I$204,5,FALSE) -> 10 | Q16: =F16+VLOOKUP($J16,Equipment!$A$4:$I$204,6,FALSE)+VLOOKUP($K16,Equipment!$A$4:$I$204,6,FALSE)+VLOOKUP($L16,Equipment!$A$4:$I$204,6,FALSE) -> 10 | R16: =G16+VLOOKUP($J16,Equipment!$A$4:$I$204,7,FALSE)+VLOOKUP($K16,Equipment!$A$4:$I$204,7,FALSE)+VLOOKUP($L16,Equipment!$A$4:$I$204,7,FALSE) -> 10 | S16: =H16+VLOOKUP($J16,Equipment!$A$4:$I$204,8,FALSE)+VLOOKUP($K16,Equipment!$A$4:$I$204,8,FALSE)+VLOOKUP($L16,Equipment!$A$4:$I$204,8,FALSE) -> 10 | T16: =I16+VLOOKUP($J16,Equipment!$A$4:$I$204,9,FALSE)+VLOOKUP($K16,Equipment!$A$4:$I$204,9,FALSE)+VLOOKUP($L16,Equipment!$A$4:$I$204,9,FALSE) -> 10
A17: Hero11 | B17: =VLOOKUP($L$4,INDIRECT($A17&"!$A$5:$I$103"),2,FALSE) -> 100 | C17: =VLOOKUP($L$4,INDIRECT($A17&"!$A$5:$I$103"),3,FALSE) -> 5 | D17: =VLOOKUP($L$4,INDIRECT($A17&"!$A$5:$I$103"),4,FALSE) -> 10 | E17: =VLOOKUP($L$4,INDIRECT($A17&"!$A$5:$I$103"),5,FALSE) -> 10 | F17: =VLOOKUP($L$4,INDIRECT($A17&"!$A$5:$I$103"),6,FALSE) -> 10 | G17: =VLOOKUP($L$4,INDIRECT($A17&"!$A$5:$I$103"),7,FALSE) -> 10 | H17: =VLOOKUP($L$4,INDIRECT($A17&"!$A$5:$I$103"),8,FALSE) -> 10 | I17: =VLOOKUP($L$4,INDIRECT($A17&"!$A$5:$I$103"),9,FALSE) -> 10 | J17: (None) | K17: (None) | L17: (None) | M17: =B17+VLOOKUP($J17,Equipment!$A$4:$I$204,2,FALSE)+VLOOKUP($K17,Equipment!$A$4:$I$204,2,FALSE)+VLOOKUP($L17,Equipment!$A$4:$I$204,2,FALSE) -> 100 | N17: =C17+VLOOKUP($J17,Equipment!$A$4:$I$204,3,FALSE)+VLOOKUP($K17,Equipment!$A$4:$I$204,3,FALSE)+VLOOKUP($L17,Equipment!$A$4:$I$204,3,FALSE) -> 5 | O17: =D17+VLOOKUP($J17,Equipment!$A$4:$I$204,4,FALSE)+VLOOKUP($K17,Equipment!$A$4:$I$204,4,FALSE)+VLOOKUP($L17,Equipment!$A$4:$I$204,4,FALSE) -> 10 | P17: =E17+VLOOKUP($J17,Equipment!$A$4:$I$204,5,FALSE)+VLOOKUP($K17,Equipment!$A$4:$I$204,5,FALSE)+VLOOKUP($L17,Equipment!$A$4:$I$204,5,FALSE) -> 10 | Q17: =F17+VLOOKUP($J17,Equipment!$A$4:$I$204,6,FALSE)+VLOOKUP($K17,Equipment!$A$4:$I$204,6,FALSE)+VLOOKUP($L17,Equipment!$A$4:$I$204,6,FALSE) -> 10 | R17: =G17+VLOOKUP($J17,Equipment!$A$4:$I$204,7,FALSE)+VLOOKUP($K17,Equipment!$A$4:$I$204,7,FALSE)+VLOOKUP($L17,Equipment!$A$4:$I$204,7,FALSE) -> 10 | S17: =H17+VLOOKUP($J17,Equipment!$A$4:$I$204,8,FALSE)+VLOOKUP($K17,Equipment!$A$4:$I$204,8,FALSE)+VLOOKUP($L17,Equipment!$A$4:$I$204,8,FALSE) -> 10 | T17: =I17+VLOOKUP($J17,Equipment!$A$4:$I$204,9,FALSE)+VLOOKUP($K17,Equipment!$A$4:$I$204,9,FALSE)+VLOOKUP($L17,Equipment!$A$4:$I$204,9,FALSE) -> 10
A18: Hero12 | B18: =VLOOKUP($L$4,INDIRECT($A18&"!$A$5:$I$103"),2,FALSE) -> 100 | C18: =VLOOKUP($L$4,INDIRECT($A18&"!$A$5:$I$103"),3,FALSE) -> 5 | D18: =VLOOKUP($L$4,INDIRECT($A18&"!$A$5:$I$103"),4,FALSE) -> 10 | E18: =VLOOKUP($L$4,INDIRECT($A18&"!$A$5:$I$103"),5,FALSE) -> 10 | F18: =VLOOKUP($L$4,INDIRECT($A18&"!$A$5:$I$103"),6,FALSE) -> 10 | G18: =VLOOKUP($L$4,INDIRECT($A18&"!$A$5:$I$103"),7,FALSE) -> 10 | H18: =VLOOKUP($L$4,INDIRECT($A18&"!$A$5:$I$103"),8,FALSE) -> 10 | I18: =VLOOKUP($L$4,INDIRECT($A18&"!$A$5:$I$103"),9,FALSE) -> 10 | J18: (None) | K18: (None) | L18: (None) | M18: =B18+VLOOKUP($J18,Equipment!$A$4:$I$204,2,FALSE)+VLOOKUP($K18,Equipment!$A$4:$I$204,2,FALSE)+VLOOKUP($L18,Equipment!$A$4:$I$204,2,FALSE) -> 100 | N18: =C18+VLOOKUP($J18,Equipment!$A$4:$I$204,3,FALSE)+VLOOKUP($K18,Equipment!$A$4:$I$204,3,FALSE)+VLOOKUP($L18,Equipment!$A$4:$I$204,3,FALSE) -> 5 | O18: =D18+VLOOKUP($J18,Equipment!$A$4:$I$204,4,FALSE)+VLOOKUP($K18,Equipment!$A$4:$I$204,4,FALSE)+VLOOKUP($L18,Equipment!$A$4:$I$204,4,FALSE) -> 10 | P18: =E18+VLOOKUP($J18,Equipment!$A$4:$I$204,5,FALSE)+VLOOKUP($K18,Equipment!$A$4:$I$204,5,FALSE)+VLOOKUP($L18,Equipment!$A$4:$I$204,5,FALSE) -> 10 | Q18: =F18+VLOOKUP($J18,Equipment!$A$4:$I$204,6,FALSE)+VLOOKUP($K18,Equipment!$A$4:$I$204,6,FALSE)+VLOOKUP($L18,Equipment!$A$4:$I$204,6,FALSE) -> 10 | R18: =G18+VLOOKUP($J18,Equipment!$A$4:$I$204,7,FALSE)+VLOOKUP($K18,Equipment!$A$4:$I$204,7,FALSE)+VLOOKUP($L18,Equipment!$A$4:$I$204,7,FALSE) -> 10 | S18: =H18+VLOOKUP($J18,Equipment!$A$4:$I$204,8,FALSE)+VLOOKUP($K18,Equipment!$A$4:$I$204,8,FALSE)+VLOOKUP($L18,Equipment!$A$4:$I$204,8,FALSE) -> 10 | T18: =I18+VLOOKUP($J18,Equipment!$A$4:$I$204,9,FALSE)+VLOOKUP($K18,Equipment!$A$4:$I$204,9,FALSE)+VLOOKUP($L18,Equipment!$A$4:$I$204,9,FALSE) -> 10
... A26: Hero20 | B26: =VLOOKUP($L$4,INDIRECT($A26&"!$A$5:$I$103"),2,FALSE) -> 100 | C26: =VLOOKUP($L$4,INDIRECT($A26&"!$A$5:$I$103"),3,FALSE) -> 5 | D26: =VLOOKUP($L$4,INDIRECT($A26&"!$A$5:$I$103"),4,FALSE) -> 10 | E26: =VLOOKUP($L$4,INDIRECT($A26&"!$A$5:$I$103"),5,FALSE) -> 10 | F26: =VLOOKUP($L$4,INDIRECT($A26&"!$A$5:$I$103"),6,FALSE) -> 10 | G26: =VLOOKUP($L$4,INDIRECT($A26&"!$A$5:$I$103"),7,FALSE) -> 10 | H26: =VLOOKUP($L$4,INDIRECT($A26&"!$A$5:$I$103"),8,FALSE) -> 10 | I26: =VLOOKUP($L$4,INDIRECT($A26&"!$A$5:$I$103"),9,FALSE) -> 10 | J26: (None) | K26: (None) | L26: (None) | M26: =B26+VLOOKUP($J26,Equipment!$A$4:$I$204,2,FALSE)+VLOOKUP($K26,Equipment!$A$4:$I$204,2,FALSE)+VLOOKUP($L26,Equipment!$A$4:$I$204,2,FALSE) -> 100 | N26: =C26+VLOOKUP($J26,Equipment!$A$4:$I$204,3,FALSE)+VLOOKUP($K26,Equipment!$A$4:$I$204,3,FALSE)+VLOOKUP($L26,Equipment!$A$4:$I$204,3,FALSE) -> 5 | O26: =D26+VLOOKUP($J26,Equipment!$A$4:$I$204,4,FALSE)+VLOOKUP($K26,Equipment!$A$4:$I$204,4,FALSE)+VLOOKUP($L26,Equipment!$A$4:$I$204,4,FALSE) -> 10 | P26: =E26+VLOOKUP($J26,Equipment!$A$4:$I$204,5,FALSE)+VLOOKUP($K26,Equipment!$A$4:$I$204,5,FALSE)+VLOOKUP($L26,Equipment!$A$4:$I$204,5,FALSE) -> 10 | Q26: =F26+VLOOKUP($J26,Equipment!$A$4:$I$204,6,FALSE)+VLOOKUP($K26,Equipment!$A$4:$I$204,6,FALSE)+VLOOKUP($L26,Equipment!$A$4:$I$204,6,FALSE) -> 10 | R26: =G26+VLOOKUP($J26,Equipment!$A$4:$I$204,7,FALSE)+VLOOKUP($K26,Equipment!$A$4:$I$204,7,FALSE)+VLOOKUP($L26,Equipment!$A$4:$I$204,7,FALSE) -> 10 | S26: =H26+VLOOKUP($J26,Equipment!$A$4:$I$204,8,FALSE)+VLOOKUP($K26,Equipment!$A$4:$I$204,8,FALSE)+VLOOKUP($L26,Equipment!$A$4:$I$204,8,FALSE) -> 10 | T26: =I26+VLOOKUP($J26,Equipment!$A$4:$I$204,9,FALSE)+VLOOKUP($K26,Equipment!$A$4:$I$204,9,FALSE)+VLOOKUP($L26,Equipment!$A$4:$I$204,9,FALSE) -> 10
F29: Player Buff | H29: Enemy Buff
A30: Player Skills | B30: Character | D30: Dmg | E30: Hits | F30: +20% | G30: +40% | H30: +10% | I30: +25% | L30: Enemy Skill | M30: =A7 -> Soldier | N30: =A8 -> Sorcerer | O30: =A9 -> Scout | P30: =A10 -> Gryn | Q30: =A11 -> Dumpy | R30: =A12 -> Ahmrin | S30: =A13 -> Leira | T30: =A14 -> Hero8 | U30: =A15 -> Hero9 | V30: =A16 -> Hero10 | W30: =A17 -> Hero11 | X30: =A18 -> Hero12 | Y30: =A19 -> Hero13 | Z30: =A20 -> Hero14 | AA30: =A21 -> Hero15 | AB30: =A22 -> Hero16 | AC30: =A23 -> Hero17 | AD30: =A24 -> Hero18 | AE30: =A25 -> Hero19 | AF30: =A26 -> Hero20
A31: =Skills!A4 -> Slash (Soldier) | B31: =VLOOKUP($A31,Skills!$A$4:$C$304,2,FALSE) -> Soldier | D31: =ROUND(VLOOKUP(A31,Skills!A4:K304,3,FALSE) +((VLOOKUP(B31,$A$7:$T$26,15,FALSE)*VLOOKUP(A31,Skills!$A$4:$K$304,4,FALSE)) +(VLOOKUP(B31,$A$7:$T$26,17,FALSE)*VLOOKUP(A31,Skills!$A$4:$K$304,5,FALSE)) +(VLOOKUP(B31,$A$7:$T$26,19,FALSE)*VLOOKUP(A31,Skills!$A$4:$K$304,6,FALSE)) +(VLOOKUP(B31,$A$7:$T26,20,FALSE)*VLOOKUP(A31,Skills!$A$4:$K$304,7,FALSE))) -(($E$4*VLOOKUP(A31,Skills!$A$4:$K$304,8,FALSE)) +($F$4*VLOOKUP(A31,Skills!$A$4:$K$304,9,FALSE)) +($H$4*VLOOKUP(A31,Skills!$A$4:$K$304,10,FALSE)) +($I$4*VLOOKUP(A31,Skills!$A$4:$K$304,11,FALSE))),0) -> 37 | E31: =ROUND($B$4/D31,1) -> 2.7 | F31: =ROUND(VLOOKUP(A31,Skills!A4:K304,3,FALSE) +(((VLOOKUP(B31,$A$7:$T$26,15,FALSE)*1.2)*VLOOKUP(A31,Skills!$A$4:$K$304,4,FALSE)) +((VLOOKUP(B31,$A$7:$T$26,17,FALSE)*1.2)*VLOOKUP(A31,Skills!$A$4:$K$304,5,FALSE)) +(VLOOKUP(B31,$A$7:$T$26,19,FALSE)*VLOOKUP(A31,Skills!$A$4:$K$304,6,FALSE)) +(VLOOKUP(B31,$A$7:$T26,20,FALSE)*VLOOKUP(A31,Skills!$A$4:$K$304,7,FALSE))) -(($E$4*VLOOKUP(A31,Skills!$A$4:$K$304,8,FALSE)) +($F$4*VLOOKUP(A31,Skills!$A$4:$K$304,9,FALSE)) +($H$4*VLOOKUP(A31,Skills!$A$4:$K$304,10,FALSE)) +($I$4*VLOOKUP(A31,Skills!$A$4:$K$304,11,FALSE))),0) -> 48 | G31: =ROUND(VLOOKUP(A31,Skills!A4:K304,3,FALSE) +(((VLOOKUP(B31,$A$7:$T$26,15,FALSE)*1.4)*VLOOKUP(A31,Skills!$A$4:$K$304,4,FALSE)) +((VLOOKUP(B31,$A$7:$T$26,17,FALSE)*1.4)*VLOOKUP(A31,Skills!$A$4:$K$304,5,FALSE)) +(VLOOKUP(B31,$A$7:$T$26,19,FALSE)*VLOOKUP(A31,Skills!$A$4:$K$304,6,FALSE)) +(VLOOKUP(B31,$A$7:$T26,20,FALSE)*VLOOKUP(A31,Skills!$A$4:$K$304,7,FALSE))) -(($E$4*VLOOKUP(A31,Skills!$A$4:$K$304,8,FALSE)) +($F$4*VLOOKUP(A31,Skills!$A$4:$K$304,9,FALSE)) +($H$4*VLOOKUP(A31,Skills!$A$4:$K$304,10,FALSE)) +($I$4*VLOOKUP(A31,Skills!$A$4:$K$304,11,FALSE))),0) -> 60 | H31: =ROUND(VLOOKUP(A31,Skills!A4:K304,3,FALSE) +((VLOOKUP(B31,$A$7:$T$26,15,FALSE)*VLOOKUP(A31,Skills!$A$4:$K$304,4,FALSE)) +(VLOOKUP(B31,$A$7:$T$26,17,FALSE)*VLOOKUP(A31,Skills!$A$4:$K$304,5,FALSE)) +(VLOOKUP(B31,$A$7:$T$26,19,FALSE)*VLOOKUP(A31,Skills!$A$4:$K$304,6,FALSE)) +(VLOOKUP(B31,$A$7:$T26,20,FALSE)*VLOOKUP(A31,Skills!$A$4:$K$304,7,FALSE))) -((($E$4*1.2)*VLOOKUP(A31,Skills!$A$4:$K$304,8,FALSE)) +(($F$4*1.2)*VLOOKUP(A31,Skills!$A$4:$K$304,9,FALSE)) +($H$4*VLOOKUP(A31,Skills!$A$4:$K$304,10,FALSE)) +($I$4*VLOOKUP(A31,Skills!$A$4:$K$304,11,FALSE))),0) -> 33 | I31: =ROUND(VLOOKUP(A31,Skills!A4:K304,3,FALSE) +((VLOOKUP(B31,$A$7:$T$26,15,FALSE)*VLOOKUP(A31,Skills!$A$4:$K$304,4,FALSE)) +(VLOOKUP(B31,$A$7:$T$26,17,FALSE)*VLOOKUP(A31,Skills!$A$4:$K$304,5,FALSE)) +(VLOOKUP(B31,$A$7:$T$26,19,FALSE)*VLOOKUP(A31,Skills!$A$4:$K$304,6,FALSE)) +(VLOOKUP(B31,$A$7:$T26,20,FALSE)*VLOOKUP(A31,Skills!$A$4:$K$304,7,FALSE))) -((($E$4*1.4)*VLOOKUP(A31,Skills!$A$4:$K$304,8,FALSE)) +(($F$4*1.4)*VLOOKUP(A31,Skills!$A$4:$K$304,9,FALSE)) +($H$4*VLOOKUP(A31,Skills!$A$4:$K$304,10,FALSE)) +($I$4*VLOOKUP(A31,Skills!$A$4:$K$304,11,FALSE))),0) -> 29 | L31: =EnemySkills!A4 -> Claw | M31: =ROUND(VLOOKUP($L31,EnemySkills!$A$4:$K$304,3,FALSE) +( ($D$4*VLOOKUP($L31,EnemySkills!$A$4:$K$304,4,FALSE)) +($F$4*VLOOKUP($L31,EnemySkills!$A$4:$K$304,5,FALSE)) +($H$4*VLOOKUP($L31,EnemySkills!$A$4:$K$304,6,FALSE)) +($I$4*VLOOKUP($L31,EnemySkills!$A$4:$K$304,7,FALSE)) )-( (VLOOKUP(M$30,$A$7:$T$26,16,FALSE)*VLOOKUP($L31,EnemySkills!$A$4:$K$304,8,FALSE)) +(VLOOKUP(M$30,$A$7:$T$26,18,FALSE)*VLOOKUP($L31,EnemySkills!$A$4:$K$304,9,FALSE)) +(VLOOKUP(M$30,$A$7:$T$26,19,FALSE)*VLOOKUP($L31,EnemySkills!$A$4:$K$304,10,FALSE)) +(VLOOKUP(M$30,$A$7:$T$26,20,FALSE)*VLOOKUP($L31,EnemySkills!$A$4:$K$304,11,FALSE)) ),0) -> 0 | N31: =ROUND(VLOOKUP($L31,EnemySkills!$A$4:$K$304,3,FALSE) +( ($D$4*VLOOKUP($L31,EnemySkills!$A$4:$K$304,4,FALSE)) +($F$4*VLOOKUP($L31,EnemySkills!$A$4:$K$304,5,FALSE)) +($H$4*VLOOKUP($L31,EnemySkills!$A$4:$K$304,6,FALSE)) +($I$4*VLOOKUP($L31,EnemySkills!$A$4:$K$304,7,FALSE)) )-( (VLOOKUP(N$30,$A$7:$T$26,16,FALSE)*VLOOKUP($L31,EnemySkills!$A$4:$K$304,8,FALSE)) +(VLOOKUP(N$30,$A$7:$T$26,18,FALSE)*VLOOKUP($L31,EnemySkills!$A$4:$K$304,9,FALSE)) +(VLOOKUP(N$30,$A$7:$T$26,19,FALSE)*VLOOKUP($L31,EnemySkills!$A$4:$K$304,10,FALSE)) +(VLOOKUP(N$30,$A$7:$T$26,20,FALSE)*VLOOKUP($L31,EnemySkills!$A$4:$K$304,11,FALSE)) ),0) -> 14 | O31: =ROUND(VLOOKUP($L31,EnemySkills!$A$4:$K$304,3,FALSE) +( ($D$4*VLOOKUP($L31,EnemySkills!$A$4:$K$304,4,FALSE)) +($F$4*VLOOKUP($L31,EnemySkills!$A$4:$K$304,5,FALSE)) +($H$4*VLOOKUP($L31,EnemySkills!$A$4:$K$304,6,FALSE)) +($I$4*VLOOKUP($L31,EnemySkills!$A$4:$K$304,7,FALSE)) )-( (VLOOKUP(O$30,$A$7:$T$26,16,FALSE)*VLOOKUP($L31,EnemySkills!$A$4:$K$304,8,FALSE)) +(VLOOKUP(O$30,$A$7:$T$26,18,FALSE)*VLOOKUP($L31,EnemySkills!$A$4:$K$304,9,FALSE)) +(VLOOKUP(O$30,$A$7:$T$26,19,FALSE)*VLOOKUP($L31,EnemySkills!$A$4:$K$304,10,FALSE)) +(VLOOKUP(O$30,$A$7:$T$26,20,FALSE)*VLOOKUP($L31,EnemySkills!$A$4:$K$304,11,FALSE)) ),0) -> 8 | P31: =ROUND(VLOOKUP($L31,EnemySkills!$A$4:$K$304,3,FALSE) +( ($D$4*VLOOKUP($L31,EnemySkills!$A$4:$K$304,4,FALSE)) +($F$4*VLOOKUP($L31,EnemySkills!$A$4:$K$304,5,FALSE)) +($H$4*VLOOKUP($L31,EnemySkills!$A$4:$K$304,6,FALSE)) +($I$4*VLOOKUP($L31,EnemySkills!$A$4:$K$304,7,FALSE)) )-( (VLOOKUP(P$30,$A$7:$T$26,16,FALSE)*VLOOKUP($L31,EnemySkills!$A$4:$K$304,8,FALSE)) +(VLOOKUP(P$30,$A$7:$T$26,18,FALSE)*VLOOKUP($L31,EnemySkills!$A$4:$K$304,9,FALSE)) +(VLOOKUP(P$30,$A$7:$T$26,19,FALSE)*VLOOKUP($L31,EnemySkills!$A$4:$K$304,10,FALSE)) +(VLOOKUP(P$30,$A$7:$T$26,20,FALSE)*VLOOKUP($L31,EnemySkills!$A$4:$K$304,11,FALSE)) ),0) -> 16 | Q31: =ROUND(VLOOKUP($L31,EnemySkills!$A$4:$K$304,3,FALSE) +( ($D$4*VLOOKUP($L31,EnemySkills!$A$4:$K$304,4,FALSE)) +($F$4*VLOOKUP($L31,EnemySkills!$A$4:$K$304,5,FALSE)) +($H$4*VLOOKUP($L31,EnemySkills!$A$4:$K$304,6,FALSE)) +($I$4*VLOOKUP($L31,EnemySkills!$A$4:$K$304,7,FALSE)) )-( (VLOOKUP(Q$30,$A$7:$T$26,16,FALSE)*VLOOKUP($L31,EnemySkills!$A$4:$K$304,8,FALSE)) +(VLOOKUP(Q$30,$A$7:$T$26,18,FALSE)*VLOOKUP($L31,EnemySkills!$A$4:$K$304,9,FALSE)) +(VLOOKUP(Q$30,$A$7:$T$26,19,FALSE)*VLOOKUP($L31,EnemySkills!$A$4:$K$304,10,FALSE)) +(VLOOKUP(Q$30,$A$7:$T$26,20,FALSE)*VLOOKUP($L31,EnemySkills!$A$4:$K$304,11,FALSE)) ),0) -> 20 | R31: =ROUND(VLOOKUP($L31,EnemySkills!$A$4:$K$304,3,FALSE) +( ($D$4*VLOOKUP($L31,EnemySkills!$A$4:$K$304,4,FALSE)) +($F$4*VLOOKUP($L31,EnemySkills!$A$4:$K$304,5,FALSE)) +($H$4*VLOOKUP($L31,EnemySkills!$A$4:$K$304,6,FALSE)) +($I$4*VLOOKUP($L31,EnemySkills!$A$4:$K$304,7,FALSE)) )-( (VLOOKUP(R$30,$A$7:$T$26,16,FALSE)*VLOOKUP($L31,EnemySkills!$A$4:$K$304,8,FALSE)) +(VLOOKUP(R$30,$A$7:$T$26,18,FALSE)*VLOOKUP($L31,EnemySkills!$A$4:$K$304,9,FALSE)) +(VLOOKUP(R$30,$A$7:$T$26,19,FALSE)*VLOOKUP($L31,EnemySkills!$A$4:$K$304,10,FALSE)) +(VLOOKUP(R$30,$A$7:$T$26,20,FALSE)*VLOOKUP($L31,EnemySkills!$A$4:$K$304,11,FALSE)) ),0) -> -30 | S31: =ROUND(VLOOKUP($L31,EnemySkills!$A$4:$K$304,3,FALSE) +( ($D$4*VLOOKUP($L31,EnemySkills!$A$4:$K$304,4,FALSE)) +($F$4*VLOOKUP($L31,EnemySkills!$A$4:$K$304,5,FALSE)) +($H$4*VLOOKUP($L31,EnemySkills!$A$4:$K$304,6,FALSE)) +($I$4*VLOOKUP($L31,EnemySkills!$A$4:$K$304,7,FALSE)) )-( (VLOOKUP(S$30,$A$7:$T$26,16,FALSE)*VLOOKUP($L31,EnemySkills!$A$4:$K$304,8,FALSE)) +(VLOOKUP(S$30,$A$7:$T$26,18,FALSE)*VLOOKUP($L31,EnemySkills!$A$4:$K$304,9,FALSE)) +(VLOOKUP(S$30,$A$7:$T$26,19,FALSE)*VLOOKUP($L31,EnemySkills!$A$4:$K$304,10,FALSE)) +(VLOOKUP(S$30,$A$7:$T$26,20,FALSE)*VLOOKUP($L31,EnemySkills!$A$4:$K$304,11,FALSE)) ),0) -> 8 | T31: =ROUND(VLOOKUP($L31,EnemySkills!$A$4:$K$304,3,FALSE) +( ($D$4*VLOOKUP($L31,EnemySkills!$A$4:$K$304,4,FALSE)) +($F$4*VLOOKUP($L31,EnemySkills!$A$4:$K$304,5,FALSE)) +($H$4*VLOOKUP($L31,EnemySkills!$A$4:$K$304,6,FALSE)) +($I$4*VLOOKUP($L31,EnemySkills!$A$4:$K$304,7,FALSE)) )-( (VLOOKUP(T$30,$A$7:$T$26,16,FALSE)*VLOOKUP($L31,EnemySkills!$A$4:$K$304,8,FALSE)) +(VLOOKUP(T$30,$A$7:$T$26,18,FALSE)*VLOOKUP($L31,EnemySkills!$A$4:$K$304,9,FALSE)) +(VLOOKUP(T$30,$A$7:$T$26,19,FALSE)*VLOOKUP($L31,EnemySkills!$A$4:$K$304,10,FALSE)) +(VLOOKUP(T$30,$A$7:$T$26,20,FALSE)*VLOOKUP($L31,EnemySkills!$A$4:$K$304,11,FALSE)) ),0) -> 20 | ... AF31: =ROUND(VLOOKUP($L31,EnemySkills!$A$4:$K$304,3,FALSE) +( ($D$4*VLOOKUP($L31,EnemySkills!$A$4:$K$304,4,FALSE)) +($F$4*VLOOKUP($L31,EnemySkills!$A$4:$K$304,5,FALSE)) +($H$4*VLOOKUP($L31,EnemySkills!$A$4:$K$304,6,FALSE)) +($I$4*VLOOKUP($L31,EnemySkills!$A$4:$K$304,7,FALSE)) )-( (VLOOKUP(AF$30,$A$7:$T$26,16,FALSE)*VLOOKUP($L31,EnemySkills!$A$4:$K$304,8,FALSE)) +(VLOOKUP(AF$30,$A$7:$T$26,18,FALSE)*VLOOKUP($L31,EnemySkills!$A$4:$K$304,9,FALSE)) +(VLOOKUP(AF$30,$A$7:$T$26,19,FALSE)*VLOOKUP($L31,EnemySkills!$A$4:$K$304,10,FALSE)) +(VLOOKUP(AF$30,$A$7:$T$26,20,FALSE)*VLOOKUP($L31,EnemySkills!$A$4:$K$304,11,FALSE)) ),0) -> 20
A32: =Skills!A5 -> Jagged Slash | B32: =VLOOKUP($A32,Skills!$A$4:$C$304,2,FALSE) -> Soldier | D32: =ROUND(VLOOKUP(A32,Skills!A5:K305,3,FALSE) +((VLOOKUP(B32,$A$7:$T$26,15,FALSE)*VLOOKUP(A32,Skills!$A$4:$K$304,4,FALSE)) +(VLOOKUP(B32,$A$7:$T$26,17,FALSE)*VLOOKUP(A32,Skills!$A$4:$K$304,5,FALSE)) +(VLOOKUP(B32,$A$7:$T$26,19,FALSE)*VLOOKUP(A32,Skills!$A$4:$K$304,6,FALSE)) +(VLOOKUP(B32,$A$7:$T27,20,FALSE)*VLOOKUP(A32,Skills!$A$4:$K$304,7,FALSE))) -(($E$4*VLOOKUP(A32,Skills!$A$4:$K$304,8,FALSE)) +($F$4*VLOOKUP(A32,Skills!$A$4:$K$304,9,FALSE)) +($H$4*VLOOKUP(A32,Skills!$A$4:$K$304,10,FALSE)) +($I$4*VLOOKUP(A32,Skills!$A$4:$K$304,11,FALSE))),0) -> 37 | E32: =ROUND($B$4/D32,1) -> 2.7 | F32: =ROUND(VLOOKUP(A32,Skills!A5:K305,3,FALSE) +(((VLOOKUP(B32,$A$7:$T$26,15,FALSE)*1.2)*VLOOKUP(A32,Skills!$A$4:$K$304,4,FALSE)) +((VLOOKUP(B32,$A$7:$T$26,17,FALSE)*1.2)*VLOOKUP(A32,Skills!$A$4:$K$304,5,FALSE)) +(VLOOKUP(B32,$A$7:$T$26,19,FALSE)*VLOOKUP(A32,Skills!$A$4:$K$304,6,FALSE)) +(VLOOKUP(B32,$A$7:$T27,20,FALSE)*VLOOKUP(A32,Skills!$A$4:$K$304,7,FALSE))) -(($E$4*VLOOKUP(A32,Skills!$A$4:$K$304,8,FALSE)) +($F$4*VLOOKUP(A32,Skills!$A$4:$K$304,9,FALSE)) +($H$4*VLOOKUP(A32,Skills!$A$4:$K$304,10,FALSE)) +($I$4*VLOOKUP(A32,Skills!$A$4:$K$304,11,FALSE))),0) -> 48 | G32: =ROUND(VLOOKUP(A32,Skills!A5:K305,3,FALSE) +(((VLOOKUP(B32,$A$7:$T$26,15,FALSE)*1.4)*VLOOKUP(A32,Skills!$A$4:$K$304,4,FALSE)) +((VLOOKUP(B32,$A$7:$T$26,17,FALSE)*1.4)*VLOOKUP(A32,Skills!$A$4:$K$304,5,FALSE)) +(VLOOKUP(B32,$A$7:$T$26,19,FALSE)*VLOOKUP(A32,Skills!$A$4:$K$304,6,FALSE)) +(VLOOKUP(B32,$A$7:$T27,20,FALSE)*VLOOKUP(A32,Skills!$A$4:$K$304,7,FALSE))) -(($E$4*VLOOKUP(A32,Skills!$A$4:$K$304,8,FALSE)) +($F$4*VLOOKUP(A32,Skills!$A$4:$K$304,9,FALSE)) +($H$4*VLOOKUP(A32,Skills!$A$4:$K$304,10,FALSE)) +($I$4*VLOOKUP(A32,Skills!$A$4:$K$304,11,FALSE))),0) -> 60 | H32: =ROUND(VLOOKUP(A32,Skills!A5:K305,3,FALSE) +((VLOOKUP(B32,$A$7:$T$26,15,FALSE)*VLOOKUP(A32,Skills!$A$4:$K$304,4,FALSE)) +(VLOOKUP(B32,$A$7:$T$26,17,FALSE)*VLOOKUP(A32,Skills!$A$4:$K$304,5,FALSE)) +(VLOOKUP(B32,$A$7:$T$26,19,FALSE)*VLOOKUP(A32,Skills!$A$4:$K$304,6,FALSE)) +(VLOOKUP(B32,$A$7:$T27,20,FALSE)*VLOOKUP(A32,Skills!$A$4:$K$304,7,FALSE))) -((($E$4*1.2)*VLOOKUP(A32,Skills!$A$4:$K$304,8,FALSE)) +(($F$4*1.2)*VLOOKUP(A32,Skills!$A$4:$K$304,9,FALSE)) +($H$4*VLOOKUP(A32,Skills!$A$4:$K$304,10,FALSE)) +($I$4*VLOOKUP(A32,Skills!$A$4:$K$304,11,FALSE))),0) -> 33 | I32: =ROUND(VLOOKUP(A32,Skills!A5:K305,3,FALSE) +((VLOOKUP(B32,$A$7:$T$26,15,FALSE)*VLOOKUP(A32,Skills!$A$4:$K$304,4,FALSE)) +(VLOOKUP(B32,$A$7:$T$26,17,FALSE)*VLOOKUP(A32,Skills!$A$4:$K$304,5,FALSE)) +(VLOOKUP(B32,$A$7:$T$26,19,FALSE)*VLOOKUP(A32,Skills!$A$4:$K$304,6,FALSE)) +(VLOOKUP(B32,$A$7:$T27,20,FALSE)*VLOOKUP(A32,Skills!$A$4:$K$304,7,FALSE))) -((($E$4*1.4)*VLOOKUP(A32,Skills!$A$4:$K$304,8,FALSE)) +(($F$4*1.4)*VLOOKUP(A32,Skills!$A$4:$K$304,9,FALSE)) +($H$4*VLOOKUP(A32,Skills!$A$4:$K$304,10,FALSE)) +($I$4*VLOOKUP(A32,Skills!$A$4:$K$304,11,FALSE))),0) -> 29 | L32: =EnemySkills!A5 -> Bite | M32: =ROUND(VLOOKUP($L32,EnemySkills!$A$4:$K$304,3,FALSE) +( ($D$4*VLOOKUP($L32,EnemySkills!$A$4:$K$304,4,FALSE)) +($F$4*VLOOKUP($L32,EnemySkills!$A$4:$K$304,5,FALSE)) +($H$4*VLOOKUP($L32,EnemySkills!$A$4:$K$304,6,FALSE)) +($I$4*VLOOKUP($L32,EnemySkills!$A$4:$K$304,7,FALSE)) )-( (VLOOKUP(M$30,$A$7:$T$26,16,FALSE)*VLOOKUP($L32,EnemySkills!$A$4:$K$304,8,FALSE)) +(VLOOKUP(M$30,$A$7:$T$26,18,FALSE)*VLOOKUP($L32,EnemySkills!$A$4:$K$304,9,FALSE)) +(VLOOKUP(M$30,$A$7:$T$26,19,FALSE)*VLOOKUP($L32,EnemySkills!$A$4:$K$304,10,FALSE)) +(VLOOKUP(M$30,$A$7:$T$26,20,FALSE)*VLOOKUP($L32,EnemySkills!$A$4:$K$304,11,FALSE)) ),0) -> 10 | N32: =ROUND(VLOOKUP($L32,EnemySkills!$A$4:$K$304,3,FALSE) +( ($D$4*VLOOKUP($L32,EnemySkills!$A$4:$K$304,4,FALSE)) +($F$4*VLOOKUP($L32,EnemySkills!$A$4:$K$304,5,FALSE)) +($H$4*VLOOKUP($L32,EnemySkills!$A$4:$K$304,6,FALSE)) +($I$4*VLOOKUP($L32,EnemySkills!$A$4:$K$304,7,FALSE)) )-( (VLOOKUP(N$30,$A$7:$T$26,16,FALSE)*VLOOKUP($L32,EnemySkills!$A$4:$K$304,8,FALSE)) +(VLOOKUP(N$30,$A$7:$T$26,18,FALSE)*VLOOKUP($L32,EnemySkills!$A$4:$K$304,9,FALSE)) +(VLOOKUP(N$30,$A$7:$T$26,19,FALSE)*VLOOKUP($L32,EnemySkills!$A$4:$K$304,10,FALSE)) +(VLOOKUP(N$30,$A$7:$T$26,20,FALSE)*VLOOKUP($L32,EnemySkills!$A$4:$K$304,11,FALSE)) ),0) -> 24 | O32: =ROUND(VLOOKUP($L32,EnemySkills!$A$4:$K$304,3,FALSE) +( ($D$4*VLOOKUP($L32,EnemySkills!$A$4:$K$304,4,FALSE)) +($F$4*VLOOKUP($L32,EnemySkills!$A$4:$K$304,5,FALSE)) +($H$4*VLOOKUP($L32,EnemySkills!$A$4:$K$304,6,FALSE)) +($I$4*VLOOKUP($L32,EnemySkills!$A$4:$K$304,7,FALSE)) )-( (VLOOKUP(O$30,$A$7:$T$26,16,FALSE)*VLOOKUP($L32,EnemySkills!$A$4:$K$304,8,FALSE)) +(VLOOKUP(O$30,$A$7:$T$26,18,FALSE)*VLOOKUP($L32,EnemySkills!$A$4:$K$304,9,FALSE)) +(VLOOKUP(O$30,$A$7:$T$26,19,FALSE)*VLOOKUP($L32,EnemySkills!$A$4:$K$304,10,FALSE)) +(VLOOKUP(O$30,$A$7:$T$26,20,FALSE)*VLOOKUP($L32,EnemySkills!$A$4:$K$304,11,FALSE)) ),0) -> 18 | P32: =ROUND(VLOOKUP($L32,EnemySkills!$A$4:$K$304,3,FALSE) +( ($D$4*VLOOKUP($L32,EnemySkills!$A$4:$K$304,4,FALSE)) +($F$4*VLOOKUP($L32,EnemySkills!$A$4:$K$304,5,FALSE)) +($H$4*VLOOKUP($L32,EnemySkills!$A$4:$K$304,6,FALSE)) +($I$4*VLOOKUP($L32,EnemySkills!$A$4:$K$304,7,FALSE)) )-( (VLOOKUP(P$30,$A$7:$T$26,16,FALSE)*VLOOKUP($L32,EnemySkills!$A$4:$K$304,8,FALSE)) +(VLOOKUP(P$30,$A$7:$T$26,18,FALSE)*VLOOKUP($L32,EnemySkills!$A$4:$K$304,9,FALSE)) +(VLOOKUP(P$30,$A$7:$T$26,19,FALSE)*VLOOKUP($L32,EnemySkills!$A$4:$K$304,10,FALSE)) +(VLOOKUP(P$30,$A$7:$T$26,20,FALSE)*VLOOKUP($L32,EnemySkills!$A$4:$K$304,11,FALSE)) ),0) -> 26 | Q32: =ROUND(VLOOKUP($L32,EnemySkills!$A$4:$K$304,3,FALSE) +( ($D$4*VLOOKUP($L32,EnemySkills!$A$4:$K$304,4,FALSE)) +($F$4*VLOOKUP($L32,EnemySkills!$A$4:$K$304,5,FALSE)) +($H$4*VLOOKUP($L32,EnemySkills!$A$4:$K$304,6,FALSE)) +($I$4*VLOOKUP($L32,EnemySkills!$A$4:$K$304,7,FALSE)) )-( (VLOOKUP(Q$30,$A$7:$T$26,16,FALSE)*VLOOKUP($L32,EnemySkills!$A$4:$K$304,8,FALSE)) +(VLOOKUP(Q$30,$A$7:$T$26,18,FALSE)*VLOOKUP($L32,EnemySkills!$A$4:$K$304,9,FALSE)) +(VLOOKUP(Q$30,$A$7:$T$26,19,FALSE)*VLOOKUP($L32,EnemySkills!$A$4:$K$304,10,FALSE)) +(VLOOKUP(Q$30,$A$7:$T$26,20,FALSE)*VLOOKUP($L32,EnemySkills!$A$4:$K$304,11,FALSE)) ),0) -> 30 | R32: =ROUND(VLOOKUP($L32,EnemySkills!$A$4:$K$304,3,FALSE) +( ($D$4*VLOOKUP($L32,EnemySkills!$A$4:$K$304,4,FALSE)) +($F$4*VLOOKUP($L32,EnemySkills!$A$4:$K$304,5,FALSE)) +($H$4*VLOOKUP($L32,EnemySkills!$A$4:$K$304,6,FALSE)) +($I$4*VLOOKUP($L32,EnemySkills!$A$4:$K$304,7,FALSE)) )-( (VLOOKUP(R$30,$A$7:$T$26,16,FALSE)*VLOOKUP($L32,EnemySkills!$A$4:$K$304,8,FALSE)) +(VLOOKUP(R$30,$A$7:$T$26,18,FALSE)*VLOOKUP($L32,EnemySkills!$A$4:$K$304,9,FALSE)) +(VLOOKUP(R$30,$A$7:$T$26,19,FALSE)*VLOOKUP($L32,EnemySkills!$A$4:$K$304,10,FALSE)) +(VLOOKUP(R$30,$A$7:$T$26,20,FALSE)*VLOOKUP($L32,EnemySkills!$A$4:$K$304,11,FALSE)) ),0) -> -20 | S32: =ROUND(VLOOKUP($L32,EnemySkills!$A$4:$K$304,3,FALSE) +( ($D$4*VLOOKUP($L32,EnemySkills!$A$4:$K$304,4,FALSE)) +($F$4*VLOOKUP($L32,EnemySkills!$A$4:$K$304,5,FALSE)) +($H$4*VLOOKUP($L32,EnemySkills!$A$4:$K$304,6,FALSE)) +($I$4*VLOOKUP($L32,EnemySkills!$A$4:$K$304,7,FALSE)) )-( (VLOOKUP(S$30,$A$7:$T$26,16,FALSE)*VLOOKUP($L32,EnemySkills!$A$4:$K$304,8,FALSE)) +(VLOOKUP(S$30,$A$7:$T$26,18,FALSE)*VLOOKUP($L32,EnemySkills!$A$4:$K$304,9,FALSE)) +(VLOOKUP(S$30,$A$7:$T$26,19,FALSE)*VLOOKUP($L32,EnemySkills!$A$4:$K$304,10,FALSE)) +(VLOOKUP(S$30,$A$7:$T$26,20,FALSE)*VLOOKUP($L32,EnemySkills!$A$4:$K$304,11,FALSE)) ),0) -> 18 | T32: =ROUND(VLOOKUP($L32,EnemySkills!$A$4:$K$304,3,FALSE) +( ($D$4*VLOOKUP($L32,EnemySkills!$A$4:$K$304,4,FALSE)) +($F$4*VLOOKUP($L32,EnemySkills!$A$4:$K$304,5,FALSE)) +($H$4*VLOOKUP($L32,EnemySkills!$A$4:$K$304,6,FALSE)) +($I$4*VLOOKUP($L32,EnemySkills!$A$4:$K$304,7,FALSE)) )-( (VLOOKUP(T$30,$A$7:$T$26,16,FALSE)*VLOOKUP($L32,EnemySkills!$A$4:$K$304,8,FALSE)) +(VLOOKUP(T$30,$A$7:$T$26,18,FALSE)*VLOOKUP($L32,EnemySkills!$A$4:$K$304,9,FALSE)) +(VLOOKUP(T$30,$A$7:$T$26,19,FALSE)*VLOOKUP($L32,EnemySkills!$A$4:$K$304,10,FALSE)) +(VLOOKUP(T$30,$A$7:$T$26,20,FALSE)*VLOOKUP($L32,EnemySkills!$A$4:$K$304,11,FALSE)) ),0) -> 30 | ... AF32: =ROUND(VLOOKUP($L32,EnemySkills!$A$4:$K$304,3,FALSE) +( ($D$4*VLOOKUP($L32,EnemySkills!$A$4:$K$304,4,FALSE)) +($F$4*VLOOKUP($L32,EnemySkills!$A$4:$K$304,5,FALSE)) +($H$4*VLOOKUP($L32,EnemySkills!$A$4:$K$304,6,FALSE)) +($I$4*VLOOKUP($L32,EnemySkills!$A$4:$K$304,7,FALSE)) )-( (VLOOKUP(AF$30,$A$7:$T$26,16,FALSE)*VLOOKUP($L32,EnemySkills!$A$4:$K$304,8,FALSE)) +(VLOOKUP(AF$30,$A$7:$T$26,18,FALSE)*VLOOKUP($L32,EnemySkills!$A$4:$K$304,9,FALSE)) +(VLOOKUP(AF$30,$A$7:$T$26,19,FALSE)*VLOOKUP($L32,EnemySkills!$A$4:$K$304,10,FALSE)) +(VLOOKUP(AF$30,$A$7:$T$26,20,FALSE)*VLOOKUP($L32,EnemySkills!$A$4:$K$304,11,FALSE)) ),0) -> 30
A33: =Skills!A6 -> Pommel Bash | B33: =VLOOKUP($A33,Skills!$A$4:$C$304,2,FALSE) -> Soldier | D33: =ROUND(VLOOKUP(A33,Skills!A6:K306,3,FALSE) +((VLOOKUP(B33,$A$7:$T$26,15,FALSE)*VLOOKUP(A33,Skills!$A$4:$K$304,4,FALSE)) +(VLOOKUP(B33,$A$7:$T$26,17,FALSE)*VLOOKUP(A33,Skills!$A$4:$K$304,5,FALSE)) +(VLOOKUP(B33,$A$7:$T$26,19,FALSE)*VLOOKUP(A33,Skills!$A$4:$K$304,6,FALSE)) +(VLOOKUP(B33,$A$7:$T28,20,FALSE)*VLOOKUP(A33,Skills!$A$4:$K$304,7,FALSE))) -(($E$4*VLOOKUP(A33,Skills!$A$4:$K$304,8,FALSE)) +($F$4*VLOOKUP(A33,Skills!$A$4:$K$304,9,FALSE)) +($H$4*VLOOKUP(A33,Skills!$A$4:$K$304,10,FALSE)) +($I$4*VLOOKUP(A33,Skills!$A$4:$K$304,11,FALSE))),0) -> 56 | E33: =ROUND($B$4/D33,1) -> 1.8 | F33: =ROUND(VLOOKUP(A33,Skills!A6:K306,3,FALSE) +(((VLOOKUP(B33,$A$7:$T$26,15,FALSE)*1.2)*VLOOKUP(A33,Skills!$A$4:$K$304,4,FALSE)) +((VLOOKUP(B33,$A$7:$T$26,17,FALSE)*1.2)*VLOOKUP(A33,Skills!$A$4:$K$304,5,FALSE)) +(VLOOKUP(B33,$A$7:$T$26,19,FALSE)*VLOOKUP(A33,Skills!$A$4:$K$304,6,FALSE)) +(VLOOKUP(B33,$A$7:$T28,20,FALSE)*VLOOKUP(A33,Skills!$A$4:$K$304,7,FALSE))) -(($E$4*VLOOKUP(A33,Skills!$A$4:$K$304,8,FALSE)) +($F$4*VLOOKUP(A33,Skills!$A$4:$K$304,9,FALSE)) +($H$4*VLOOKUP(A33,Skills!$A$4:$K$304,10,FALSE)) +($I$4*VLOOKUP(A33,Skills!$A$4:$K$304,11,FALSE))),0) -> 71 | G33: =ROUND(VLOOKUP(A33,Skills!A6:K306,3,FALSE) +(((VLOOKUP(B33,$A$7:$T$26,15,FALSE)*1.4)*VLOOKUP(A33,Skills!$A$4:$K$304,4,FALSE)) +((VLOOKUP(B33,$A$7:$T$26,17,FALSE)*1.4)*VLOOKUP(A33,Skills!$A$4:$K$304,5,FALSE)) +(VLOOKUP(B33,$A$7:$T$26,19,FALSE)*VLOOKUP(A33,Skills!$A$4:$K$304,6,FALSE)) +(VLOOKUP(B33,$A$7:$T28,20,FALSE)*VLOOKUP(A33,Skills!$A$4:$K$304,7,FALSE))) -(($E$4*VLOOKUP(A33,Skills!$A$4:$K$304,8,FALSE)) +($F$4*VLOOKUP(A33,Skills!$A$4:$K$304,9,FALSE)) +($H$4*VLOOKUP(A33,Skills!$A$4:$K$304,10,FALSE)) +($I$4*VLOOKUP(A33,Skills!$A$4:$K$304,11,FALSE))),0) -> 86 | H33: =ROUND(VLOOKUP(A33,Skills!A6:K306,3,FALSE) +((VLOOKUP(B33,$A$7:$T$26,15,FALSE)*VLOOKUP(A33,Skills!$A$4:$K$304,4,FALSE)) +(VLOOKUP(B33,$A$7:$T$26,17,FALSE)*VLOOKUP(A33,Skills!$A$4:$K$304,5,FALSE)) +(VLOOKUP(B33,$A$7:$T$26,19,FALSE)*VLOOKUP(A33,Skills!$A$4:$K$304,6,FALSE)) +(VLOOKUP(B33,$A$7:$T28,20,FALSE)*VLOOKUP(A33,Skills!$A$4:$K$304,7,FALSE))) -((($E$4*1.2)*VLOOKUP(A33,Skills!$A$4:$K$304,8,FALSE)) +(($F$4*1.2)*VLOOKUP(A33,Skills!$A$4:$K$304,9,FALSE)) +($H$4*VLOOKUP(A33,Skills!$A$4:$K$304,10,FALSE)) +($I$4*VLOOKUP(A33,Skills!$A$4:$K$304,11,FALSE))),0) -> 52 | I33: =ROUND(VLOOKUP(A33,Skills!A6:K306,3,FALSE) +((VLOOKUP(B33,$A$7:$T$26,15,FALSE)*VLOOKUP(A33,Skills!$A$4:$K$304,4,FALSE)) +(VLOOKUP(B33,$A$7:$T$26,17,FALSE)*VLOOKUP(A33,Skills!$A$4:$K$304,5,FALSE)) +(VLOOKUP(B33,$A$7:$T$26,19,FALSE)*VLOOKUP(A33,Skills!$A$4:$K$304,6,FALSE)) +(VLOOKUP(B33,$A$7:$T28,20,FALSE)*VLOOKUP(A33,Skills!$A$4:$K$304,7,FALSE))) -((($E$4*1.4)*VLOOKUP(A33,Skills!$A$4:$K$304,8,FALSE)) +(($F$4*1.4)*VLOOKUP(A33,Skills!$A$4:$K$304,9,FALSE)) +($H$4*VLOOKUP(A33,Skills!$A$4:$K$304,10,FALSE)) +($I$4*VLOOKUP(A33,Skills!$A$4:$K$304,11,FALSE))),0) -> 48 | L33: =EnemySkills!A6 -> Pounce | M33: =ROUND(VLOOKUP($L33,EnemySkills!$A$4:$K$304,3,FALSE) +( ($D$4*VLOOKUP($L33,EnemySkills!$A$4:$K$304,4,FALSE)) +($F$4*VLOOKUP($L33,EnemySkills!$A$4:$K$304,5,FALSE)) +($H$4*VLOOKUP($L33,EnemySkills!$A$4:$K$304,6,FALSE)) +($I$4*VLOOKUP($L33,EnemySkills!$A$4:$K$304,7,FALSE)) )-( (VLOOKUP(M$30,$A$7:$T$26,16,FALSE)*VLOOKUP($L33,EnemySkills!$A$4:$K$304,8,FALSE)) +(VLOOKUP(M$30,$A$7:$T$26,18,FALSE)*VLOOKUP($L33,EnemySkills!$A$4:$K$304,9,FALSE)) +(VLOOKUP(M$30,$A$7:$T$26,19,FALSE)*VLOOKUP($L33,EnemySkills!$A$4:$K$304,10,FALSE)) +(VLOOKUP(M$30,$A$7:$T$26,20,FALSE)*VLOOKUP($L33,EnemySkills!$A$4:$K$304,11,FALSE)) ),0) -> 20 | N33: =ROUND(VLOOKUP($L33,EnemySkills!$A$4:$K$304,3,FALSE) +( ($D$4*VLOOKUP($L33,EnemySkills!$A$4:$K$304,4,FALSE)) +($F$4*VLOOKUP($L33,EnemySkills!$A$4:$K$304,5,FALSE)) +($H$4*VLOOKUP($L33,EnemySkills!$A$4:$K$304,6,FALSE)) +($I$4*VLOOKUP($L33,EnemySkills!$A$4:$K$304,7,FALSE)) )-( (VLOOKUP(N$30,$A$7:$T$26,16,FALSE)*VLOOKUP($L33,EnemySkills!$A$4:$K$304,8,FALSE)) +(VLOOKUP(N$30,$A$7:$T$26,18,FALSE)*VLOOKUP($L33,EnemySkills!$A$4:$K$304,9,FALSE)) +(VLOOKUP(N$30,$A$7:$T$26,19,FALSE)*VLOOKUP($L33,EnemySkills!$A$4:$K$304,10,FALSE)) +(VLOOKUP(N$30,$A$7:$T$26,20,FALSE)*VLOOKUP($L33,EnemySkills!$A$4:$K$304,11,FALSE)) ),0) -> 20 | O33: =ROUND(VLOOKUP($L33,EnemySkills!$A$4:$K$304,3,FALSE) +( ($D$4*VLOOKUP($L33,EnemySkills!$A$4:$K$304,4,FALSE)) +($F$4*VLOOKUP($L33,EnemySkills!$A$4:$K$304,5,FALSE)) +($H$4*VLOOKUP($L33,EnemySkills!$A$4:$K$304,6,FALSE)) +($I$4*VLOOKUP($L33,EnemySkills!$A$4:$K$304,7,FALSE)) )-( (VLOOKUP(O$30,$A$7:$T$26,16,FALSE)*VLOOKUP($L33,EnemySkills!$A$4:$K$304,8,FALSE)) +(VLOOKUP(O$30,$A$7:$T$26,18,FALSE)*VLOOKUP($L33,EnemySkills!$A$4:$K$304,9,FALSE)) +(VLOOKUP(O$30,$A$7:$T$26,19,FALSE)*VLOOKUP($L33,EnemySkills!$A$4:$K$304,10,FALSE)) +(VLOOKUP(O$30,$A$7:$T$26,20,FALSE)*VLOOKUP($L33,EnemySkills!$A$4:$K$304,11,FALSE)) ),0) -> 20 | P33: =ROUND(VLOOKUP($L33,EnemySkills!$A$4:$K$304,3,FALSE) +( ($D$4*VLOOKUP($L33,EnemySkills!$A$4:$K$304,4,FALSE)) +($F$4*VLOOKUP($L33,EnemySkills!$A$4:$K$304,5,FALSE)) +($H$4*VLOOKUP($L33,EnemySkills!$A$4:$K$304,6,FALSE)) +($I$4*VLOOKUP($L33,EnemySkills!$A$4:$K$304,7,FALSE)) )-( (VLOOKUP(P$30,$A$7:$T$26,16,FALSE)*VLOOKUP($L33,EnemySkills!$A$4:$K$304,8,FALSE)) +(VLOOKUP(P$30,$A$7:$T$26,18,FALSE)*VLOOKUP($L33,EnemySkills!$A$4:$K$304,9,FALSE)) +(VLOOKUP(P$30,$A$7:$T$26,19,FALSE)*VLOOKUP($L33,EnemySkills!$A$4:$K$304,10,FALSE)) +(VLOOKUP(P$30,$A$7:$T$26,20,FALSE)*VLOOKUP($L33,EnemySkills!$A$4:$K$304,11,FALSE)) ),0) -> 20 | Q33: =ROUND(VLOOKUP($L33,EnemySkills!$A$4:$K$304,3,FALSE) +( ($D$4*VLOOKUP($L33,EnemySkills!$A$4:$K$304,4,FALSE)) +($F$4*VLOOKUP($L33,EnemySkills!$A$4:$K$304,5,FALSE)) +($H$4*VLOOKUP($L33,EnemySkills!$A$4:$K$304,6,FALSE)) +($I$4*VLOOKUP($L33,EnemySkills!$A$4:$K$304,7,FALSE)) )-( (VLOOKUP(Q$30,$A$7:$T$26,16,FALSE)*VLOOKUP($L33,EnemySkills!$A$4:$K$304,8,FALSE)) +(VLOOKUP(Q$30,$A$7:$T$26,18,FALSE)*VLOOKUP($L33,EnemySkills!$A$4:$K$304,9,FALSE)) +(VLOOKUP(Q$30,$A$7:$T$26,19,FALSE)*VLOOKUP($L33,EnemySkills!$A$4:$K$304,10,FALSE)) +(VLOOKUP(Q$30,$A$7:$T$26,20,FALSE)*VLOOKUP($L33,EnemySkills!$A$4:$K$304,11,FALSE)) ),0) -> 20 | R33: =ROUND(VLOOKUP($L33,EnemySkills!$A$4:$K$304,3,FALSE) +( ($D$4*VLOOKUP($L33,EnemySkills!$A$4:$K$304,4,FALSE)) +($F$4*VLOOKUP($L33,EnemySkills!$A$4:$K$304,5,FALSE)) +($H$4*VLOOKUP($L33,EnemySkills!$A$4:$K$304,6,FALSE)) +($I$4*VLOOKUP($L33,EnemySkills!$A$4:$K$304,7,FALSE)) )-( (VLOOKUP(R$30,$A$7:$T$26,16,FALSE)*VLOOKUP($L33,EnemySkills!$A$4:$K$304,8,FALSE)) +(VLOOKUP(R$30,$A$7:$T$26,18,FALSE)*VLOOKUP($L33,EnemySkills!$A$4:$K$304,9,FALSE)) +(VLOOKUP(R$30,$A$7:$T$26,19,FALSE)*VLOOKUP($L33,EnemySkills!$A$4:$K$304,10,FALSE)) +(VLOOKUP(R$30,$A$7:$T$26,20,FALSE)*VLOOKUP($L33,EnemySkills!$A$4:$K$304,11,FALSE)) ),0) -> 20 | S33: =ROUND(VLOOKUP($L33,EnemySkills!$A$4:$K$304,3,FALSE) +( ($D$4*VLOOKUP($L33,EnemySkills!$A$4:$K$304,4,FALSE)) +($F$4*VLOOKUP($L33,EnemySkills!$A$4:$K$304,5,FALSE)) +($H$4*VLOOKUP($L33,EnemySkills!$A$4:$K$304,6,FALSE)) +($I$4*VLOOKUP($L33,EnemySkills!$A$4:$K$304,7,FALSE)) )-( (VLOOKUP(S$30,$A$7:$T$26,16,FALSE)*VLOOKUP($L33,EnemySkills!$A$4:$K$304,8,FALSE)) +(VLOOKUP(S$30,$A$7:$T$26,18,FALSE)*VLOOKUP($L33,EnemySkills!$A$4:$K$304,9,FALSE)) +(VLOOKUP(S$30,$A$7:$T$26,19,FALSE)*VLOOKUP($L33,EnemySkills!$A$4:$K$304,10,FALSE)) +(VLOOKUP(S$30,$A$7:$T$26,20,FALSE)*VLOOKUP($L33,EnemySkills!$A$4:$K$304,11,FALSE)) ),0) -> 20 | T33: =ROUND(VLOOKUP($L33,EnemySkills!$A$4:$K$304,3,FALSE) +( ($D$4*VLOOKUP($L33,EnemySkills!$A$4:$K$304,4,FALSE)) +($F$4*VLOOKUP($L33,EnemySkills!$A$4:$K$304,5,FALSE)) +($H$4*VLOOKUP($L33,EnemySkills!$A$4:$K$304,6,FALSE)) +($I$4*VLOOKUP($L33,EnemySkills!$A$4:$K$304,7,FALSE)) )-( (VLOOKUP(T$30,$A$7:$T$26,16,FALSE)*VLOOKUP($L33,EnemySkills!$A$4:$K$304,8,FALSE)) +(VLOOKUP(T$30,$A$7:$T$26,18,FALSE)*VLOOKUP($L33,EnemySkills!$A$4:$K$304,9,FALSE)) +(VLOOKUP(T$30,$A$7:$T$26,19,FALSE)*VLOOKUP($L33,EnemySkills!$A$4:$K$304,10,FALSE)) +(VLOOKUP(T$30,$A$7:$T$26,20,FALSE)*VLOOKUP($L33,EnemySkills!$A$4:$K$304,11,FALSE)) ),0) -> 20 | ... AF33: =ROUND(VLOOKUP($L33,EnemySkills!$A$4:$K$304,3,FALSE) +( ($D$4*VLOOKUP($L33,EnemySkills!$A$4:$K$304,4,FALSE)) +($F$4*VLOOKUP($L33,EnemySkills!$A$4:$K$304,5,FALSE)) +($H$4*VLOOKUP($L33,EnemySkills!$A$4:$K$304,6,FALSE)) +($I$4*VLOOKUP($L33,EnemySkills!$A$4:$K$304,7,FALSE)) )-( (VLOOKUP(AF$30,$A$7:$T$26,16,FALSE)*VLOOKUP($L33,EnemySkills!$A$4:$K$304,8,FALSE)) +(VLOOKUP(AF$30,$A$7:$T$26,18,FALSE)*VLOOKUP($L33,EnemySkills!$A$4:$K$304,9,FALSE)) +(VLOOKUP(AF$30,$A$7:$T$26,19,FALSE)*VLOOKUP($L33,EnemySkills!$A$4:$K$304,10,FALSE)) +(VLOOKUP(AF$30,$A$7:$T$26,20,FALSE)*VLOOKUP($L33,EnemySkills!$A$4:$K$304,11,FALSE)) ),0) -> 20
A34: =Skills!A7 -> Inspiring Charge | B34: =VLOOKUP($A34,Skills!$A$4:$C$304,2,FALSE) -> Soldier | D34: =ROUND(VLOOKUP(A34,Skills!A7:K307,3,FALSE) +((VLOOKUP(B34,$A$7:$T$26,15,FALSE)*VLOOKUP(A34,Skills!$A$4:$K$304,4,FALSE)) +(VLOOKUP(B34,$A$7:$T$26,17,FALSE)*VLOOKUP(A34,Skills!$A$4:$K$304,5,FALSE)) +(VLOOKUP(B34,$A$7:$T$26,19,FALSE)*VLOOKUP(A34,Skills!$A$4:$K$304,6,FALSE)) +(VLOOKUP(B34,$A$7:$T29,20,FALSE)*VLOOKUP(A34,Skills!$A$4:$K$304,7,FALSE))) -(($E$4*VLOOKUP(A34,Skills!$A$4:$K$304,8,FALSE)) +($F$4*VLOOKUP(A34,Skills!$A$4:$K$304,9,FALSE)) +($H$4*VLOOKUP(A34,Skills!$A$4:$K$304,10,FALSE)) +($I$4*VLOOKUP(A34,Skills!$A$4:$K$304,11,FALSE))),0) -> 61 | E34: =ROUND($B$4/D34,1) -> 1.6 | F34: =ROUND(VLOOKUP(A34,Skills!A7:K307,3,FALSE) +(((VLOOKUP(B34,$A$7:$T$26,15,FALSE)*1.2)*VLOOKUP(A34,Skills!$A$4:$K$304,4,FALSE)) +((VLOOKUP(B34,$A$7:$T$26,17,FALSE)*1.2)*VLOOKUP(A34,Skills!$A$4:$K$304,5,FALSE)) +(VLOOKUP(B34,$A$7:$T$26,19,FALSE)*VLOOKUP(A34,Skills!$A$4:$K$304,6,FALSE)) +(VLOOKUP(B34,$A$7:$T29,20,FALSE)*VLOOKUP(A34,Skills!$A$4:$K$304,7,FALSE))) -(($E$4*VLOOKUP(A34,Skills!$A$4:$K$304,8,FALSE)) +($F$4*VLOOKUP(A34,Skills!$A$4:$K$304,9,FALSE)) +($H$4*VLOOKUP(A34,Skills!$A$4:$K$304,10,FALSE)) +($I$4*VLOOKUP(A34,Skills!$A$4:$K$304,11,FALSE))),0) -> 76 | G34: =ROUND(VLOOKUP(A34,Skills!A7:K307,3,FALSE) +(((VLOOKUP(B34,$A$7:$T$26,15,FALSE)*1.4)*VLOOKUP(A34,Skills!$A$4:$K$304,4,FALSE)) +((VLOOKUP(B34,$A$7:$T$26,17,FALSE)*1.4)*VLOOKUP(A34,Skills!$A$4:$K$304,5,FALSE)) +(VLOOKUP(B34,$A$7:$T$26,19,FALSE)*VLOOKUP(A34,Skills!$A$4:$K$304,6,FALSE)) +(VLOOKUP(B34,$A$7:$T29,20,FALSE)*VLOOKUP(A34,Skills!$A$4:$K$304,7,FALSE))) -(($E$4*VLOOKUP(A34,Skills!$A$4:$K$304,8,FALSE)) +($F$4*VLOOKUP(A34,Skills!$A$4:$K$304,9,FALSE)) +($H$4*VLOOKUP(A34,Skills!$A$4:$K$304,10,FALSE)) +($I$4*VLOOKUP(A34,Skills!$A$4:$K$304,11,FALSE))),0) -> 91 | H34: =ROUND(VLOOKUP(A34,Skills!A7:K307,3,FALSE) +((VLOOKUP(B34,$A$7:$T$26,15,FALSE)*VLOOKUP(A34,Skills!$A$4:$K$304,4,FALSE)) +(VLOOKUP(B34,$A$7:$T$26,17,FALSE)*VLOOKUP(A34,Skills!$A$4:$K$304,5,FALSE)) +(VLOOKUP(B34,$A$7:$T$26,19,FALSE)*VLOOKUP(A34,Skills!$A$4:$K$304,6,FALSE)) +(VLOOKUP(B34,$A$7:$T29,20,FALSE)*VLOOKUP(A34,Skills!$A$4:$K$304,7,FALSE))) -((($E$4*1.2)*VLOOKUP(A34,Skills!$A$4:$K$304,8,FALSE)) +(($F$4*1.2)*VLOOKUP(A34,Skills!$A$4:$K$304,9,FALSE)) +($H$4*VLOOKUP(A34,Skills!$A$4:$K$304,10,FALSE)) +($I$4*VLOOKUP(A34,Skills!$A$4:$K$304,11,FALSE))),0) -> 57 | I34: =ROUND(VLOOKUP(A34,Skills!A7:K307,3,FALSE) +((VLOOKUP(B34,$A$7:$T$26,15,FALSE)*VLOOKUP(A34,Skills!$A$4:$K$304,4,FALSE)) +(VLOOKUP(B34,$A$7:$T$26,17,FALSE)*VLOOKUP(A34,Skills!$A$4:$K$304,5,FALSE)) +(VLOOKUP(B34,$A$7:$T$26,19,FALSE)*VLOOKUP(A34,Skills!$A$4:$K$304,6,FALSE)) +(VLOOKUP(B34,$A$7:$T29,20,FALSE)*VLOOKUP(A34,Skills!$A$4:$K$304,7,FALSE))) -((($E$4*1.4)*VLOOKUP(A34,Skills!$A$4:$K$304,8,FALSE)) +(($F$4*1.4)*VLOOKUP(A34,Skills!$A$4:$K$304,9,FALSE)) +($H$4*VLOOKUP(A34,Skills!$A$4:$K$304,10,FALSE)) +($I$4*VLOOKUP(A34,Skills!$A$4:$K$304,11,FALSE))),0) -> 53 | L34: =EnemySkills!A7 -> Putrid Cloud | M34: =ROUND(VLOOKUP($L34,EnemySkills!$A$4:$K$304,3,FALSE) +( ($D$4*VLOOKUP($L34,EnemySkills!$A$4:$K$304,4,FALSE)) +($F$4*VLOOKUP($L34,EnemySkills!$A$4:$K$304,5,FALSE)) +($H$4*VLOOKUP($L34,EnemySkills!$A$4:$K$304,6,FALSE)) +($I$4*VLOOKUP($L34,EnemySkills!$A$4:$K$304,7,FALSE)) )-( (VLOOKUP(M$30,$A$7:$T$26,16,FALSE)*VLOOKUP($L34,EnemySkills!$A$4:$K$304,8,FALSE)) +(VLOOKUP(M$30,$A$7:$T$26,18,FALSE)*VLOOKUP($L34,EnemySkills!$A$4:$K$304,9,FALSE)) +(VLOOKUP(M$30,$A$7:$T$26,19,FALSE)*VLOOKUP($L34,EnemySkills!$A$4:$K$304,10,FALSE)) +(VLOOKUP(M$30,$A$7:$T$26,20,FALSE)*VLOOKUP($L34,EnemySkills!$A$4:$K$304,11,FALSE)) ),0) -> 10 | N34: =ROUND(VLOOKUP($L34,EnemySkills!$A$4:$K$304,3,FALSE) +( ($D$4*VLOOKUP($L34,EnemySkills!$A$4:$K$304,4,FALSE)) +($F$4*VLOOKUP($L34,EnemySkills!$A$4:$K$304,5,FALSE)) +($H$4*VLOOKUP($L34,EnemySkills!$A$4:$K$304,6,FALSE)) +($I$4*VLOOKUP($L34,EnemySkills!$A$4:$K$304,7,FALSE)) )-( (VLOOKUP(N$30,$A$7:$T$26,16,FALSE)*VLOOKUP($L34,EnemySkills!$A$4:$K$304,8,FALSE)) +(VLOOKUP(N$30,$A$7:$T$26,18,FALSE)*VLOOKUP($L34,EnemySkills!$A$4:$K$304,9,FALSE)) +(VLOOKUP(N$30,$A$7:$T$26,19,FALSE)*VLOOKUP($L34,EnemySkills!$A$4:$K$304,10,FALSE)) +(VLOOKUP(N$30,$A$7:$T$26,20,FALSE)*VLOOKUP($L34,EnemySkills!$A$4:$K$304,11,FALSE)) ),0) -> 10 | O34: =ROUND(VLOOKUP($L34,EnemySkills!$A$4:$K$304,3,FALSE) +( ($D$4*VLOOKUP($L34,EnemySkills!$A$4:$K$304,4,FALSE)) +($F$4*VLOOKUP($L34,EnemySkills!$A$4:$K$304,5,FALSE)) +($H$4*VLOOKUP($L34,EnemySkills!$A$4:$K$304,6,FALSE)) +($I$4*VLOOKUP($L34,EnemySkills!$A$4:$K$304,7,FALSE)) )-( (VLOOKUP(O$30,$A$7:$T$26,16,FALSE)*VLOOKUP($L34,EnemySkills!$A$4:$K$304,8,FALSE)) +(VLOOKUP(O$30,$A$7:$T$26,18,FALSE)*VLOOKUP($L34,EnemySkills!$A$4:$K$304,9,FALSE)) +(VLOOKUP(O$30,$A$7:$T$26,19,FALSE)*VLOOKUP($L34,EnemySkills!$A$4:$K$304,10,FALSE)) +(VLOOKUP(O$30,$A$7:$T$26,20,FALSE)*VLOOKUP($L34,EnemySkills!$A$4:$K$304,11,FALSE)) ),0) -> 10 | P34: =ROUND(VLOOKUP($L34,EnemySkills!$A$4:$K$304,3,FALSE) +( ($D$4*VLOOKUP($L34,EnemySkills!$A$4:$K$304,4,FALSE)) +($F$4*VLOOKUP($L34,EnemySkills!$A$4:$K$304,5,FALSE)) +($H$4*VLOOKUP($L34,EnemySkills!$A$4:$K$304,6,FALSE)) +($I$4*VLOOKUP($L34,EnemySkills!$A$4:$K$304,7,FALSE)) )-( (VLOOKUP(P$30,$A$7:$T$26,16,FALSE)*VLOOKUP($L34,EnemySkills!$A$4:$K$304,8,FALSE)) +(VLOOKUP(P$30,$A$7:$T$26,18,FALSE)*VLOOKUP($L34,EnemySkills!$A$4:$K$304,9,FALSE)) +(VLOOKUP(P$30,$A$7:$T$26,19,FALSE)*VLOOKUP($L34,EnemySkills!$A$4:$K$304,10,FALSE)) +(VLOOKUP(P$30,$A$7:$T$26,20,FALSE)*VLOOKUP($L34,EnemySkills!$A$4:$K$304,11,FALSE)) ),0) -> 10 | Q34: =ROUND(VLOOKUP($L34,EnemySkills!$A$4:$K$304,3,FALSE) +( ($D$4*VLOOKUP($L34,EnemySkills!$A$4:$K$304,4,FALSE)) +($F$4*VLOOKUP($L34,EnemySkills!$A$4:$K$304,5,FALSE)) +($H$4*VLOOKUP($L34,EnemySkills!$A$4:$K$304,6,FALSE)) +($I$4*VLOOKUP($L34,EnemySkills!$A$4:$K$304,7,FALSE)) )-( (VLOOKUP(Q$30,$A$7:$T$26,16,FALSE)*VLOOKUP($L34,EnemySkills!$A$4:$K$304,8,FALSE)) +(VLOOKUP(Q$30,$A$7:$T$26,18,FALSE)*VLOOKUP($L34,EnemySkills!$A$4:$K$304,9,FALSE)) +(VLOOKUP(Q$30,$A$7:$T$26,19,FALSE)*VLOOKUP($L34,EnemySkills!$A$4:$K$304,10,FALSE)) +(VLOOKUP(Q$30,$A$7:$T$26,20,FALSE)*VLOOKUP($L34,EnemySkills!$A$4:$K$304,11,FALSE)) ),0) -> 10 | R34: =ROUND(VLOOKUP($L34,EnemySkills!$A$4:$K$304,3,FALSE) +( ($D$4*VLOOKUP($L34,EnemySkills!$A$4:$K$304,4,FALSE)) +($F$4*VLOOKUP($L34,EnemySkills!$A$4:$K$304,5,FALSE)) +($H$4*VLOOKUP($L34,EnemySkills!$A$4:$K$304,6,FALSE)) +($I$4*VLOOKUP($L34,EnemySkills!$A$4:$K$304,7,FALSE)) )-( (VLOOKUP(R$30,$A$7:$T$26,16,FALSE)*VLOOKUP($L34,EnemySkills!$A$4:$K$304,8,FALSE)) +(VLOOKUP(R$30,$A$7:$T$26,18,FALSE)*VLOOKUP($L34,EnemySkills!$A$4:$K$304,9,FALSE)) +(VLOOKUP(R$30,$A$7:$T$26,19,FALSE)*VLOOKUP($L34,EnemySkills!$A$4:$K$304,10,FALSE)) +(VLOOKUP(R$30,$A$7:$T$26,20,FALSE)*VLOOKUP($L34,EnemySkills!$A$4:$K$304,11,FALSE)) ),0) -> 10 | S34: =ROUND(VLOOKUP($L34,EnemySkills!$A$4:$K$304,3,FALSE) +( ($D$4*VLOOKUP($L34,EnemySkills!$A$4:$K$304,4,FALSE)) +($F$4*VLOOKUP($L34,EnemySkills!$A$4:$K$304,5,FALSE)) +($H$4*VLOOKUP($L34,EnemySkills!$A$4:$K$304,6,FALSE)) +($I$4*VLOOKUP($L34,EnemySkills!$A$4:$K$304,7,FALSE)) )-( (VLOOKUP(S$30,$A$7:$T$26,16,FALSE)*VLOOKUP($L34,EnemySkills!$A$4:$K$304,8,FALSE)) +(VLOOKUP(S$30,$A$7:$T$26,18,FALSE)*VLOOKUP($L34,EnemySkills!$A$4:$K$304,9,FALSE)) +(VLOOKUP(S$30,$A$7:$T$26,19,FALSE)*VLOOKUP($L34,EnemySkills!$A$4:$K$304,10,FALSE)) +(VLOOKUP(S$30,$A$7:$T$26,20,FALSE)*VLOOKUP($L34,EnemySkills!$A$4:$K$304,11,FALSE)) ),0) -> 10 | T34: =ROUND(VLOOKUP($L34,EnemySkills!$A$4:$K$304,3,FALSE) +( ($D$4*VLOOKUP($L34,EnemySkills!$A$4:$K$304,4,FALSE)) +($F$4*VLOOKUP($L34,EnemySkills!$A$4:$K$304,5,FALSE)) +($H$4*VLOOKUP($L34,EnemySkills!$A$4:$K$304,6,FALSE)) +($I$4*VLOOKUP($L34,EnemySkills!$A$4:$K$304,7,FALSE)) )-( (VLOOKUP(T$30,$A$7:$T$26,16,FALSE)*VLOOKUP($L34,EnemySkills!$A$4:$K$304,8,FALSE)) +(VLOOKUP(T$30,$A$7:$T$26,18,FALSE)*VLOOKUP($L34,EnemySkills!$A$4:$K$304,9,FALSE)) +(VLOOKUP(T$30,$A$7:$T$26,19,FALSE)*VLOOKUP($L34,EnemySkills!$A$4:$K$304,10,FALSE)) +(VLOOKUP(T$30,$A$7:$T$26,20,FALSE)*VLOOKUP($L34,EnemySkills!$A$4:$K$304,11,FALSE)) ),0) -> 10 | ... AF34: =ROUND(VLOOKUP($L34,EnemySkills!$A$4:$K$304,3,FALSE) +( ($D$4*VLOOKUP($L34,EnemySkills!$A$4:$K$304,4,FALSE)) +($F$4*VLOOKUP($L34,EnemySkills!$A$4:$K$304,5,FALSE)) +($H$4*VLOOKUP($L34,EnemySkills!$A$4:$K$304,6,FALSE)) +($I$4*VLOOKUP($L34,EnemySkills!$A$4:$K$304,7,FALSE)) )-( (VLOOKUP(AF$30,$A$7:$T$26,16,FALSE)*VLOOKUP($L34,EnemySkills!$A$4:$K$304,8,FALSE)) +(VLOOKUP(AF$30,$A$7:$T$26,18,FALSE)*VLOOKUP($L34,EnemySkills!$A$4:$K$304,9,FALSE)) +(VLOOKUP(AF$30,$A$7:$T$26,19,FALSE)*VLOOKUP($L34,EnemySkills!$A$4:$K$304,10,FALSE)) +(VLOOKUP(AF$30,$A$7:$T$26,20,FALSE)*VLOOKUP($L34,EnemySkills!$A$4:$K$304,11,FALSE)) ),0) -> 10
A35: =Skills!A8 -> Arcane Bolt | B35: =VLOOKUP($A35,Skills!$A$4:$C$304,2,FALSE) -> Sorcerer | D35: =ROUND(VLOOKUP(A35,Skills!A8:K308,3,FALSE) +((VLOOKUP(B35,$A$7:$T$26,15,FALSE)*VLOOKUP(A35,Skills!$A$4:$K$304,4,FALSE)) +(VLOOKUP(B35,$A$7:$T$26,17,FALSE)*VLOOKUP(A35,Skills!$A$4:$K$304,5,FALSE)) +(VLOOKUP(B35,$A$7:$T$26,19,FALSE)*VLOOKUP(A35,Skills!$A$4:$K$304,6,FALSE)) +(VLOOKUP(B35,$A$7:$T30,20,FALSE)*VLOOKUP(A35,Skills!$A$4:$K$304,7,FALSE))) -(($E$4*VLOOKUP(A35,Skills!$A$4:$K$304,8,FALSE)) +($F$4*VLOOKUP(A35,Skills!$A$4:$K$304,9,FALSE)) +($H$4*VLOOKUP(A35,Skills!$A$4:$K$304,10,FALSE)) +($I$4*VLOOKUP(A35,Skills!$A$4:$K$304,11,FALSE))),0) -> 25 | E35: =ROUND($B$4/D35,1) -> 4 | F35: =ROUND(VLOOKUP(A35,Skills!A8:K308,3,FALSE) +(((VLOOKUP(B35,$A$7:$T$26,15,FALSE)*1.2)*VLOOKUP(A35,Skills!$A$4:$K$304,4,FALSE)) +((VLOOKUP(B35,$A$7:$T$26,17,FALSE)*1.2)*VLOOKUP(A35,Skills!$A$4:$K$304,5,FALSE)) +(VLOOKUP(B35,$A$7:$T$26,19,FALSE)*VLOOKUP(A35,Skills!$A$4:$K$304,6,FALSE)) +(VLOOKUP(B35,$A$7:$T30,20,FALSE)*VLOOKUP(A35,Skills!$A$4:$K$304,7,FALSE))) -(($E$4*VLOOKUP(A35,Skills!$A$4:$K$304,8,FALSE)) +($F$4*VLOOKUP(A35,Skills!$A$4:$K$304,9,FALSE)) +($H$4*VLOOKUP(A35,Skills!$A$4:$K$304,10,FALSE)) +($I$4*VLOOKUP(A35,Skills!$A$4:$K$304,11,FALSE))),0) -> 34 | G35: =ROUND(VLOOKUP(A35,Skills!A8:K308,3,FALSE) +(((VLOOKUP(B35,$A$7:$T$26,15,FALSE)*1.4)*VLOOKUP(A35,Skills!$A$4:$K$304,4,FALSE)) +((VLOOKUP(B35,$A$7:$T$26,17,FALSE)*1.4)*VLOOKUP(A35,Skills!$A$4:$K$304,5,FALSE)) +(VLOOKUP(B35,$A$7:$T$26,19,FALSE)*VLOOKUP(A35,Skills!$A$4:$K$304,6,FALSE)) +(VLOOKUP(B35,$A$7:$T30,20,FALSE)*VLOOKUP(A35,Skills!$A$4:$K$304,7,FALSE))) -(($E$4*VLOOKUP(A35,Skills!$A$4:$K$304,8,FALSE)) +($F$4*VLOOKUP(A35,Skills!$A$4:$K$304,9,FALSE)) +($H$4*VLOOKUP(A35,Skills!$A$4:$K$304,10,FALSE)) +($I$4*VLOOKUP(A35,Skills!$A$4:$K$304,11,FALSE))),0) -> 43 | H35: =ROUND(VLOOKUP(A35,Skills!A8:K308,3,FALSE) +((VLOOKUP(B35,$A$7:$T$26,15,FALSE)*VLOOKUP(A35,Skills!$A$4:$K$304,4,FALSE)) +(VLOOKUP(B35,$A$7:$T$26,17,FALSE)*VLOOKUP(A35,Skills!$A$4:$K$304,5,FALSE)) +(VLOOKUP(B35,$A$7:$T$26,19,FALSE)*VLOOKUP(A35,Skills!$A$4:$K$304,6,FALSE)) +(VLOOKUP(B35,$A$7:$T30,20,FALSE)*VLOOKUP(A35,Skills!$A$4:$K$304,7,FALSE))) -((($E$4*1.2)*VLOOKUP(A35,Skills!$A$4:$K$304,8,FALSE)) +(($F$4*1.2)*VLOOKUP(A35,Skills!$A$4:$K$304,9,FALSE)) +($H$4*VLOOKUP(A35,Skills!$A$4:$K$304,10,FALSE)) +($I$4*VLOOKUP(A35,Skills!$A$4:$K$304,11,FALSE))),0) -> 21 | I35: =ROUND(VLOOKUP(A35,Skills!A8:K308,3,FALSE) +((VLOOKUP(B35,$A$7:$T$26,15,FALSE)*VLOOKUP(A35,Skills!$A$4:$K$304,4,FALSE)) +(VLOOKUP(B35,$A$7:$T$26,17,FALSE)*VLOOKUP(A35,Skills!$A$4:$K$304,5,FALSE)) +(VLOOKUP(B35,$A$7:$T$26,19,FALSE)*VLOOKUP(A35,Skills!$A$4:$K$304,6,FALSE)) +(VLOOKUP(B35,$A$7:$T30,20,FALSE)*VLOOKUP(A35,Skills!$A$4:$K$304,7,FALSE))) -((($E$4*1.4)*VLOOKUP(A35,Skills!$A$4:$K$304,8,FALSE)) +(($F$4*1.4)*VLOOKUP(A35,Skills!$A$4:$K$304,9,FALSE)) +($H$4*VLOOKUP(A35,Skills!$A$4:$K$304,10,FALSE)) +($I$4*VLOOKUP(A35,Skills!$A$4:$K$304,11,FALSE))),0) -> 17 | L35: =EnemySkills!A8 -> Slash (Enemy) | M35: =ROUND(VLOOKUP($L35,EnemySkills!$A$4:$K$304,3,FALSE) +( ($D$4*VLOOKUP($L35,EnemySkills!$A$4:$K$304,4,FALSE)) +($F$4*VLOOKUP($L35,EnemySkills!$A$4:$K$304,5,FALSE)) +($H$4*VLOOKUP($L35,EnemySkills!$A$4:$K$304,6,FALSE)) +($I$4*VLOOKUP($L35,EnemySkills!$A$4:$K$304,7,FALSE)) )-( (VLOOKUP(M$30,$A$7:$T$26,16,FALSE)*VLOOKUP($L35,EnemySkills!$A$4:$K$304,8,FALSE)) +(VLOOKUP(M$30,$A$7:$T$26,18,FALSE)*VLOOKUP($L35,EnemySkills!$A$4:$K$304,9,FALSE)) +(VLOOKUP(M$30,$A$7:$T$26,19,FALSE)*VLOOKUP($L35,EnemySkills!$A$4:$K$304,10,FALSE)) +(VLOOKUP(M$30,$A$7:$T$26,20,FALSE)*VLOOKUP($L35,EnemySkills!$A$4:$K$304,11,FALSE)) ),0) -> 0 | N35: =ROUND(VLOOKUP($L35,EnemySkills!$A$4:$K$304,3,FALSE) +( ($D$4*VLOOKUP($L35,EnemySkills!$A$4:$K$304,4,FALSE)) +($F$4*VLOOKUP($L35,EnemySkills!$A$4:$K$304,5,FALSE)) +($H$4*VLOOKUP($L35,EnemySkills!$A$4:$K$304,6,FALSE)) +($I$4*VLOOKUP($L35,EnemySkills!$A$4:$K$304,7,FALSE)) )-( (VLOOKUP(N$30,$A$7:$T$26,16,FALSE)*VLOOKUP($L35,EnemySkills!$A$4:$K$304,8,FALSE)) +(VLOOKUP(N$30,$A$7:$T$26,18,FALSE)*VLOOKUP($L35,EnemySkills!$A$4:$K$304,9,FALSE)) +(VLOOKUP(N$30,$A$7:$T$26,19,FALSE)*VLOOKUP($L35,EnemySkills!$A$4:$K$304,10,FALSE)) +(VLOOKUP(N$30,$A$7:$T$26,20,FALSE)*VLOOKUP($L35,EnemySkills!$A$4:$K$304,11,FALSE)) ),0) -> 14 | O35: =ROUND(VLOOKUP($L35,EnemySkills!$A$4:$K$304,3,FALSE) +( ($D$4*VLOOKUP($L35,EnemySkills!$A$4:$K$304,4,FALSE)) +($F$4*VLOOKUP($L35,EnemySkills!$A$4:$K$304,5,FALSE)) +($H$4*VLOOKUP($L35,EnemySkills!$A$4:$K$304,6,FALSE)) +($I$4*VLOOKUP($L35,EnemySkills!$A$4:$K$304,7,FALSE)) )-( (VLOOKUP(O$30,$A$7:$T$26,16,FALSE)*VLOOKUP($L35,EnemySkills!$A$4:$K$304,8,FALSE)) +(VLOOKUP(O$30,$A$7:$T$26,18,FALSE)*VLOOKUP($L35,EnemySkills!$A$4:$K$304,9,FALSE)) +(VLOOKUP(O$30,$A$7:$T$26,19,FALSE)*VLOOKUP($L35,EnemySkills!$A$4:$K$304,10,FALSE)) +(VLOOKUP(O$30,$A$7:$T$26,20,FALSE)*VLOOKUP($L35,EnemySkills!$A$4:$K$304,11,FALSE)) ),0) -> 8 | P35: =ROUND(VLOOKUP($L35,EnemySkills!$A$4:$K$304,3,FALSE) +( ($D$4*VLOOKUP($L35,EnemySkills!$A$4:$K$304,4,FALSE)) +($F$4*VLOOKUP($L35,EnemySkills!$A$4:$K$304,5,FALSE)) +($H$4*VLOOKUP($L35,EnemySkills!$A$4:$K$304,6,FALSE)) +($I$4*VLOOKUP($L35,EnemySkills!$A$4:$K$304,7,FALSE)) )-( (VLOOKUP(P$30,$A$7:$T$26,16,FALSE)*VLOOKUP($L35,EnemySkills!$A$4:$K$304,8,FALSE)) +(VLOOKUP(P$30,$A$7:$T$26,18,FALSE)*VLOOKUP($L35,EnemySkills!$A$4:$K$304,9,FALSE)) +(VLOOKUP(P$30,$A$7:$T$26,19,FALSE)*VLOOKUP($L35,EnemySkills!$A$4:$K$304,10,FALSE)) +(VLOOKUP(P$30,$A$7:$T$26,20,FALSE)*VLOOKUP($L35,EnemySkills!$A$4:$K$304,11,FALSE)) ),0) -> 16 | Q35: =ROUND(VLOOKUP($L35,EnemySkills!$A$4:$K$304,3,FALSE) +( ($D$4*VLOOKUP($L35,EnemySkills!$A$4:$K$304,4,FALSE)) +($F$4*VLOOKUP($L35,EnemySkills!$A$4:$K$304,5,FALSE)) +($H$4*VLOOKUP($L35,EnemySkills!$A$4:$K$304,6,FALSE)) +($I$4*VLOOKUP($L35,EnemySkills!$A$4:$K$304,7,FALSE)) )-( (VLOOKUP(Q$30,$A$7:$T$26,16,FALSE)*VLOOKUP($L35,EnemySkills!$A$4:$K$304,8,FALSE)) +(VLOOKUP(Q$30,$A$7:$T$26,18,FALSE)*VLOOKUP($L35,EnemySkills!$A$4:$K$304,9,FALSE)) +(VLOOKUP(Q$30,$A$7:$T$26,19,FALSE)*VLOOKUP($L35,EnemySkills!$A$4:$K$304,10,FALSE)) +(VLOOKUP(Q$30,$A$7:$T$26,20,FALSE)*VLOOKUP($L35,EnemySkills!$A$4:$K$304,11,FALSE)) ),0) -> 20 | R35: =ROUND(VLOOKUP($L35,EnemySkills!$A$4:$K$304,3,FALSE) +( ($D$4*VLOOKUP($L35,EnemySkills!$A$4:$K$304,4,FALSE)) +($F$4*VLOOKUP($L35,EnemySkills!$A$4:$K$304,5,FALSE)) +($H$4*VLOOKUP($L35,EnemySkills!$A$4:$K$304,6,FALSE)) +($I$4*VLOOKUP($L35,EnemySkills!$A$4:$K$304,7,FALSE)) )-( (VLOOKUP(R$30,$A$7:$T$26,16,FALSE)*VLOOKUP($L35,EnemySkills!$A$4:$K$304,8,FALSE)) +(VLOOKUP(R$30,$A$7:$T$26,18,FALSE)*VLOOKUP($L35,EnemySkills!$A$4:$K$304,9,FALSE)) +(VLOOKUP(R$30,$A$7:$T$26,19,FALSE)*VLOOKUP($L35,EnemySkills!$A$4:$K$304,10,FALSE)) +(VLOOKUP(R$30,$A$7:$T$26,20,FALSE)*VLOOKUP($L35,EnemySkills!$A$4:$K$304,11,FALSE)) ),0) -> -30 | S35: =ROUND(VLOOKUP($L35,EnemySkills!$A$4:$K$304,3,FALSE) +( ($D$4*VLOOKUP($L35,EnemySkills!$A$4:$K$304,4,FALSE)) +($F$4*VLOOKUP($L35,EnemySkills!$A$4:$K$304,5,FALSE)) +($H$4*VLOOKUP($L35,EnemySkills!$A$4:$K$304,6,FALSE)) +($I$4*VLOOKUP($L35,EnemySkills!$A$4:$K$304,7,FALSE)) )-( (VLOOKUP(S$30,$A$7:$T$26,16,FALSE)*VLOOKUP($L35,EnemySkills!$A$4:$K$304,8,FALSE)) +(VLOOKUP(S$30,$A$7:$T$26,18,FALSE)*VLOOKUP($L35,EnemySkills!$A$4:$K$304,9,FALSE)) +(VLOOKUP(S$30,$A$7:$T$26,19,FALSE)*VLOOKUP($L35,EnemySkills!$A$4:$K$304,10,FALSE)) +(VLOOKUP(S$30,$A$7:$T$26,20,FALSE)*VLOOKUP($L35,EnemySkills!$A$4:$K$304,11,FALSE)) ),0) -> 8 | T35: =ROUND(VLOOKUP($L35,EnemySkills!$A$4:$K$304,3,FALSE) +( ($D$4*VLOOKUP($L35,EnemySkills!$A$4:$K$304,4,FALSE)) +($F$4*VLOOKUP($L35,EnemySkills!$A$4:$K$304,5,FALSE)) +($H$4*VLOOKUP($L35,EnemySkills!$A$4:$K$304,6,FALSE)) +($I$4*VLOOKUP($L35,EnemySkills!$A$4:$K$304,7,FALSE)) )-( (VLOOKUP(T$30,$A$7:$T$26,16,FALSE)*VLOOKUP($L35,EnemySkills!$A$4:$K$304,8,FALSE)) +(VLOOKUP(T$30,$A$7:$T$26,18,FALSE)*VLOOKUP($L35,EnemySkills!$A$4:$K$304,9,FALSE)) +(VLOOKUP(T$30,$A$7:$T$26,19,FALSE)*VLOOKUP($L35,EnemySkills!$A$4:$K$304,10,FALSE)) +(VLOOKUP(T$30,$A$7:$T$26,20,FALSE)*VLOOKUP($L35,EnemySkills!$A$4:$K$304,11,FALSE)) ),0) -> 20 | ... AF35: =ROUND(VLOOKUP($L35,EnemySkills!$A$4:$K$304,3,FALSE) +( ($D$4*VLOOKUP($L35,EnemySkills!$A$4:$K$304,4,FALSE)) +($F$4*VLOOKUP($L35,EnemySkills!$A$4:$K$304,5,FALSE)) +($H$4*VLOOKUP($L35,EnemySkills!$A$4:$K$304,6,FALSE)) +($I$4*VLOOKUP($L35,EnemySkills!$A$4:$K$304,7,FALSE)) )-( (VLOOKUP(AF$30,$A$7:$T$26,16,FALSE)*VLOOKUP($L35,EnemySkills!$A$4:$K$304,8,FALSE)) +(VLOOKUP(AF$30,$A$7:$T$26,18,FALSE)*VLOOKUP($L35,EnemySkills!$A$4:$K$304,9,FALSE)) +(VLOOKUP(AF$30,$A$7:$T$26,19,FALSE)*VLOOKUP($L35,EnemySkills!$A$4:$K$304,10,FALSE)) +(VLOOKUP(AF$30,$A$7:$T$26,20,FALSE)*VLOOKUP($L35,EnemySkills!$A$4:$K$304,11,FALSE)) ),0) -> 20
A36: =Skills!A9 -> Arcane Blast | B36: =VLOOKUP($A36,Skills!$A$4:$C$304,2,FALSE) -> Sorcerer | D36: =ROUND(VLOOKUP(A36,Skills!A9:K309,3,FALSE) +((VLOOKUP(B36,$A$7:$T$26,15,FALSE)*VLOOKUP(A36,Skills!$A$4:$K$304,4,FALSE)) +(VLOOKUP(B36,$A$7:$T$26,17,FALSE)*VLOOKUP(A36,Skills!$A$4:$K$304,5,FALSE)) +(VLOOKUP(B36,$A$7:$T$26,19,FALSE)*VLOOKUP(A36,Skills!$A$4:$K$304,6,FALSE)) +(VLOOKUP(B36,$A$7:$T31,20,FALSE)*VLOOKUP(A36,Skills!$A$4:$K$304,7,FALSE))) -(($E$4*VLOOKUP(A36,Skills!$A$4:$K$304,8,FALSE)) +($F$4*VLOOKUP(A36,Skills!$A$4:$K$304,9,FALSE)) +($H$4*VLOOKUP(A36,Skills!$A$4:$K$304,10,FALSE)) +($I$4*VLOOKUP(A36,Skills!$A$4:$K$304,11,FALSE))),0) -> 40 | E36: =ROUND($B$4/D36,1) -> 2.5 | F36: =ROUND(VLOOKUP(A36,Skills!A9:K309,3,FALSE) +(((VLOOKUP(B36,$A$7:$T$26,15,FALSE)*1.2)*VLOOKUP(A36,Skills!$A$4:$K$304,4,FALSE)) +((VLOOKUP(B36,$A$7:$T$26,17,FALSE)*1.2)*VLOOKUP(A36,Skills!$A$4:$K$304,5,FALSE)) +(VLOOKUP(B36,$A$7:$T$26,19,FALSE)*VLOOKUP(A36,Skills!$A$4:$K$304,6,FALSE)) +(VLOOKUP(B36,$A$7:$T31,20,FALSE)*VLOOKUP(A36,Skills!$A$4:$K$304,7,FALSE))) -(($E$4*VLOOKUP(A36,Skills!$A$4:$K$304,8,FALSE)) +($F$4*VLOOKUP(A36,Skills!$A$4:$K$304,9,FALSE)) +($H$4*VLOOKUP(A36,Skills!$A$4:$K$304,10,FALSE)) +($I$4*VLOOKUP(A36,Skills!$A$4:$K$304,11,FALSE))),0) -> 52 | G36: =ROUND(VLOOKUP(A36,Skills!A9:K309,3,FALSE) +(((VLOOKUP(B36,$A$7:$T$26,15,FALSE)*1.4)*VLOOKUP(A36,Skills!$A$4:$K$304,4,FALSE)) +((VLOOKUP(B36,$A$7:$T$26,17,FALSE)*1.4)*VLOOKUP(A36,Skills!$A$4:$K$304,5,FALSE)) +(VLOOKUP(B36,$A$7:$T$26,19,FALSE)*VLOOKUP(A36,Skills!$A$4:$K$304,6,FALSE)) +(VLOOKUP(B36,$A$7:$T31,20,FALSE)*VLOOKUP(A36,Skills!$A$4:$K$304,7,FALSE))) -(($E$4*VLOOKUP(A36,Skills!$A$4:$K$304,8,FALSE)) +($F$4*VLOOKUP(A36,Skills!$A$4:$K$304,9,FALSE)) +($H$4*VLOOKUP(A36,Skills!$A$4:$K$304,10,FALSE)) +($I$4*VLOOKUP(A36,Skills!$A$4:$K$304,11,FALSE))),0) -> 64 | H36: =ROUND(VLOOKUP(A36,Skills!A9:K309,3,FALSE) +((VLOOKUP(B36,$A$7:$T$26,15,FALSE)*VLOOKUP(A36,Skills!$A$4:$K$304,4,FALSE)) +(VLOOKUP(B36,$A$7:$T$26,17,FALSE)*VLOOKUP(A36,Skills!$A$4:$K$304,5,FALSE)) +(VLOOKUP(B36,$A$7:$T$26,19,FALSE)*VLOOKUP(A36,Skills!$A$4:$K$304,6,FALSE)) +(VLOOKUP(B36,$A$7:$T31,20,FALSE)*VLOOKUP(A36,Skills!$A$4:$K$304,7,FALSE))) -((($E$4*1.2)*VLOOKUP(A36,Skills!$A$4:$K$304,8,FALSE)) +(($F$4*1.2)*VLOOKUP(A36,Skills!$A$4:$K$304,9,FALSE)) +($H$4*VLOOKUP(A36,Skills!$A$4:$K$304,10,FALSE)) +($I$4*VLOOKUP(A36,Skills!$A$4:$K$304,11,FALSE))),0) -> 36 | I36: =ROUND(VLOOKUP(A36,Skills!A9:K309,3,FALSE) +((VLOOKUP(B36,$A$7:$T$26,15,FALSE)*VLOOKUP(A36,Skills!$A$4:$K$304,4,FALSE)) +(VLOOKUP(B36,$A$7:$T$26,17,FALSE)*VLOOKUP(A36,Skills!$A$4:$K$304,5,FALSE)) +(VLOOKUP(B36,$A$7:$T$26,19,FALSE)*VLOOKUP(A36,Skills!$A$4:$K$304,6,FALSE)) +(VLOOKUP(B36,$A$7:$T31,20,FALSE)*VLOOKUP(A36,Skills!$A$4:$K$304,7,FALSE))) -((($E$4*1.4)*VLOOKUP(A36,Skills!$A$4:$K$304,8,FALSE)) +(($F$4*1.4)*VLOOKUP(A36,Skills!$A$4:$K$304,9,FALSE)) +($H$4*VLOOKUP(A36,Skills!$A$4:$K$304,10,FALSE)) +($I$4*VLOOKUP(A36,Skills!$A$4:$K$304,11,FALSE))),0) -> 32 | L36: =EnemySkills!A9 -> Reckless Slash | M36: =ROUND(VLOOKUP($L36,EnemySkills!$A$4:$K$304,3,FALSE) +( ($D$4*VLOOKUP($L36,EnemySkills!$A$4:$K$304,4,FALSE)) +($F$4*VLOOKUP($L36,EnemySkills!$A$4:$K$304,5,FALSE)) +($H$4*VLOOKUP($L36,EnemySkills!$A$4:$K$304,6,FALSE)) +($I$4*VLOOKUP($L36,EnemySkills!$A$4:$K$304,7,FALSE)) )-( (VLOOKUP(M$30,$A$7:$T$26,16,FALSE)*VLOOKUP($L36,EnemySkills!$A$4:$K$304,8,FALSE)) +(VLOOKUP(M$30,$A$7:$T$26,18,FALSE)*VLOOKUP($L36,EnemySkills!$A$4:$K$304,9,FALSE)) +(VLOOKUP(M$30,$A$7:$T$26,19,FALSE)*VLOOKUP($L36,EnemySkills!$A$4:$K$304,10,FALSE)) +(VLOOKUP(M$30,$A$7:$T$26,20,FALSE)*VLOOKUP($L36,EnemySkills!$A$4:$K$304,11,FALSE)) ),0) -> 20 | N36: =ROUND(VLOOKUP($L36,EnemySkills!$A$4:$K$304,3,FALSE) +( ($D$4*VLOOKUP($L36,EnemySkills!$A$4:$K$304,4,FALSE)) +($F$4*VLOOKUP($L36,EnemySkills!$A$4:$K$304,5,FALSE)) +($H$4*VLOOKUP($L36,EnemySkills!$A$4:$K$304,6,FALSE)) +($I$4*VLOOKUP($L36,EnemySkills!$A$4:$K$304,7,FALSE)) )-( (VLOOKUP(N$30,$A$7:$T$26,16,FALSE)*VLOOKUP($L36,EnemySkills!$A$4:$K$304,8,FALSE)) +(VLOOKUP(N$30,$A$7:$T$26,18,FALSE)*VLOOKUP($L36,EnemySkills!$A$4:$K$304,9,FALSE)) +(VLOOKUP(N$30,$A$7:$T$26,19,FALSE)*VLOOKUP($L36,EnemySkills!$A$4:$K$304,10,FALSE)) +(VLOOKUP(N$30,$A$7:$T$26,20,FALSE)*VLOOKUP($L36,EnemySkills!$A$4:$K$304,11,FALSE)) ),0) -> 27 | O36: =ROUND(VLOOKUP($L36,EnemySkills!$A$4:$K$304,3,FALSE) +( ($D$4*VLOOKUP($L36,EnemySkills!$A$4:$K$304,4,FALSE)) +($F$4*VLOOKUP($L36,EnemySkills!$A$4:$K$304,5,FALSE)) +($H$4*VLOOKUP($L36,EnemySkills!$A$4:$K$304,6,FALSE)) +($I$4*VLOOKUP($L36,EnemySkills!$A$4:$K$304,7,FALSE)) )-( (VLOOKUP(O$30,$A$7:$T$26,16,FALSE)*VLOOKUP($L36,EnemySkills!$A$4:$K$304,8,FALSE)) +(VLOOKUP(O$30,$A$7:$T$26,18,FALSE)*VLOOKUP($L36,EnemySkills!$A$4:$K$304,9,FALSE)) +(VLOOKUP(O$30,$A$7:$T$26,19,FALSE)*VLOOKUP($L36,EnemySkills!$A$4:$K$304,10,FALSE)) +(VLOOKUP(O$30,$A$7:$T$26,20,FALSE)*VLOOKUP($L36,EnemySkills!$A$4:$K$304,11,FALSE)) ),0) -> 24 | P36: =ROUND(VLOOKUP($L36,EnemySkills!$A$4:$K$304,3,FALSE) +( ($D$4*VLOOKUP($L36,EnemySkills!$A$4:$K$304,4,FALSE)) +($F$4*VLOOKUP($L36,EnemySkills!$A$4:$K$304,5,FALSE)) +($H$4*VLOOKUP($L36,EnemySkills!$A$4:$K$304,6,FALSE)) +($I$4*VLOOKUP($L36,EnemySkills!$A$4:$K$304,7,FALSE)) )-( (VLOOKUP(P$30,$A$7:$T$26,16,FALSE)*VLOOKUP($L36,EnemySkills!$A$4:$K$304,8,FALSE)) +(VLOOKUP(P$30,$A$7:$T$26,18,FALSE)*VLOOKUP($L36,EnemySkills!$A$4:$K$304,9,FALSE)) +(VLOOKUP(P$30,$A$7:$T$26,19,FALSE)*VLOOKUP($L36,EnemySkills!$A$4:$K$304,10,FALSE)) +(VLOOKUP(P$30,$A$7:$T$26,20,FALSE)*VLOOKUP($L36,EnemySkills!$A$4:$K$304,11,FALSE)) ),0) -> 28 | Q36: =ROUND(VLOOKUP($L36,EnemySkills!$A$4:$K$304,3,FALSE) +( ($D$4*VLOOKUP($L36,EnemySkills!$A$4:$K$304,4,FALSE)) +($F$4*VLOOKUP($L36,EnemySkills!$A$4:$K$304,5,FALSE)) +($H$4*VLOOKUP($L36,EnemySkills!$A$4:$K$304,6,FALSE)) +($I$4*VLOOKUP($L36,EnemySkills!$A$4:$K$304,7,FALSE)) )-( (VLOOKUP(Q$30,$A$7:$T$26,16,FALSE)*VLOOKUP($L36,EnemySkills!$A$4:$K$304,8,FALSE)) +(VLOOKUP(Q$30,$A$7:$T$26,18,FALSE)*VLOOKUP($L36,EnemySkills!$A$4:$K$304,9,FALSE)) +(VLOOKUP(Q$30,$A$7:$T$26,19,FALSE)*VLOOKUP($L36,EnemySkills!$A$4:$K$304,10,FALSE)) +(VLOOKUP(Q$30,$A$7:$T$26,20,FALSE)*VLOOKUP($L36,EnemySkills!$A$4:$K$304,11,FALSE)) ),0) -> 30 | R36: =ROUND(VLOOKUP($L36,EnemySkills!$A$4:$K$304,3,FALSE) +( ($D$4*VLOOKUP($L36,EnemySkills!$A$4:$K$304,4,FALSE)) +($F$4*VLOOKUP($L36,EnemySkills!$A$4:$K$304,5,FALSE)) +($H$4*VLOOKUP($L36,EnemySkills!$A$4:$K$304,6,FALSE)) +($I$4*VLOOKUP($L36,EnemySkills!$A$4:$K$304,7,FALSE)) )-( (VLOOKUP(R$30,$A$7:$T$26,16,FALSE)*VLOOKUP($L36,EnemySkills!$A$4:$K$304,8,FALSE)) +(VLOOKUP(R$30,$A$7:$T$26,18,FALSE)*VLOOKUP($L36,EnemySkills!$A$4:$K$304,9,FALSE)) +(VLOOKUP(R$30,$A$7:$T$26,19,FALSE)*VLOOKUP($L36,EnemySkills!$A$4:$K$304,10,FALSE)) +(VLOOKUP(R$30,$A$7:$T$26,20,FALSE)*VLOOKUP($L36,EnemySkills!$A$4:$K$304,11,FALSE)) ),0) -> 5 | S36: =ROUND(VLOOKUP($L36,EnemySkills!$A$4:$K$304,3,FALSE) +( ($D$4*VLOOKUP($L36,EnemySkills!$A$4:$K$304,4,FALSE)) +($F$4*VLOOKUP($L36,EnemySkills!$A$4:$K$304,5,FALSE)) +($H$4*VLOOKUP($L36,EnemySkills!$A$4:$K$304,6,FALSE)) +($I$4*VLOOKUP($L36,EnemySkills!$A$4:$K$304,7,FALSE)) )-( (VLOOKUP(S$30,$A$7:$T$26,16,FALSE)*VLOOKUP($L36,EnemySkills!$A$4:$K$304,8,FALSE)) +(VLOOKUP(S$30,$A$7:$T$26,18,FALSE)*VLOOKUP($L36,EnemySkills!$A$4:$K$304,9,FALSE)) +(VLOOKUP(S$30,$A$7:$T$26,19,FALSE)*VLOOKUP($L36,EnemySkills!$A$4:$K$304,10,FALSE)) +(VLOOKUP(S$30,$A$7:$T$26,20,FALSE)*VLOOKUP($L36,EnemySkills!$A$4:$K$304,11,FALSE)) ),0) -> 24 | T36: =ROUND(VLOOKUP($L36,EnemySkills!$A$4:$K$304,3,FALSE) +( ($D$4*VLOOKUP($L36,EnemySkills!$A$4:$K$304,4,FALSE)) +($F$4*VLOOKUP($L36,EnemySkills!$A$4:$K$304,5,FALSE)) +($H$4*VLOOKUP($L36,EnemySkills!$A$4:$K$304,6,FALSE)) +($I$4*VLOOKUP($L36,EnemySkills!$A$4:$K$304,7,FALSE)) )-( (VLOOKUP(T$30,$A$7:$T$26,16,FALSE)*VLOOKUP($L36,EnemySkills!$A$4:$K$304,8,FALSE)) +(VLOOKUP(T$30,$A$7:$T$26,18,FALSE)*VLOOKUP($L36,EnemySkills!$A$4:$K$304,9,FALSE)) +(VLOOKUP(T$30,$A$7:$T$26,19,FALSE)*VLOOKUP($L36,EnemySkills!$A$4:$K$304,10,FALSE)) +(VLOOKUP(T$30,$A$7:$T$26,20,FALSE)*VLOOKUP($L36,EnemySkills!$A$4:$K$304,11,FALSE)) ),0) -> 30 | ... AF36: =ROUND(VLOOKUP($L36,EnemySkills!$A$4:$K$304,3,FALSE) +( ($D$4*VLOOKUP($L36,EnemySkills!$A$4:$K$304,4,FALSE)) +($F$4*VLOOKUP($L36,EnemySkills!$A$4:$K$304,5,FALSE)) +($H$4*VLOOKUP($L36,EnemySkills!$A$4:$K$304,6,FALSE)) +($I$4*VLOOKUP($L36,EnemySkills!$A$4:$K$304,7,FALSE)) )-( (VLOOKUP(AF$30,$A$7:$T$26,16,FALSE)*VLOOKUP($L36,EnemySkills!$A$4:$K$304,8,FALSE)) +(VLOOKUP(AF$30,$A$7:$T$26,18,FALSE)*VLOOKUP($L36,EnemySkills!$A$4:$K$304,9,FALSE)) +(VLOOKUP(AF$30,$A$7:$T$26,19,FALSE)*VLOOKUP($L36,EnemySkills!$A$4:$K$304,10,FALSE)) +(VLOOKUP(AF$30,$A$7:$T$26,20,FALSE)*VLOOKUP($L36,EnemySkills!$A$4:$K$304,11,FALSE)) ),0) -> 30
A37: =Skills!A10 -> Drain Life | B37: =VLOOKUP($A37,Skills!$A$4:$C$304,2,FALSE) -> Sorcerer | D37: =ROUND(VLOOKUP(A37,Skills!A10:K310,3,FALSE) +((VLOOKUP(B37,$A$7:$T$26,15,FALSE)*VLOOKUP(A37,Skills!$A$4:$K$304,4,FALSE)) +(VLOOKUP(B37,$A$7:$T$26,17,FALSE)*VLOOKUP(A37,Skills!$A$4:$K$304,5,FALSE)) +(VLOOKUP(B37,$A$7:$T$26,19,FALSE)*VLOOKUP(A37,Skills!$A$4:$K$304,6,FALSE)) +(VLOOKUP(B37,$A$7:$T32,20,FALSE)*VLOOKUP(A37,Skills!$A$4:$K$304,7,FALSE))) -(($E$4*VLOOKUP(A37,Skills!$A$4:$K$304,8,FALSE)) +($F$4*VLOOKUP(A37,Skills!$A$4:$K$304,9,FALSE)) +($H$4*VLOOKUP(A37,Skills!$A$4:$K$304,10,FALSE)) +($I$4*VLOOKUP(A37,Skills!$A$4:$K$304,11,FALSE))),0) -> 45 | E37: =ROUND($B$4/D37,1) -> 2.2 | F37: =ROUND(VLOOKUP(A37,Skills!A10:K310,3,FALSE) +(((VLOOKUP(B37,$A$7:$T$26,15,FALSE)*1.2)*VLOOKUP(A37,Skills!$A$4:$K$304,4,FALSE)) +((VLOOKUP(B37,$A$7:$T$26,17,FALSE)*1.2)*VLOOKUP(A37,Skills!$A$4:$K$304,5,FALSE)) +(VLOOKUP(B37,$A$7:$T$26,19,FALSE)*VLOOKUP(A37,Skills!$A$4:$K$304,6,FALSE)) +(VLOOKUP(B37,$A$7:$T32,20,FALSE)*VLOOKUP(A37,Skills!$A$4:$K$304,7,FALSE))) -(($E$4*VLOOKUP(A37,Skills!$A$4:$K$304,8,FALSE)) +($F$4*VLOOKUP(A37,Skills!$A$4:$K$304,9,FALSE)) +($H$4*VLOOKUP(A37,Skills!$A$4:$K$304,10,FALSE)) +($I$4*VLOOKUP(A37,Skills!$A$4:$K$304,11,FALSE))),0) -> 57 | G37: =ROUND(VLOOKUP(A37,Skills!A10:K310,3,FALSE) +(((VLOOKUP(B37,$A$7:$T$26,15,FALSE)*1.4)*VLOOKUP(A37,Skills!$A$4:$K$304,4,FALSE)) +((VLOOKUP(B37,$A$7:$T$26,17,FALSE)*1.4)*VLOOKUP(A37,Skills!$A$4:$K$304,5,FALSE)) +(VLOOKUP(B37,$A$7:$T$26,19,FALSE)*VLOOKUP(A37,Skills!$A$4:$K$304,6,FALSE)) +(VLOOKUP(B37,$A$7:$T32,20,FALSE)*VLOOKUP(A37,Skills!$A$4:$K$304,7,FALSE))) -(($E$4*VLOOKUP(A37,Skills!$A$4:$K$304,8,FALSE)) +($F$4*VLOOKUP(A37,Skills!$A$4:$K$304,9,FALSE)) +($H$4*VLOOKUP(A37,Skills!$A$4:$K$304,10,FALSE)) +($I$4*VLOOKUP(A37,Skills!$A$4:$K$304,11,FALSE))),0) -> 69 | H37: =ROUND(VLOOKUP(A37,Skills!A10:K310,3,FALSE) +((VLOOKUP(B37,$A$7:$T$26,15,FALSE)*VLOOKUP(A37,Skills!$A$4:$K$304,4,FALSE)) +(VLOOKUP(B37,$A$7:$T$26,17,FALSE)*VLOOKUP(A37,Skills!$A$4:$K$304,5,FALSE)) +(VLOOKUP(B37,$A$7:$T$26,19,FALSE)*VLOOKUP(A37,Skills!$A$4:$K$304,6,FALSE)) +(VLOOKUP(B37,$A$7:$T32,20,FALSE)*VLOOKUP(A37,Skills!$A$4:$K$304,7,FALSE))) -((($E$4*1.2)*VLOOKUP(A37,Skills!$A$4:$K$304,8,FALSE)) +(($F$4*1.2)*VLOOKUP(A37,Skills!$A$4:$K$304,9,FALSE)) +($H$4*VLOOKUP(A37,Skills!$A$4:$K$304,10,FALSE)) +($I$4*VLOOKUP(A37,Skills!$A$4:$K$304,11,FALSE))),0) -> 41 | I37: =ROUND(VLOOKUP(A37,Skills!A10:K310,3,FALSE) +((VLOOKUP(B37,$A$7:$T$26,15,FALSE)*VLOOKUP(A37,Skills!$A$4:$K$304,4,FALSE)) +(VLOOKUP(B37,$A$7:$T$26,17,FALSE)*VLOOKUP(A37,Skills!$A$4:$K$304,5,FALSE)) +(VLOOKUP(B37,$A$7:$T$26,19,FALSE)*VLOOKUP(A37,Skills!$A$4:$K$304,6,FALSE)) +(VLOOKUP(B37,$A$7:$T32,20,FALSE)*VLOOKUP(A37,Skills!$A$4:$K$304,7,FALSE))) -((($E$4*1.4)*VLOOKUP(A37,Skills!$A$4:$K$304,8,FALSE)) +(($F$4*1.4)*VLOOKUP(A37,Skills!$A$4:$K$304,9,FALSE)) +($H$4*VLOOKUP(A37,Skills!$A$4:$K$304,10,FALSE)) +($I$4*VLOOKUP(A37,Skills!$A$4:$K$304,11,FALSE))),0) -> 37 | L37: =EnemySkills!A10 -> 0 | M37: =ROUND(VLOOKUP($L37,EnemySkills!$A$4:$K$304,3,FALSE) +( ($D$4*VLOOKUP($L37,EnemySkills!$A$4:$K$304,4,FALSE)) +($F$4*VLOOKUP($L37,EnemySkills!$A$4:$K$304,5,FALSE)) +($H$4*VLOOKUP($L37,EnemySkills!$A$4:$K$304,6,FALSE)) +($I$4*VLOOKUP($L37,EnemySkills!$A$4:$K$304,7,FALSE)) )-( (VLOOKUP(M$30,$A$7:$T$26,16,FALSE)*VLOOKUP($L37,EnemySkills!$A$4:$K$304,8,FALSE)) +(VLOOKUP(M$30,$A$7:$T$26,18,FALSE)*VLOOKUP($L37,EnemySkills!$A$4:$K$304,9,FALSE)) +(VLOOKUP(M$30,$A$7:$T$26,19,FALSE)*VLOOKUP($L37,EnemySkills!$A$4:$K$304,10,FALSE)) +(VLOOKUP(M$30,$A$7:$T$26,20,FALSE)*VLOOKUP($L37,EnemySkills!$A$4:$K$304,11,FALSE)) ),0) -> #N/A | N37: =ROUND(VLOOKUP($L37,EnemySkills!$A$4:$K$304,3,FALSE) +( ($D$4*VLOOKUP($L37,EnemySkills!$A$4:$K$304,4,FALSE)) +($F$4*VLOOKUP($L37,EnemySkills!$A$4:$K$304,5,FALSE)) +($H$4*VLOOKUP($L37,EnemySkills!$A$4:$K$304,6,FALSE)) +($I$4*VLOOKUP($L37,EnemySkills!$A$4:$K$304,7,FALSE)) )-( (VLOOKUP(N$30,$A$7:$T$26,16,FALSE)*VLOOKUP($L37,EnemySkills!$A$4:$K$304,8,FALSE)) +(VLOOKUP(N$30,$A$7:$T$26,18,FALSE)*VLOOKUP($L37,EnemySkills!$A$4:$K$304,9,FALSE)) +(VLOOKUP(N$30,$A$7:$T$26,19,FALSE)*VLOOKUP($L37,EnemySkills!$A$4:$K$304,10,FALSE)) +(VLOOKUP(N$30,$A$7:$T$26,20,FALSE)*VLOOKUP($L37,EnemySkills!$A$4:$K$304,11,FALSE)) ),0) -> #N/A | O37: =ROUND(VLOOKUP($L37,EnemySkills!$A$4:$K$304,3,FALSE) +( ($D$4*VLOOKUP($L37,EnemySkills!$A$4:$K$304,4,FALSE)) +($F$4*VLOOKUP($L37,EnemySkills!$A$4:$K$304,5,FALSE)) +($H$4*VLOOKUP($L37,EnemySkills!$A$4:$K$304,6,FALSE)) +($I$4*VLOOKUP($L37,EnemySkills!$A$4:$K$304,7,FALSE)) )-( (VLOOKUP(O$30,$A$7:$T$26,16,FALSE)*VLOOKUP($L37,EnemySkills!$A$4:$K$304,8,FALSE)) +(VLOOKUP(O$30,$A$7:$T$26,18,FALSE)*VLOOKUP($L37,EnemySkills!$A$4:$K$304,9,FALSE)) +(VLOOKUP(O$30,$A$7:$T$26,19,FALSE)*VLOOKUP($L37,EnemySkills!$A$4:$K$304,10,FALSE)) +(VLOOKUP(O$30,$A$7:$T$26,20,FALSE)*VLOOKUP($L37,EnemySkills!$A$4:$K$304,11,FALSE)) ),0) -> #N/A | P37: =ROUND(VLOOKUP($L37,EnemySkills!$A$4:$K$304,3,FALSE) +( ($D$4*VLOOKUP($L37,EnemySkills!$A$4:$K$304,4,FALSE)) +($F$4*VLOOKUP($L37,EnemySkills!$A$4:$K$304,5,FALSE)) +($H$4*VLOOKUP($L37,EnemySkills!$A$4:$K$304,6,FALSE)) +($I$4*VLOOKUP($L37,EnemySkills!$A$4:$K$304,7,FALSE)) )-( (VLOOKUP(P$30,$A$7:$T$26,16,FALSE)*VLOOKUP($L37,EnemySkills!$A$4:$K$304,8,FALSE)) +(VLOOKUP(P$30,$A$7:$T$26,18,FALSE)*VLOOKUP($L37,EnemySkills!$A$4:$K$304,9,FALSE)) +(VLOOKUP(P$30,$A$7:$T$26,19,FALSE)*VLOOKUP($L37,EnemySkills!$A$4:$K$304,10,FALSE)) +(VLOOKUP(P$30,$A$7:$T$26,20,FALSE)*VLOOKUP($L37,EnemySkills!$A$4:$K$304,11,FALSE)) ),0) -> #N/A | Q37: =ROUND(VLOOKUP($L37,EnemySkills!$A$4:$K$304,3,FALSE) +( ($D$4*VLOOKUP($L37,EnemySkills!$A$4:$K$304,4,FALSE)) +($F$4*VLOOKUP($L37,EnemySkills!$A$4:$K$304,5,FALSE)) +($H$4*VLOOKUP($L37,EnemySkills!$A$4:$K$304,6,FALSE)) +($I$4*VLOOKUP($L37,EnemySkills!$A$4:$K$304,7,FALSE)) )-( (VLOOKUP(Q$30,$A$7:$T$26,16,FALSE)*VLOOKUP($L37,EnemySkills!$A$4:$K$304,8,FALSE)) +(VLOOKUP(Q$30,$A$7:$T$26,18,FALSE)*VLOOKUP($L37,EnemySkills!$A$4:$K$304,9,FALSE)) +(VLOOKUP(Q$30,$A$7:$T$26,19,FALSE)*VLOOKUP($L37,EnemySkills!$A$4:$K$304,10,FALSE)) +(VLOOKUP(Q$30,$A$7:$T$26,20,FALSE)*VLOOKUP($L37,EnemySkills!$A$4:$K$304,11,FALSE)) ),0) -> #N/A | R37: =ROUND(VLOOKUP($L37,EnemySkills!$A$4:$K$304,3,FALSE) +( ($D$4*VLOOKUP($L37,EnemySkills!$A$4:$K$304,4,FALSE)) +($F$4*VLOOKUP($L37,EnemySkills!$A$4:$K$304,5,FALSE)) +($H$4*VLOOKUP($L37,EnemySkills!$A$4:$K$304,6,FALSE)) +($I$4*VLOOKUP($L37,EnemySkills!$A$4:$K$304,7,FALSE)) )-( (VLOOKUP(R$30,$A$7:$T$26,16,FALSE)*VLOOKUP($L37,EnemySkills!$A$4:$K$304,8,FALSE)) +(VLOOKUP(R$30,$A$7:$T$26,18,FALSE)*VLOOKUP($L37,EnemySkills!$A$4:$K$304,9,FALSE)) +(VLOOKUP(R$30,$A$7:$T$26,19,FALSE)*VLOOKUP($L37,EnemySkills!$A$4:$K$304,10,FALSE)) +(VLOOKUP(R$30,$A$7:$T$26,20,FALSE)*VLOOKUP($L37,EnemySkills!$A$4:$K$304,11,FALSE)) ),0) -> #N/A | S37: =ROUND(VLOOKUP($L37,EnemySkills!$A$4:$K$304,3,FALSE) +( ($D$4*VLOOKUP($L37,EnemySkills!$A$4:$K$304,4,FALSE)) +($F$4*VLOOKUP($L37,EnemySkills!$A$4:$K$304,5,FALSE)) +($H$4*VLOOKUP($L37,EnemySkills!$A$4:$K$304,6,FALSE)) +($I$4*VLOOKUP($L37,EnemySkills!$A$4:$K$304,7,FALSE)) )-( (VLOOKUP(S$30,$A$7:$T$26,16,FALSE)*VLOOKUP($L37,EnemySkills!$A$4:$K$304,8,FALSE)) +(VLOOKUP(S$30,$A$7:$T$26,18,FALSE)*VLOOKUP($L37,EnemySkills!$A$4:$K$304,9,FALSE)) +(VLOOKUP(S$30,$A$7:$T$26,19,FALSE)*VLOOKUP($L37,EnemySkills!$A$4:$K$304,10,FALSE)) +(VLOOKUP(S$30,$A$7:$T$26,20,FALSE)*VLOOKUP($L37,EnemySkills!$A$4:$K$304,11,FALSE)) ),0) -> #N/A | T37: =ROUND(VLOOKUP($L37,EnemySkills!$A$4:$K$304,3,FALSE) +( ($D$4*VLOOKUP($L37,EnemySkills!$A$4:$K$304,4,FALSE)) +($F$4*VLOOKUP($L37,EnemySkills!$A$4:$K$304,5,FALSE)) +($H$4*VLOOKUP($L37,EnemySkills!$A$4:$K$304,6,FALSE)) +($I$4*VLOOKUP($L37,EnemySkills!$A$4:$K$304,7,FALSE)) )-( (VLOOKUP(T$30,$A$7:$T$26,16,FALSE)*VLOOKUP($L37,EnemySkills!$A$4:$K$304,8,FALSE)) +(VLOOKUP(T$30,$A$7:$T$26,18,FALSE)*VLOOKUP($L37,EnemySkills!$A$4:$K$304,9,FALSE)) +(VLOOKUP(T$30,$A$7:$T$26,19,FALSE)*VLOOKUP($L37,EnemySkills!$A$4:$K$304,10,FALSE)) +(VLOOKUP(T$30,$A$7:$T$26,20,FALSE)*VLOOKUP($L37,EnemySkills!$A$4:$K$304,11,FALSE)) ),0) -> #N/A | ... AF37: =ROUND(VLOOKUP($L37,EnemySkills!$A$4:$K$304,3,FALSE) +( ($D$4*VLOOKUP($L37,EnemySkills!$A$4:$K$304,4,FALSE)) +($F$4*VLOOKUP($L37,EnemySkills!$A$4:$K$304,5,FALSE)) +($H$4*VLOOKUP($L37,EnemySkills!$A$4:$K$304,6,FALSE)) +($I$4*VLOOKUP($L37,EnemySkills!$A$4:$K$304,7,FALSE)) )-( (VLOOKUP(AF$30,$A$7:$T$26,16,FALSE)*VLOOKUP($L37,EnemySkills!$A$4:$K$304,8,FALSE)) +(VLOOKUP(AF$30,$A$7:$T$26,18,FALSE)*VLOOKUP($L37,EnemySkills!$A$4:$K$304,9,FALSE)) +(VLOOKUP(AF$30,$A$7:$T$26,19,FALSE)*VLOOKUP($L37,EnemySkills!$A$4:$K$304,10,FALSE)) +(VLOOKUP(AF$30,$A$7:$T$26,20,FALSE)*VLOOKUP($L37,EnemySkills!$A$4:$K$304,11,FALSE)) ),0) -> #N/A
A38: =Skills!A11 -> Weaken | B38: =VLOOKUP($A38,Skills!$A$4:$C$304,2,FALSE) -> Sorcerer | D38: =ROUND(VLOOKUP(A38,Skills!A11:K311,3,FALSE) +((VLOOKUP(B38,$A$7:$T$26,15,FALSE)*VLOOKUP(A38,Skills!$A$4:$K$304,4,FALSE)) +(VLOOKUP(B38,$A$7:$T$26,17,FALSE)*VLOOKUP(A38,Skills!$A$4:$K$304,5,FALSE)) +(VLOOKUP(B38,$A$7:$T$26,19,FALSE)*VLOOKUP(A38,Skills!$A$4:$K$304,6,FALSE)) +(VLOOKUP(B38,$A$7:$T33,20,FALSE)*VLOOKUP(A38,Skills!$A$4:$K$304,7,FALSE))) -(($E$4*VLOOKUP(A38,Skills!$A$4:$K$304,8,FALSE)) +($F$4*VLOOKUP(A38,Skills!$A$4:$K$304,9,FALSE)) +($H$4*VLOOKUP(A38,Skills!$A$4:$K$304,10,FALSE)) +($I$4*VLOOKUP(A38,Skills!$A$4:$K$304,11,FALSE))),0) -> 35 | E38: =ROUND($B$4/D38,1) -> 2.9 | F38: =ROUND(VLOOKUP(A38,Skills!A11:K311,3,FALSE) +(((VLOOKUP(B38,$A$7:$T$26,15,FALSE)*1.2)*VLOOKUP(A38,Skills!$A$4:$K$304,4,FALSE)) +((VLOOKUP(B38,$A$7:$T$26,17,FALSE)*1.2)*VLOOKUP(A38,Skills!$A$4:$K$304,5,FALSE)) +(VLOOKUP(B38,$A$7:$T$26,19,FALSE)*VLOOKUP(A38,Skills!$A$4:$K$304,6,FALSE)) +(VLOOKUP(B38,$A$7:$T33,20,FALSE)*VLOOKUP(A38,Skills!$A$4:$K$304,7,FALSE))) -(($E$4*VLOOKUP(A38,Skills!$A$4:$K$304,8,FALSE)) +($F$4*VLOOKUP(A38,Skills!$A$4:$K$304,9,FALSE)) +($H$4*VLOOKUP(A38,Skills!$A$4:$K$304,10,FALSE)) +($I$4*VLOOKUP(A38,Skills!$A$4:$K$304,11,FALSE))),0) -> 44 | G38: =ROUND(VLOOKUP(A38,Skills!A11:K311,3,FALSE) +(((VLOOKUP(B38,$A$7:$T$26,15,FALSE)*1.4)*VLOOKUP(A38,Skills!$A$4:$K$304,4,FALSE)) +((VLOOKUP(B38,$A$7:$T$26,17,FALSE)*1.4)*VLOOKUP(A38,Skills!$A$4:$K$304,5,FALSE)) +(VLOOKUP(B38,$A$7:$T$26,19,FALSE)*VLOOKUP(A38,Skills!$A$4:$K$304,6,FALSE)) +(VLOOKUP(B38,$A$7:$T33,20,FALSE)*VLOOKUP(A38,Skills!$A$4:$K$304,7,FALSE))) -(($E$4*VLOOKUP(A38,Skills!$A$4:$K$304,8,FALSE)) +($F$4*VLOOKUP(A38,Skills!$A$4:$K$304,9,FALSE)) +($H$4*VLOOKUP(A38,Skills!$A$4:$K$304,10,FALSE)) +($I$4*VLOOKUP(A38,Skills!$A$4:$K$304,11,FALSE))),0) -> 53 | H38: =ROUND(VLOOKUP(A38,Skills!A11:K311,3,FALSE) +((VLOOKUP(B38,$A$7:$T$26,15,FALSE)*VLOOKUP(A38,Skills!$A$4:$K$304,4,FALSE)) +(VLOOKUP(B38,$A$7:$T$26,17,FALSE)*VLOOKUP(A38,Skills!$A$4:$K$304,5,FALSE)) +(VLOOKUP(B38,$A$7:$T$26,19,FALSE)*VLOOKUP(A38,Skills!$A$4:$K$304,6,FALSE)) +(VLOOKUP(B38,$A$7:$T33,20,FALSE)*VLOOKUP(A38,Skills!$A$4:$K$304,7,FALSE))) -((($E$4*1.2)*VLOOKUP(A38,Skills!$A$4:$K$304,8,FALSE)) +(($F$4*1.2)*VLOOKUP(A38,Skills!$A$4:$K$304,9,FALSE)) +($H$4*VLOOKUP(A38,Skills!$A$4:$K$304,10,FALSE)) +($I$4*VLOOKUP(A38,Skills!$A$4:$K$304,11,FALSE))),0) -> 33 | I38: =ROUND(VLOOKUP(A38,Skills!A11:K311,3,FALSE) +((VLOOKUP(B38,$A$7:$T$26,15,FALSE)*VLOOKUP(A38,Skills!$A$4:$K$304,4,FALSE)) +(VLOOKUP(B38,$A$7:$T$26,17,FALSE)*VLOOKUP(A38,Skills!$A$4:$K$304,5,FALSE)) +(VLOOKUP(B38,$A$7:$T$26,19,FALSE)*VLOOKUP(A38,Skills!$A$4:$K$304,6,FALSE)) +(VLOOKUP(B38,$A$7:$T33,20,FALSE)*VLOOKUP(A38,Skills!$A$4:$K$304,7,FALSE))) -((($E$4*1.4)*VLOOKUP(A38,Skills!$A$4:$K$304,8,FALSE)) +(($F$4*1.4)*VLOOKUP(A38,Skills!$A$4:$K$304,9,FALSE)) +($H$4*VLOOKUP(A38,Skills!$A$4:$K$304,10,FALSE)) +($I$4*VLOOKUP(A38,Skills!$A$4:$K$304,11,FALSE))),0) -> 31 | L38: =EnemySkills!A11 -> 0 | M38: =ROUND(VLOOKUP($L38,EnemySkills!$A$4:$K$304,3,FALSE) +( ($D$4*VLOOKUP($L38,EnemySkills!$A$4:$K$304,4,FALSE)) +($F$4*VLOOKUP($L38,EnemySkills!$A$4:$K$304,5,FALSE)) +($H$4*VLOOKUP($L38,EnemySkills!$A$4:$K$304,6,FALSE)) +($I$4*VLOOKUP($L38,EnemySkills!$A$4:$K$304,7,FALSE)) )-( (VLOOKUP(M$30,$A$7:$T$26,16,FALSE)*VLOOKUP($L38,EnemySkills!$A$4:$K$304,8,FALSE)) +(VLOOKUP(M$30,$A$7:$T$26,18,FALSE)*VLOOKUP($L38,EnemySkills!$A$4:$K$304,9,FALSE)) +(VLOOKUP(M$30,$A$7:$T$26,19,FALSE)*VLOOKUP($L38,EnemySkills!$A$4:$K$304,10,FALSE)) +(VLOOKUP(M$30,$A$7:$T$26,20,FALSE)*VLOOKUP($L38,EnemySkills!$A$4:$K$304,11,FALSE)) ),0) -> #N/A | N38: =ROUND(VLOOKUP($L38,EnemySkills!$A$4:$K$304,3,FALSE) +( ($D$4*VLOOKUP($L38,EnemySkills!$A$4:$K$304,4,FALSE)) +($F$4*VLOOKUP($L38,EnemySkills!$A$4:$K$304,5,FALSE)) +($H$4*VLOOKUP($L38,EnemySkills!$A$4:$K$304,6,FALSE)) +($I$4*VLOOKUP($L38,EnemySkills!$A$4:$K$304,7,FALSE)) )-( (VLOOKUP(N$30,$A$7:$T$26,16,FALSE)*VLOOKUP($L38,EnemySkills!$A$4:$K$304,8,FALSE)) +(VLOOKUP(N$30,$A$7:$T$26,18,FALSE)*VLOOKUP($L38,EnemySkills!$A$4:$K$304,9,FALSE)) +(VLOOKUP(N$30,$A$7:$T$26,19,FALSE)*VLOOKUP($L38,EnemySkills!$A$4:$K$304,10,FALSE)) +(VLOOKUP(N$30,$A$7:$T$26,20,FALSE)*VLOOKUP($L38,EnemySkills!$A$4:$K$304,11,FALSE)) ),0) -> #N/A | O38: =ROUND(VLOOKUP($L38,EnemySkills!$A$4:$K$304,3,FALSE) +( ($D$4*VLOOKUP($L38,EnemySkills!$A$4:$K$304,4,FALSE)) +($F$4*VLOOKUP($L38,EnemySkills!$A$4:$K$304,5,FALSE)) +($H$4*VLOOKUP($L38,EnemySkills!$A$4:$K$304,6,FALSE)) +($I$4*VLOOKUP($L38,EnemySkills!$A$4:$K$304,7,FALSE)) )-( (VLOOKUP(O$30,$A$7:$T$26,16,FALSE)*VLOOKUP($L38,EnemySkills!$A$4:$K$304,8,FALSE)) +(VLOOKUP(O$30,$A$7:$T$26,18,FALSE)*VLOOKUP($L38,EnemySkills!$A$4:$K$304,9,FALSE)) +(VLOOKUP(O$30,$A$7:$T$26,19,FALSE)*VLOOKUP($L38,EnemySkills!$A$4:$K$304,10,FALSE)) +(VLOOKUP(O$30,$A$7:$T$26,20,FALSE)*VLOOKUP($L38,EnemySkills!$A$4:$K$304,11,FALSE)) ),0) -> #N/A | P38: =ROUND(VLOOKUP($L38,EnemySkills!$A$4:$K$304,3,FALSE) +( ($D$4*VLOOKUP($L38,EnemySkills!$A$4:$K$304,4,FALSE)) +($F$4*VLOOKUP($L38,EnemySkills!$A$4:$K$304,5,FALSE)) +($H$4*VLOOKUP($L38,EnemySkills!$A$4:$K$304,6,FALSE)) +($I$4*VLOOKUP($L38,EnemySkills!$A$4:$K$304,7,FALSE)) )-( (VLOOKUP(P$30,$A$7:$T$26,16,FALSE)*VLOOKUP($L38,EnemySkills!$A$4:$K$304,8,FALSE)) +(VLOOKUP(P$30,$A$7:$T$26,18,FALSE)*VLOOKUP($L38,EnemySkills!$A$4:$K$304,9,FALSE)) +(VLOOKUP(P$30,$A$7:$T$26,19,FALSE)*VLOOKUP($L38,EnemySkills!$A$4:$K$304,10,FALSE)) +(VLOOKUP(P$30,$A$7:$T$26,20,FALSE)*VLOOKUP($L38,EnemySkills!$A$4:$K$304,11,FALSE)) ),0) -> #N/A | Q38: =ROUND(VLOOKUP($L38,EnemySkills!$A$4:$K$304,3,FALSE) +( ($D$4*VLOOKUP($L38,EnemySkills!$A$4:$K$304,4,FALSE)) +($F$4*VLOOKUP($L38,EnemySkills!$A$4:$K$304,5,FALSE)) +($H$4*VLOOKUP($L38,EnemySkills!$A$4:$K$304,6,FALSE)) +($I$4*VLOOKUP($L38,EnemySkills!$A$4:$K$304,7,FALSE)) )-( (VLOOKUP(Q$30,$A$7:$T$26,16,FALSE)*VLOOKUP($L38,EnemySkills!$A$4:$K$304,8,FALSE)) +(VLOOKUP(Q$30,$A$7:$T$26,18,FALSE)*VLOOKUP($L38,EnemySkills!$A$4:$K$304,9,FALSE)) +(VLOOKUP(Q$30,$A$7:$T$26,19,FALSE)*VLOOKUP($L38,EnemySkills!$A$4:$K$304,10,FALSE)) +(VLOOKUP(Q$30,$A$7:$T$26,20,FALSE)*VLOOKUP($L38,EnemySkills!$A$4:$K$304,11,FALSE)) ),0) -> #N/A | R38: =ROUND(VLOOKUP($L38,EnemySkills!$A$4:$K$304,3,FALSE) +( ($D$4*VLOOKUP($L38,EnemySkills!$A$4:$K$304,4,FALSE)) +($F$4*VLOOKUP($L38,EnemySkills!$A$4:$K$304,5,FALSE)) +($H$4*VLOOKUP($L38,EnemySkills!$A$4:$K$304,6,FALSE)) +($I$4*VLOOKUP($L38,EnemySkills!$A$4:$K$304,7,FALSE)) )-( (VLOOKUP(R$30,$A$7:$T$26,16,FALSE)*VLOOKUP($L38,EnemySkills!$A$4:$K$304,8,FALSE)) +(VLOOKUP(R$30,$A$7:$T$26,18,FALSE)*VLOOKUP($L38,EnemySkills!$A$4:$K$304,9,FALSE)) +(VLOOKUP(R$30,$A$7:$T$26,19,FALSE)*VLOOKUP($L38,EnemySkills!$A$4:$K$304,10,FALSE)) +(VLOOKUP(R$30,$A$7:$T$26,20,FALSE)*VLOOKUP($L38,EnemySkills!$A$4:$K$304,11,FALSE)) ),0) -> #N/A | S38: =ROUND(VLOOKUP($L38,EnemySkills!$A$4:$K$304,3,FALSE) +( ($D$4*VLOOKUP($L38,EnemySkills!$A$4:$K$304,4,FALSE)) +($F$4*VLOOKUP($L38,EnemySkills!$A$4:$K$304,5,FALSE)) +($H$4*VLOOKUP($L38,EnemySkills!$A$4:$K$304,6,FALSE)) +($I$4*VLOOKUP($L38,EnemySkills!$A$4:$K$304,7,FALSE)) )-( (VLOOKUP(S$30,$A$7:$T$26,16,FALSE)*VLOOKUP($L38,EnemySkills!$A$4:$K$304,8,FALSE)) +(VLOOKUP(S$30,$A$7:$T$26,18,FALSE)*VLOOKUP($L38,EnemySkills!$A$4:$K$304,9,FALSE)) +(VLOOKUP(S$30,$A$7:$T$26,19,FALSE)*VLOOKUP($L38,EnemySkills!$A$4:$K$304,10,FALSE)) +(VLOOKUP(S$30,$A$7:$T$26,20,FALSE)*VLOOKUP($L38,EnemySkills!$A$4:$K$304,11,FALSE)) ),0) -> #N/A | T38: =ROUND(VLOOKUP($L38,EnemySkills!$A$4:$K$304,3,FALSE) +( ($D$4*VLOOKUP($L38,EnemySkills!$A$4:$K$304,4,FALSE)) +($F$4*VLOOKUP($L38,EnemySkills!$A$4:$K$304,5,FALSE)) +($H$4*VLOOKUP($L38,EnemySkills!$A$4:$K$304,6,FALSE)) +($I$4*VLOOKUP($L38,EnemySkills!$A$4:$K$304,7,FALSE)) )-( (VLOOKUP(T$30,$A$7:$T$26,16,FALSE)*VLOOKUP($L38,EnemySkills!$A$4:$K$304,8,FALSE)) +(VLOOKUP(T$30,$A$7:$T$26,18,FALSE)*VLOOKUP($L38,EnemySkills!$A$4:$K$304,9,FALSE)) +(VLOOKUP(T$30,$A$7:$T$26,19,FALSE)*VLOOKUP($L38,EnemySkills!$A$4:$K$304,10,FALSE)) +(VLOOKUP(T$30,$A$7:$T$26,20,FALSE)*VLOOKUP($L38,EnemySkills!$A$4:$K$304,11,FALSE)) ),0) -> #N/A | ... AF38: =ROUND(VLOOKUP($L38,EnemySkills!$A$4:$K$304,3,FALSE) +( ($D$4*VLOOKUP($L38,EnemySkills!$A$4:$K$304,4,FALSE)) +($F$4*VLOOKUP($L38,EnemySkills!$A$4:$K$304,5,FALSE)) +($H$4*VLOOKUP($L38,EnemySkills!$A$4:$K$304,6,FALSE)) +($I$4*VLOOKUP($L38,EnemySkills!$A$4:$K$304,7,FALSE)) )-( (VLOOKUP(AF$30,$A$7:$T$26,16,FALSE)*VLOOKUP($L38,EnemySkills!$A$4:$K$304,8,FALSE)) +(VLOOKUP(AF$30,$A$7:$T$26,18,FALSE)*VLOOKUP($L38,EnemySkills!$A$4:$K$304,9,FALSE)) +(VLOOKUP(AF$30,$A$7:$T$26,19,FALSE)*VLOOKUP($L38,EnemySkills!$A$4:$K$304,10,FALSE)) +(VLOOKUP(AF$30,$A$7:$T$26,20,FALSE)*VLOOKUP($L38,EnemySkills!$A$4:$K$304,11,FALSE)) ),0) -> #N/A
A39: =Skills!A12 -> Shoot | B39: =VLOOKUP($A39,Skills!$A$4:$C$304,2,FALSE) -> Scout | D39: =ROUND(VLOOKUP(A39,Skills!A12:K312,3,FALSE) +((VLOOKUP(B39,$A$7:$T$26,15,FALSE)*VLOOKUP(A39,Skills!$A$4:$K$304,4,FALSE)) +(VLOOKUP(B39,$A$7:$T$26,17,FALSE)*VLOOKUP(A39,Skills!$A$4:$K$304,5,FALSE)) +(VLOOKUP(B39,$A$7:$T$26,19,FALSE)*VLOOKUP(A39,Skills!$A$4:$K$304,6,FALSE)) +(VLOOKUP(B39,$A$7:$T34,20,FALSE)*VLOOKUP(A39,Skills!$A$4:$K$304,7,FALSE))) -(($E$4*VLOOKUP(A39,Skills!$A$4:$K$304,8,FALSE)) +($F$4*VLOOKUP(A39,Skills!$A$4:$K$304,9,FALSE)) +($H$4*VLOOKUP(A39,Skills!$A$4:$K$304,10,FALSE)) +($I$4*VLOOKUP(A39,Skills!$A$4:$K$304,11,FALSE))),0) -> 25 | E39: =ROUND($B$4/D39,1) -> 4 | F39: =ROUND(VLOOKUP(A39,Skills!A12:K312,3,FALSE) +(((VLOOKUP(B39,$A$7:$T$26,15,FALSE)*1.2)*VLOOKUP(A39,Skills!$A$4:$K$304,4,FALSE)) +((VLOOKUP(B39,$A$7:$T$26,17,FALSE)*1.2)*VLOOKUP(A39,Skills!$A$4:$K$304,5,FALSE)) +(VLOOKUP(B39,$A$7:$T$26,19,FALSE)*VLOOKUP(A39,Skills!$A$4:$K$304,6,FALSE)) +(VLOOKUP(B39,$A$7:$T34,20,FALSE)*VLOOKUP(A39,Skills!$A$4:$K$304,7,FALSE))) -(($E$4*VLOOKUP(A39,Skills!$A$4:$K$304,8,FALSE)) +($F$4*VLOOKUP(A39,Skills!$A$4:$K$304,9,FALSE)) +($H$4*VLOOKUP(A39,Skills!$A$4:$K$304,10,FALSE)) +($I$4*VLOOKUP(A39,Skills!$A$4:$K$304,11,FALSE))),0) -> 34 | G39: =ROUND(VLOOKUP(A39,Skills!A12:K312,3,FALSE) +(((VLOOKUP(B39,$A$7:$T$26,15,FALSE)*1.4)*VLOOKUP(A39,Skills!$A$4:$K$304,4,FALSE)) +((VLOOKUP(B39,$A$7:$T$26,17,FALSE)*1.4)*VLOOKUP(A39,Skills!$A$4:$K$304,5,FALSE)) +(VLOOKUP(B39,$A$7:$T$26,19,FALSE)*VLOOKUP(A39,Skills!$A$4:$K$304,6,FALSE)) +(VLOOKUP(B39,$A$7:$T34,20,FALSE)*VLOOKUP(A39,Skills!$A$4:$K$304,7,FALSE))) -(($E$4*VLOOKUP(A39,Skills!$A$4:$K$304,8,FALSE)) +($F$4*VLOOKUP(A39,Skills!$A$4:$K$304,9,FALSE)) +($H$4*VLOOKUP(A39,Skills!$A$4:$K$304,10,FALSE)) +($I$4*VLOOKUP(A39,Skills!$A$4:$K$304,11,FALSE))),0) -> 43 | H39: =ROUND(VLOOKUP(A39,Skills!A12:K312,3,FALSE) +((VLOOKUP(B39,$A$7:$T$26,15,FALSE)*VLOOKUP(A39,Skills!$A$4:$K$304,4,FALSE)) +(VLOOKUP(B39,$A$7:$T$26,17,FALSE)*VLOOKUP(A39,Skills!$A$4:$K$304,5,FALSE)) +(VLOOKUP(B39,$A$7:$T$26,19,FALSE)*VLOOKUP(A39,Skills!$A$4:$K$304,6,FALSE)) +(VLOOKUP(B39,$A$7:$T34,20,FALSE)*VLOOKUP(A39,Skills!$A$4:$K$304,7,FALSE))) -((($E$4*1.2)*VLOOKUP(A39,Skills!$A$4:$K$304,8,FALSE)) +(($F$4*1.2)*VLOOKUP(A39,Skills!$A$4:$K$304,9,FALSE)) +($H$4*VLOOKUP(A39,Skills!$A$4:$K$304,10,FALSE)) +($I$4*VLOOKUP(A39,Skills!$A$4:$K$304,11,FALSE))),0) -> 21 | I39: =ROUND(VLOOKUP(A39,Skills!A12:K312,3,FALSE) +((VLOOKUP(B39,$A$7:$T$26,15,FALSE)*VLOOKUP(A39,Skills!$A$4:$K$304,4,FALSE)) +(VLOOKUP(B39,$A$7:$T$26,17,FALSE)*VLOOKUP(A39,Skills!$A$4:$K$304,5,FALSE)) +(VLOOKUP(B39,$A$7:$T$26,19,FALSE)*VLOOKUP(A39,Skills!$A$4:$K$304,6,FALSE)) +(VLOOKUP(B39,$A$7:$T34,20,FALSE)*VLOOKUP(A39,Skills!$A$4:$K$304,7,FALSE))) -((($E$4*1.4)*VLOOKUP(A39,Skills!$A$4:$K$304,8,FALSE)) +(($F$4*1.4)*VLOOKUP(A39,Skills!$A$4:$K$304,9,FALSE)) +($H$4*VLOOKUP(A39,Skills!$A$4:$K$304,10,FALSE)) +($I$4*VLOOKUP(A39,Skills!$A$4:$K$304,11,FALSE))),0) -> 17 | L39: =EnemySkills!A12 -> 0 | M39: =ROUND(VLOOKUP($L39,EnemySkills!$A$4:$K$304,3,FALSE) +( ($D$4*VLOOKUP($L39,EnemySkills!$A$4:$K$304,4,FALSE)) +($F$4*VLOOKUP($L39,EnemySkills!$A$4:$K$304,5,FALSE)) +($H$4*VLOOKUP($L39,EnemySkills!$A$4:$K$304,6,FALSE)) +($I$4*VLOOKUP($L39,EnemySkills!$A$4:$K$304,7,FALSE)) )-( (VLOOKUP(M$30,$A$7:$T$26,16,FALSE)*VLOOKUP($L39,EnemySkills!$A$4:$K$304,8,FALSE)) +(VLOOKUP(M$30,$A$7:$T$26,18,FALSE)*VLOOKUP($L39,EnemySkills!$A$4:$K$304,9,FALSE)) +(VLOOKUP(M$30,$A$7:$T$26,19,FALSE)*VLOOKUP($L39,EnemySkills!$A$4:$K$304,10,FALSE)) +(VLOOKUP(M$30,$A$7:$T$26,20,FALSE)*VLOOKUP($L39,EnemySkills!$A$4:$K$304,11,FALSE)) ),0) -> #N/A | N39: =ROUND(VLOOKUP($L39,EnemySkills!$A$4:$K$304,3,FALSE) +( ($D$4*VLOOKUP($L39,EnemySkills!$A$4:$K$304,4,FALSE)) +($F$4*VLOOKUP($L39,EnemySkills!$A$4:$K$304,5,FALSE)) +($H$4*VLOOKUP($L39,EnemySkills!$A$4:$K$304,6,FALSE)) +($I$4*VLOOKUP($L39,EnemySkills!$A$4:$K$304,7,FALSE)) )-( (VLOOKUP(N$30,$A$7:$T$26,16,FALSE)*VLOOKUP($L39,EnemySkills!$A$4:$K$304,8,FALSE)) +(VLOOKUP(N$30,$A$7:$T$26,18,FALSE)*VLOOKUP($L39,EnemySkills!$A$4:$K$304,9,FALSE)) +(VLOOKUP(N$30,$A$7:$T$26,19,FALSE)*VLOOKUP($L39,EnemySkills!$A$4:$K$304,10,FALSE)) +(VLOOKUP(N$30,$A$7:$T$26,20,FALSE)*VLOOKUP($L39,EnemySkills!$A$4:$K$304,11,FALSE)) ),0) -> #N/A | O39: =ROUND(VLOOKUP($L39,EnemySkills!$A$4:$K$304,3,FALSE) +( ($D$4*VLOOKUP($L39,EnemySkills!$A$4:$K$304,4,FALSE)) +($F$4*VLOOKUP($L39,EnemySkills!$A$4:$K$304,5,FALSE)) +($H$4*VLOOKUP($L39,EnemySkills!$A$4:$K$304,6,FALSE)) +($I$4*VLOOKUP($L39,EnemySkills!$A$4:$K$304,7,FALSE)) )-( (VLOOKUP(O$30,$A$7:$T$26,16,FALSE)*VLOOKUP($L39,EnemySkills!$A$4:$K$304,8,FALSE)) +(VLOOKUP(O$30,$A$7:$T$26,18,FALSE)*VLOOKUP($L39,EnemySkills!$A$4:$K$304,9,FALSE)) +(VLOOKUP(O$30,$A$7:$T$26,19,FALSE)*VLOOKUP($L39,EnemySkills!$A$4:$K$304,10,FALSE)) +(VLOOKUP(O$30,$A$7:$T$26,20,FALSE)*VLOOKUP($L39,EnemySkills!$A$4:$K$304,11,FALSE)) ),0) -> #N/A | P39: =ROUND(VLOOKUP($L39,EnemySkills!$A$4:$K$304,3,FALSE) +( ($D$4*VLOOKUP($L39,EnemySkills!$A$4:$K$304,4,FALSE)) +($F$4*VLOOKUP($L39,EnemySkills!$A$4:$K$304,5,FALSE)) +($H$4*VLOOKUP($L39,EnemySkills!$A$4:$K$304,6,FALSE)) +($I$4*VLOOKUP($L39,EnemySkills!$A$4:$K$304,7,FALSE)) )-( (VLOOKUP(P$30,$A$7:$T$26,16,FALSE)*VLOOKUP($L39,EnemySkills!$A$4:$K$304,8,FALSE)) +(VLOOKUP(P$30,$A$7:$T$26,18,FALSE)*VLOOKUP($L39,EnemySkills!$A$4:$K$304,9,FALSE)) +(VLOOKUP(P$30,$A$7:$T$26,19,FALSE)*VLOOKUP($L39,EnemySkills!$A$4:$K$304,10,FALSE)) +(VLOOKUP(P$30,$A$7:$T$26,20,FALSE)*VLOOKUP($L39,EnemySkills!$A$4:$K$304,11,FALSE)) ),0) -> #N/A | Q39: =ROUND(VLOOKUP($L39,EnemySkills!$A$4:$K$304,3,FALSE) +( ($D$4*VLOOKUP($L39,EnemySkills!$A$4:$K$304,4,FALSE)) +($F$4*VLOOKUP($L39,EnemySkills!$A$4:$K$304,5,FALSE)) +($H$4*VLOOKUP($L39,EnemySkills!$A$4:$K$304,6,FALSE)) +($I$4*VLOOKUP($L39,EnemySkills!$A$4:$K$304,7,FALSE)) )-( (VLOOKUP(Q$30,$A$7:$T$26,16,FALSE)*VLOOKUP($L39,EnemySkills!$A$4:$K$304,8,FALSE)) +(VLOOKUP(Q$30,$A$7:$T$26,18,FALSE)*VLOOKUP($L39,EnemySkills!$A$4:$K$304,9,FALSE)) +(VLOOKUP(Q$30,$A$7:$T$26,19,FALSE)*VLOOKUP($L39,EnemySkills!$A$4:$K$304,10,FALSE)) +(VLOOKUP(Q$30,$A$7:$T$26,20,FALSE)*VLOOKUP($L39,EnemySkills!$A$4:$K$304,11,FALSE)) ),0) -> #N/A | R39: =ROUND(VLOOKUP($L39,EnemySkills!$A$4:$K$304,3,FALSE) +( ($D$4*VLOOKUP($L39,EnemySkills!$A$4:$K$304,4,FALSE)) +($F$4*VLOOKUP($L39,EnemySkills!$A$4:$K$304,5,FALSE)) +($H$4*VLOOKUP($L39,EnemySkills!$A$4:$K$304,6,FALSE)) +($I$4*VLOOKUP($L39,EnemySkills!$A$4:$K$304,7,FALSE)) )-( (VLOOKUP(R$30,$A$7:$T$26,16,FALSE)*VLOOKUP($L39,EnemySkills!$A$4:$K$304,8,FALSE)) +(VLOOKUP(R$30,$A$7:$T$26,18,FALSE)*VLOOKUP($L39,EnemySkills!$A$4:$K$304,9,FALSE)) +(VLOOKUP(R$30,$A$7:$T$26,19,FALSE)*VLOOKUP($L39,EnemySkills!$A$4:$K$304,10,FALSE)) +(VLOOKUP(R$30,$A$7:$T$26,20,FALSE)*VLOOKUP($L39,EnemySkills!$A$4:$K$304,11,FALSE)) ),0) -> #N/A | S39: =ROUND(VLOOKUP($L39,EnemySkills!$A$4:$K$304,3,FALSE) +( ($D$4*VLOOKUP($L39,EnemySkills!$A$4:$K$304,4,FALSE)) +($F$4*VLOOKUP($L39,EnemySkills!$A$4:$K$304,5,FALSE)) +($H$4*VLOOKUP($L39,EnemySkills!$A$4:$K$304,6,FALSE)) +($I$4*VLOOKUP($L39,EnemySkills!$A$4:$K$304,7,FALSE)) )-( (VLOOKUP(S$30,$A$7:$T$26,16,FALSE)*VLOOKUP($L39,EnemySkills!$A$4:$K$304,8,FALSE)) +(VLOOKUP(S$30,$A$7:$T$26,18,FALSE)*VLOOKUP($L39,EnemySkills!$A$4:$K$304,9,FALSE)) +(VLOOKUP(S$30,$A$7:$T$26,19,FALSE)*VLOOKUP($L39,EnemySkills!$A$4:$K$304,10,FALSE)) +(VLOOKUP(S$30,$A$7:$T$26,20,FALSE)*VLOOKUP($L39,EnemySkills!$A$4:$K$304,11,FALSE)) ),0) -> #N/A | T39: =ROUND(VLOOKUP($L39,EnemySkills!$A$4:$K$304,3,FALSE) +( ($D$4*VLOOKUP($L39,EnemySkills!$A$4:$K$304,4,FALSE)) +($F$4*VLOOKUP($L39,EnemySkills!$A$4:$K$304,5,FALSE)) +($H$4*VLOOKUP($L39,EnemySkills!$A$4:$K$304,6,FALSE)) +($I$4*VLOOKUP($L39,EnemySkills!$A$4:$K$304,7,FALSE)) )-( (VLOOKUP(T$30,$A$7:$T$26,16,FALSE)*VLOOKUP($L39,EnemySkills!$A$4:$K$304,8,FALSE)) +(VLOOKUP(T$30,$A$7:$T$26,18,FALSE)*VLOOKUP($L39,EnemySkills!$A$4:$K$304,9,FALSE)) +(VLOOKUP(T$30,$A$7:$T$26,19,FALSE)*VLOOKUP($L39,EnemySkills!$A$4:$K$304,10,FALSE)) +(VLOOKUP(T$30,$A$7:$T$26,20,FALSE)*VLOOKUP($L39,EnemySkills!$A$4:$K$304,11,FALSE)) ),0) -> #N/A | ... AF39: =ROUND(VLOOKUP($L39,EnemySkills!$A$4:$K$304,3,FALSE) +( ($D$4*VLOOKUP($L39,EnemySkills!$A$4:$K$304,4,FALSE)) +($F$4*VLOOKUP($L39,EnemySkills!$A$4:$K$304,5,FALSE)) +($H$4*VLOOKUP($L39,EnemySkills!$A$4:$K$304,6,FALSE)) +($I$4*VLOOKUP($L39,EnemySkills!$A$4:$K$304,7,FALSE)) )-( (VLOOKUP(AF$30,$A$7:$T$26,16,FALSE)*VLOOKUP($L39,EnemySkills!$A$4:$K$304,8,FALSE)) +(VLOOKUP(AF$30,$A$7:$T$26,18,FALSE)*VLOOKUP($L39,EnemySkills!$A$4:$K$304,9,FALSE)) +(VLOOKUP(AF$30,$A$7:$T$26,19,FALSE)*VLOOKUP($L39,EnemySkills!$A$4:$K$304,10,FALSE)) +(VLOOKUP(AF$30,$A$7:$T$26,20,FALSE)*VLOOKUP($L39,EnemySkills!$A$4:$K$304,11,FALSE)) ),0) -> #N/A
A40: =Skills!A13 -> Careful Aim | B40: =VLOOKUP($A40,Skills!$A$4:$C$304,2,FALSE) -> Scout | D40: =ROUND(VLOOKUP(A40,Skills!A13:K313,3,FALSE) +((VLOOKUP(B40,$A$7:$T$26,15,FALSE)*VLOOKUP(A40,Skills!$A$4:$K$304,4,FALSE)) +(VLOOKUP(B40,$A$7:$T$26,17,FALSE)*VLOOKUP(A40,Skills!$A$4:$K$304,5,FALSE)) +(VLOOKUP(B40,$A$7:$T$26,19,FALSE)*VLOOKUP(A40,Skills!$A$4:$K$304,6,FALSE)) +(VLOOKUP(B40,$A$7:$T35,20,FALSE)*VLOOKUP(A40,Skills!$A$4:$K$304,7,FALSE))) -(($E$4*VLOOKUP(A40,Skills!$A$4:$K$304,8,FALSE)) +($F$4*VLOOKUP(A40,Skills!$A$4:$K$304,9,FALSE)) +($H$4*VLOOKUP(A40,Skills!$A$4:$K$304,10,FALSE)) +($I$4*VLOOKUP(A40,Skills!$A$4:$K$304,11,FALSE))),0) -> 45 | E40: =ROUND($B$4/D40,1) -> 2.2 | F40: =ROUND(VLOOKUP(A40,Skills!A13:K313,3,FALSE) +(((VLOOKUP(B40,$A$7:$T$26,15,FALSE)*1.2)*VLOOKUP(A40,Skills!$A$4:$K$304,4,FALSE)) +((VLOOKUP(B40,$A$7:$T$26,17,FALSE)*1.2)*VLOOKUP(A40,Skills!$A$4:$K$304,5,FALSE)) +(VLOOKUP(B40,$A$7:$T$26,19,FALSE)*VLOOKUP(A40,Skills!$A$4:$K$304,6,FALSE)) +(VLOOKUP(B40,$A$7:$T35,20,FALSE)*VLOOKUP(A40,Skills!$A$4:$K$304,7,FALSE))) -(($E$4*VLOOKUP(A40,Skills!$A$4:$K$304,8,FALSE)) +($F$4*VLOOKUP(A40,Skills!$A$4:$K$304,9,FALSE)) +($H$4*VLOOKUP(A40,Skills!$A$4:$K$304,10,FALSE)) +($I$4*VLOOKUP(A40,Skills!$A$4:$K$304,11,FALSE))),0) -> 57 | G40: =ROUND(VLOOKUP(A40,Skills!A13:K313,3,FALSE) +(((VLOOKUP(B40,$A$7:$T$26,15,FALSE)*1.4)*VLOOKUP(A40,Skills!$A$4:$K$304,4,FALSE)) +((VLOOKUP(B40,$A$7:$T$26,17,FALSE)*1.4)*VLOOKUP(A40,Skills!$A$4:$K$304,5,FALSE)) +(VLOOKUP(B40,$A$7:$T$26,19,FALSE)*VLOOKUP(A40,Skills!$A$4:$K$304,6,FALSE)) +(VLOOKUP(B40,$A$7:$T35,20,FALSE)*VLOOKUP(A40,Skills!$A$4:$K$304,7,FALSE))) -(($E$4*VLOOKUP(A40,Skills!$A$4:$K$304,8,FALSE)) +($F$4*VLOOKUP(A40,Skills!$A$4:$K$304,9,FALSE)) +($H$4*VLOOKUP(A40,Skills!$A$4:$K$304,10,FALSE)) +($I$4*VLOOKUP(A40,Skills!$A$4:$K$304,11,FALSE))),0) -> 69 | H40: =ROUND(VLOOKUP(A40,Skills!A13:K313,3,FALSE) +((VLOOKUP(B40,$A$7:$T$26,15,FALSE)*VLOOKUP(A40,Skills!$A$4:$K$304,4,FALSE)) +(VLOOKUP(B40,$A$7:$T$26,17,FALSE)*VLOOKUP(A40,Skills!$A$4:$K$304,5,FALSE)) +(VLOOKUP(B40,$A$7:$T$26,19,FALSE)*VLOOKUP(A40,Skills!$A$4:$K$304,6,FALSE)) +(VLOOKUP(B40,$A$7:$T35,20,FALSE)*VLOOKUP(A40,Skills!$A$4:$K$304,7,FALSE))) -((($E$4*1.2)*VLOOKUP(A40,Skills!$A$4:$K$304,8,FALSE)) +(($F$4*1.2)*VLOOKUP(A40,Skills!$A$4:$K$304,9,FALSE)) +($H$4*VLOOKUP(A40,Skills!$A$4:$K$304,10,FALSE)) +($I$4*VLOOKUP(A40,Skills!$A$4:$K$304,11,FALSE))),0) -> 41 | I40: =ROUND(VLOOKUP(A40,Skills!A13:K313,3,FALSE) +((VLOOKUP(B40,$A$7:$T$26,15,FALSE)*VLOOKUP(A40,Skills!$A$4:$K$304,4,FALSE)) +(VLOOKUP(B40,$A$7:$T$26,17,FALSE)*VLOOKUP(A40,Skills!$A$4:$K$304,5,FALSE)) +(VLOOKUP(B40,$A$7:$T$26,19,FALSE)*VLOOKUP(A40,Skills!$A$4:$K$304,6,FALSE)) +(VLOOKUP(B40,$A$7:$T35,20,FALSE)*VLOOKUP(A40,Skills!$A$4:$K$304,7,FALSE))) -((($E$4*1.4)*VLOOKUP(A40,Skills!$A$4:$K$304,8,FALSE)) +(($F$4*1.4)*VLOOKUP(A40,Skills!$A$4:$K$304,9,FALSE)) +($H$4*VLOOKUP(A40,Skills!$A$4:$K$304,10,FALSE)) +($I$4*VLOOKUP(A40,Skills!$A$4:$K$304,11,FALSE))),0) -> 37 | L40: =EnemySkills!A13 -> 0 | M40: =ROUND(VLOOKUP($L40,EnemySkills!$A$4:$K$304,3,FALSE) +( ($D$4*VLOOKUP($L40,EnemySkills!$A$4:$K$304,4,FALSE)) +($F$4*VLOOKUP($L40,EnemySkills!$A$4:$K$304,5,FALSE)) +($H$4*VLOOKUP($L40,EnemySkills!$A$4:$K$304,6,FALSE)) +($I$4*VLOOKUP($L40,EnemySkills!$A$4:$K$304,7,FALSE)) )-( (VLOOKUP(M$30,$A$7:$T$26,16,FALSE)*VLOOKUP($L40,EnemySkills!$A$4:$K$304,8,FALSE)) +(VLOOKUP(M$30,$A$7:$T$26,18,FALSE)*VLOOKUP($L40,EnemySkills!$A$4:$K$304,9,FALSE)) +(VLOOKUP(M$30,$A$7:$T$26,19,FALSE)*VLOOKUP($L40,EnemySkills!$A$4:$K$304,10,FALSE)) +(VLOOKUP(M$30,$A$7:$T$26,20,FALSE)*VLOOKUP($L40,EnemySkills!$A$4:$K$304,11,FALSE)) ),0) -> #N/A | N40: =ROUND(VLOOKUP($L40,EnemySkills!$A$4:$K$304,3,FALSE) +( ($D$4*VLOOKUP($L40,EnemySkills!$A$4:$K$304,4,FALSE)) +($F$4*VLOOKUP($L40,EnemySkills!$A$4:$K$304,5,FALSE)) +($H$4*VLOOKUP($L40,EnemySkills!$A$4:$K$304,6,FALSE)) +($I$4*VLOOKUP($L40,EnemySkills!$A$4:$K$304,7,FALSE)) )-( (VLOOKUP(N$30,$A$7:$T$26,16,FALSE)*VLOOKUP($L40,EnemySkills!$A$4:$K$304,8,FALSE)) +(VLOOKUP(N$30,$A$7:$T$26,18,FALSE)*VLOOKUP($L40,EnemySkills!$A$4:$K$304,9,FALSE)) +(VLOOKUP(N$30,$A$7:$T$26,19,FALSE)*VLOOKUP($L40,EnemySkills!$A$4:$K$304,10,FALSE)) +(VLOOKUP(N$30,$A$7:$T$26,20,FALSE)*VLOOKUP($L40,EnemySkills!$A$4:$K$304,11,FALSE)) ),0) -> #N/A | O40: =ROUND(VLOOKUP($L40,EnemySkills!$A$4:$K$304,3,FALSE) +( ($D$4*VLOOKUP($L40,EnemySkills!$A$4:$K$304,4,FALSE)) +($F$4*VLOOKUP($L40,EnemySkills!$A$4:$K$304,5,FALSE)) +($H$4*VLOOKUP($L40,EnemySkills!$A$4:$K$304,6,FALSE)) +($I$4*VLOOKUP($L40,EnemySkills!$A$4:$K$304,7,FALSE)) )-( (VLOOKUP(O$30,$A$7:$T$26,16,FALSE)*VLOOKUP($L40,EnemySkills!$A$4:$K$304,8,FALSE)) +(VLOOKUP(O$30,$A$7:$T$26,18,FALSE)*VLOOKUP($L40,EnemySkills!$A$4:$K$304,9,FALSE)) +(VLOOKUP(O$30,$A$7:$T$26,19,FALSE)*VLOOKUP($L40,EnemySkills!$A$4:$K$304,10,FALSE)) +(VLOOKUP(O$30,$A$7:$T$26,20,FALSE)*VLOOKUP($L40,EnemySkills!$A$4:$K$304,11,FALSE)) ),0) -> #N/A | P40: =ROUND(VLOOKUP($L40,EnemySkills!$A$4:$K$304,3,FALSE) +( ($D$4*VLOOKUP($L40,EnemySkills!$A$4:$K$304,4,FALSE)) +($F$4*VLOOKUP($L40,EnemySkills!$A$4:$K$304,5,FALSE)) +($H$4*VLOOKUP($L40,EnemySkills!$A$4:$K$304,6,FALSE)) +($I$4*VLOOKUP($L40,EnemySkills!$A$4:$K$304,7,FALSE)) )-( (VLOOKUP(P$30,$A$7:$T$26,16,FALSE)*VLOOKUP($L40,EnemySkills!$A$4:$K$304,8,FALSE)) +(VLOOKUP(P$30,$A$7:$T$26,18,FALSE)*VLOOKUP($L40,EnemySkills!$A$4:$K$304,9,FALSE)) +(VLOOKUP(P$30,$A$7:$T$26,19,FALSE)*VLOOKUP($L40,EnemySkills!$A$4:$K$304,10,FALSE)) +(VLOOKUP(P$30,$A$7:$T$26,20,FALSE)*VLOOKUP($L40,EnemySkills!$A$4:$K$304,11,FALSE)) ),0) -> #N/A | Q40: =ROUND(VLOOKUP($L40,EnemySkills!$A$4:$K$304,3,FALSE) +( ($D$4*VLOOKUP($L40,EnemySkills!$A$4:$K$304,4,FALSE)) +($F$4*VLOOKUP($L40,EnemySkills!$A$4:$K$304,5,FALSE)) +($H$4*VLOOKUP($L40,EnemySkills!$A$4:$K$304,6,FALSE)) +($I$4*VLOOKUP($L40,EnemySkills!$A$4:$K$304,7,FALSE)) )-( (VLOOKUP(Q$30,$A$7:$T$26,16,FALSE)*VLOOKUP($L40,EnemySkills!$A$4:$K$304,8,FALSE)) +(VLOOKUP(Q$30,$A$7:$T$26,18,FALSE)*VLOOKUP($L40,EnemySkills!$A$4:$K$304,9,FALSE)) +(VLOOKUP(Q$30,$A$7:$T$26,19,FALSE)*VLOOKUP($L40,EnemySkills!$A$4:$K$304,10,FALSE)) +(VLOOKUP(Q$30,$A$7:$T$26,20,FALSE)*VLOOKUP($L40,EnemySkills!$A$4:$K$304,11,FALSE)) ),0) -> #N/A | R40: =ROUND(VLOOKUP($L40,EnemySkills!$A$4:$K$304,3,FALSE) +( ($D$4*VLOOKUP($L40,EnemySkills!$A$4:$K$304,4,FALSE)) +($F$4*VLOOKUP($L40,EnemySkills!$A$4:$K$304,5,FALSE)) +($H$4*VLOOKUP($L40,EnemySkills!$A$4:$K$304,6,FALSE)) +($I$4*VLOOKUP($L40,EnemySkills!$A$4:$K$304,7,FALSE)) )-( (VLOOKUP(R$30,$A$7:$T$26,16,FALSE)*VLOOKUP($L40,EnemySkills!$A$4:$K$304,8,FALSE)) +(VLOOKUP(R$30,$A$7:$T$26,18,FALSE)*VLOOKUP($L40,EnemySkills!$A$4:$K$304,9,FALSE)) +(VLOOKUP(R$30,$A$7:$T$26,19,FALSE)*VLOOKUP($L40,EnemySkills!$A$4:$K$304,10,FALSE)) +(VLOOKUP(R$30,$A$7:$T$26,20,FALSE)*VLOOKUP($L40,EnemySkills!$A$4:$K$304,11,FALSE)) ),0) -> #N/A | S40: =ROUND(VLOOKUP($L40,EnemySkills!$A$4:$K$304,3,FALSE) +( ($D$4*VLOOKUP($L40,EnemySkills!$A$4:$K$304,4,FALSE)) +($F$4*VLOOKUP($L40,EnemySkills!$A$4:$K$304,5,FALSE)) +($H$4*VLOOKUP($L40,EnemySkills!$A$4:$K$304,6,FALSE)) +($I$4*VLOOKUP($L40,EnemySkills!$A$4:$K$304,7,FALSE)) )-( (VLOOKUP(S$30,$A$7:$T$26,16,FALSE)*VLOOKUP($L40,EnemySkills!$A$4:$K$304,8,FALSE)) +(VLOOKUP(S$30,$A$7:$T$26,18,FALSE)*VLOOKUP($L40,EnemySkills!$A$4:$K$304,9,FALSE)) +(VLOOKUP(S$30,$A$7:$T$26,19,FALSE)*VLOOKUP($L40,EnemySkills!$A$4:$K$304,10,FALSE)) +(VLOOKUP(S$30,$A$7:$T$26,20,FALSE)*VLOOKUP($L40,EnemySkills!$A$4:$K$304,11,FALSE)) ),0) -> #N/A | T40: =ROUND(VLOOKUP($L40,EnemySkills!$A$4:$K$304,3,FALSE) +( ($D$4*VLOOKUP($L40,EnemySkills!$A$4:$K$304,4,FALSE)) +($F$4*VLOOKUP($L40,EnemySkills!$A$4:$K$304,5,FALSE)) +($H$4*VLOOKUP($L40,EnemySkills!$A$4:$K$304,6,FALSE)) +($I$4*VLOOKUP($L40,EnemySkills!$A$4:$K$304,7,FALSE)) )-( (VLOOKUP(T$30,$A$7:$T$26,16,FALSE)*VLOOKUP($L40,EnemySkills!$A$4:$K$304,8,FALSE)) +(VLOOKUP(T$30,$A$7:$T$26,18,FALSE)*VLOOKUP($L40,EnemySkills!$A$4:$K$304,9,FALSE)) +(VLOOKUP(T$30,$A$7:$T$26,19,FALSE)*VLOOKUP($L40,EnemySkills!$A$4:$K$304,10,FALSE)) +(VLOOKUP(T$30,$A$7:$T$26,20,FALSE)*VLOOKUP($L40,EnemySkills!$A$4:$K$304,11,FALSE)) ),0) -> #N/A | ... AF40: =ROUND(VLOOKUP($L40,EnemySkills!$A$4:$K$304,3,FALSE) +( ($D$4*VLOOKUP($L40,EnemySkills!$A$4:$K$304,4,FALSE)) +($F$4*VLOOKUP($L40,EnemySkills!$A$4:$K$304,5,FALSE)) +($H$4*VLOOKUP($L40,EnemySkills!$A$4:$K$304,6,FALSE)) +($I$4*VLOOKUP($L40,EnemySkills!$A$4:$K$304,7,FALSE)) )-( (VLOOKUP(AF$30,$A$7:$T$26,16,FALSE)*VLOOKUP($L40,EnemySkills!$A$4:$K$304,8,FALSE)) +(VLOOKUP(AF$30,$A$7:$T$26,18,FALSE)*VLOOKUP($L40,EnemySkills!$A$4:$K$304,9,FALSE)) +(VLOOKUP(AF$30,$A$7:$T$26,19,FALSE)*VLOOKUP($L40,EnemySkills!$A$4:$K$304,10,FALSE)) +(VLOOKUP(AF$30,$A$7:$T$26,20,FALSE)*VLOOKUP($L40,EnemySkills!$A$4:$K$304,11,FALSE)) ),0) -> #N/A
A41: =Skills!A14 -> Flash Bomb | B41: =VLOOKUP($A41,Skills!$A$4:$C$304,2,FALSE) -> Scout | D41: =ROUND(VLOOKUP(A41,Skills!A14:K314,3,FALSE) +((VLOOKUP(B41,$A$7:$T$26,15,FALSE)*VLOOKUP(A41,Skills!$A$4:$K$304,4,FALSE)) +(VLOOKUP(B41,$A$7:$T$26,17,FALSE)*VLOOKUP(A41,Skills!$A$4:$K$304,5,FALSE)) +(VLOOKUP(B41,$A$7:$T$26,19,FALSE)*VLOOKUP(A41,Skills!$A$4:$K$304,6,FALSE)) +(VLOOKUP(B41,$A$7:$T36,20,FALSE)*VLOOKUP(A41,Skills!$A$4:$K$304,7,FALSE))) -(($E$4*VLOOKUP(A41,Skills!$A$4:$K$304,8,FALSE)) +($F$4*VLOOKUP(A41,Skills!$A$4:$K$304,9,FALSE)) +($H$4*VLOOKUP(A41,Skills!$A$4:$K$304,10,FALSE)) +($I$4*VLOOKUP(A41,Skills!$A$4:$K$304,11,FALSE))),0) -> 40 | E41: =ROUND($B$4/D41,1) -> 2.5 | F41: =ROUND(VLOOKUP(A41,Skills!A14:K314,3,FALSE) +(((VLOOKUP(B41,$A$7:$T$26,15,FALSE)*1.2)*VLOOKUP(A41,Skills!$A$4:$K$304,4,FALSE)) +((VLOOKUP(B41,$A$7:$T$26,17,FALSE)*1.2)*VLOOKUP(A41,Skills!$A$4:$K$304,5,FALSE)) +(VLOOKUP(B41,$A$7:$T$26,19,FALSE)*VLOOKUP(A41,Skills!$A$4:$K$304,6,FALSE)) +(VLOOKUP(B41,$A$7:$T36,20,FALSE)*VLOOKUP(A41,Skills!$A$4:$K$304,7,FALSE))) -(($E$4*VLOOKUP(A41,Skills!$A$4:$K$304,8,FALSE)) +($F$4*VLOOKUP(A41,Skills!$A$4:$K$304,9,FALSE)) +($H$4*VLOOKUP(A41,Skills!$A$4:$K$304,10,FALSE)) +($I$4*VLOOKUP(A41,Skills!$A$4:$K$304,11,FALSE))),0) -> 52 | G41: =ROUND(VLOOKUP(A41,Skills!A14:K314,3,FALSE) +(((VLOOKUP(B41,$A$7:$T$26,15,FALSE)*1.4)*VLOOKUP(A41,Skills!$A$4:$K$304,4,FALSE)) +((VLOOKUP(B41,$A$7:$T$26,17,FALSE)*1.4)*VLOOKUP(A41,Skills!$A$4:$K$304,5,FALSE)) +(VLOOKUP(B41,$A$7:$T$26,19,FALSE)*VLOOKUP(A41,Skills!$A$4:$K$304,6,FALSE)) +(VLOOKUP(B41,$A$7:$T36,20,FALSE)*VLOOKUP(A41,Skills!$A$4:$K$304,7,FALSE))) -(($E$4*VLOOKUP(A41,Skills!$A$4:$K$304,8,FALSE)) +($F$4*VLOOKUP(A41,Skills!$A$4:$K$304,9,FALSE)) +($H$4*VLOOKUP(A41,Skills!$A$4:$K$304,10,FALSE)) +($I$4*VLOOKUP(A41,Skills!$A$4:$K$304,11,FALSE))),0) -> 64 | H41: =ROUND(VLOOKUP(A41,Skills!A14:K314,3,FALSE) +((VLOOKUP(B41,$A$7:$T$26,15,FALSE)*VLOOKUP(A41,Skills!$A$4:$K$304,4,FALSE)) +(VLOOKUP(B41,$A$7:$T$26,17,FALSE)*VLOOKUP(A41,Skills!$A$4:$K$304,5,FALSE)) +(VLOOKUP(B41,$A$7:$T$26,19,FALSE)*VLOOKUP(A41,Skills!$A$4:$K$304,6,FALSE)) +(VLOOKUP(B41,$A$7:$T36,20,FALSE)*VLOOKUP(A41,Skills!$A$4:$K$304,7,FALSE))) -((($E$4*1.2)*VLOOKUP(A41,Skills!$A$4:$K$304,8,FALSE)) +(($F$4*1.2)*VLOOKUP(A41,Skills!$A$4:$K$304,9,FALSE)) +($H$4*VLOOKUP(A41,Skills!$A$4:$K$304,10,FALSE)) +($I$4*VLOOKUP(A41,Skills!$A$4:$K$304,11,FALSE))),0) -> 36 | I41: =ROUND(VLOOKUP(A41,Skills!A14:K314,3,FALSE) +((VLOOKUP(B41,$A$7:$T$26,15,FALSE)*VLOOKUP(A41,Skills!$A$4:$K$304,4,FALSE)) +(VLOOKUP(B41,$A$7:$T$26,17,FALSE)*VLOOKUP(A41,Skills!$A$4:$K$304,5,FALSE)) +(VLOOKUP(B41,$A$7:$T$26,19,FALSE)*VLOOKUP(A41,Skills!$A$4:$K$304,6,FALSE)) +(VLOOKUP(B41,$A$7:$T36,20,FALSE)*VLOOKUP(A41,Skills!$A$4:$K$304,7,FALSE))) -((($E$4*1.4)*VLOOKUP(A41,Skills!$A$4:$K$304,8,FALSE)) +(($F$4*1.4)*VLOOKUP(A41,Skills!$A$4:$K$304,9,FALSE)) +($H$4*VLOOKUP(A41,Skills!$A$4:$K$304,10,FALSE)) +($I$4*VLOOKUP(A41,Skills!$A$4:$K$304,11,FALSE))),0) -> 32 | L41: =EnemySkills!A14 -> 0 | M41: =ROUND(VLOOKUP($L41,EnemySkills!$A$4:$K$304,3,FALSE) +( ($D$4*VLOOKUP($L41,EnemySkills!$A$4:$K$304,4,FALSE)) +($F$4*VLOOKUP($L41,EnemySkills!$A$4:$K$304,5,FALSE)) +($H$4*VLOOKUP($L41,EnemySkills!$A$4:$K$304,6,FALSE)) +($I$4*VLOOKUP($L41,EnemySkills!$A$4:$K$304,7,FALSE)) )-( (VLOOKUP(M$30,$A$7:$T$26,16,FALSE)*VLOOKUP($L41,EnemySkills!$A$4:$K$304,8,FALSE)) +(VLOOKUP(M$30,$A$7:$T$26,18,FALSE)*VLOOKUP($L41,EnemySkills!$A$4:$K$304,9,FALSE)) +(VLOOKUP(M$30,$A$7:$T$26,19,FALSE)*VLOOKUP($L41,EnemySkills!$A$4:$K$304,10,FALSE)) +(VLOOKUP(M$30,$A$7:$T$26,20,FALSE)*VLOOKUP($L41,EnemySkills!$A$4:$K$304,11,FALSE)) ),0) -> #N/A | N41: =ROUND(VLOOKUP($L41,EnemySkills!$A$4:$K$304,3,FALSE) +( ($D$4*VLOOKUP($L41,EnemySkills!$A$4:$K$304,4,FALSE)) +($F$4*VLOOKUP($L41,EnemySkills!$A$4:$K$304,5,FALSE)) +($H$4*VLOOKUP($L41,EnemySkills!$A$4:$K$304,6,FALSE)) +($I$4*VLOOKUP($L41,EnemySkills!$A$4:$K$304,7,FALSE)) )-( (VLOOKUP(N$30,$A$7:$T$26,16,FALSE)*VLOOKUP($L41,EnemySkills!$A$4:$K$304,8,FALSE)) +(VLOOKUP(N$30,$A$7:$T$26,18,FALSE)*VLOOKUP($L41,EnemySkills!$A$4:$K$304,9,FALSE)) +(VLOOKUP(N$30,$A$7:$T$26,19,FALSE)*VLOOKUP($L41,EnemySkills!$A$4:$K$304,10,FALSE)) +(VLOOKUP(N$30,$A$7:$T$26,20,FALSE)*VLOOKUP($L41,EnemySkills!$A$4:$K$304,11,FALSE)) ),0) -> #N/A | O41: =ROUND(VLOOKUP($L41,EnemySkills!$A$4:$K$304,3,FALSE) +( ($D$4*VLOOKUP($L41,EnemySkills!$A$4:$K$304,4,FALSE)) +($F$4*VLOOKUP($L41,EnemySkills!$A$4:$K$304,5,FALSE)) +($H$4*VLOOKUP($L41,EnemySkills!$A$4:$K$304,6,FALSE)) +($I$4*VLOOKUP($L41,EnemySkills!$A$4:$K$304,7,FALSE)) )-( (VLOOKUP(O$30,$A$7:$T$26,16,FALSE)*VLOOKUP($L41,EnemySkills!$A$4:$K$304,8,FALSE)) +(VLOOKUP(O$30,$A$7:$T$26,18,FALSE)*VLOOKUP($L41,EnemySkills!$A$4:$K$304,9,FALSE)) +(VLOOKUP(O$30,$A$7:$T$26,19,FALSE)*VLOOKUP($L41,EnemySkills!$A$4:$K$304,10,FALSE)) +(VLOOKUP(O$30,$A$7:$T$26,20,FALSE)*VLOOKUP($L41,EnemySkills!$A$4:$K$304,11,FALSE)) ),0) -> #N/A | P41: =ROUND(VLOOKUP($L41,EnemySkills!$A$4:$K$304,3,FALSE) +( ($D$4*VLOOKUP($L41,EnemySkills!$A$4:$K$304,4,FALSE)) +($F$4*VLOOKUP($L41,EnemySkills!$A$4:$K$304,5,FALSE)) +($H$4*VLOOKUP($L41,EnemySkills!$A$4:$K$304,6,FALSE)) +($I$4*VLOOKUP($L41,EnemySkills!$A$4:$K$304,7,FALSE)) )-( (VLOOKUP(P$30,$A$7:$T$26,16,FALSE)*VLOOKUP($L41,EnemySkills!$A$4:$K$304,8,FALSE)) +(VLOOKUP(P$30,$A$7:$T$26,18,FALSE)*VLOOKUP($L41,EnemySkills!$A$4:$K$304,9,FALSE)) +(VLOOKUP(P$30,$A$7:$T$26,19,FALSE)*VLOOKUP($L41,EnemySkills!$A$4:$K$304,10,FALSE)) +(VLOOKUP(P$30,$A$7:$T$26,20,FALSE)*VLOOKUP($L41,EnemySkills!$A$4:$K$304,11,FALSE)) ),0) -> #N/A | Q41: =ROUND(VLOOKUP($L41,EnemySkills!$A$4:$K$304,3,FALSE) +( ($D$4*VLOOKUP($L41,EnemySkills!$A$4:$K$304,4,FALSE)) +($F$4*VLOOKUP($L41,EnemySkills!$A$4:$K$304,5,FALSE)) +($H$4*VLOOKUP($L41,EnemySkills!$A$4:$K$304,6,FALSE)) +($I$4*VLOOKUP($L41,EnemySkills!$A$4:$K$304,7,FALSE)) )-( (VLOOKUP(Q$30,$A$7:$T$26,16,FALSE)*VLOOKUP($L41,EnemySkills!$A$4:$K$304,8,FALSE)) +(VLOOKUP(Q$30,$A$7:$T$26,18,FALSE)*VLOOKUP($L41,EnemySkills!$A$4:$K$304,9,FALSE)) +(VLOOKUP(Q$30,$A$7:$T$26,19,FALSE)*VLOOKUP($L41,EnemySkills!$A$4:$K$304,10,FALSE)) +(VLOOKUP(Q$30,$A$7:$T$26,20,FALSE)*VLOOKUP($L41,EnemySkills!$A$4:$K$304,11,FALSE)) ),0) -> #N/A | R41: =ROUND(VLOOKUP($L41,EnemySkills!$A$4:$K$304,3,FALSE) +( ($D$4*VLOOKUP($L41,EnemySkills!$A$4:$K$304,4,FALSE)) +($F$4*VLOOKUP($L41,EnemySkills!$A$4:$K$304,5,FALSE)) +($H$4*VLOOKUP($L41,EnemySkills!$A$4:$K$304,6,FALSE)) +($I$4*VLOOKUP($L41,EnemySkills!$A$4:$K$304,7,FALSE)) )-( (VLOOKUP(R$30,$A$7:$T$26,16,FALSE)*VLOOKUP($L41,EnemySkills!$A$4:$K$304,8,FALSE)) +(VLOOKUP(R$30,$A$7:$T$26,18,FALSE)*VLOOKUP($L41,EnemySkills!$A$4:$K$304,9,FALSE)) +(VLOOKUP(R$30,$A$7:$T$26,19,FALSE)*VLOOKUP($L41,EnemySkills!$A$4:$K$304,10,FALSE)) +(VLOOKUP(R$30,$A$7:$T$26,20,FALSE)*VLOOKUP($L41,EnemySkills!$A$4:$K$304,11,FALSE)) ),0) -> #N/A | S41: =ROUND(VLOOKUP($L41,EnemySkills!$A$4:$K$304,3,FALSE) +( ($D$4*VLOOKUP($L41,EnemySkills!$A$4:$K$304,4,FALSE)) +($F$4*VLOOKUP($L41,EnemySkills!$A$4:$K$304,5,FALSE)) +($H$4*VLOOKUP($L41,EnemySkills!$A$4:$K$304,6,FALSE)) +($I$4*VLOOKUP($L41,EnemySkills!$A$4:$K$304,7,FALSE)) )-( (VLOOKUP(S$30,$A$7:$T$26,16,FALSE)*VLOOKUP($L41,EnemySkills!$A$4:$K$304,8,FALSE)) +(VLOOKUP(S$30,$A$7:$T$26,18,FALSE)*VLOOKUP($L41,EnemySkills!$A$4:$K$304,9,FALSE)) +(VLOOKUP(S$30,$A$7:$T$26,19,FALSE)*VLOOKUP($L41,EnemySkills!$A$4:$K$304,10,FALSE)) +(VLOOKUP(S$30,$A$7:$T$26,20,FALSE)*VLOOKUP($L41,EnemySkills!$A$4:$K$304,11,FALSE)) ),0) -> #N/A | T41: =ROUND(VLOOKUP($L41,EnemySkills!$A$4:$K$304,3,FALSE) +( ($D$4*VLOOKUP($L41,EnemySkills!$A$4:$K$304,4,FALSE)) +($F$4*VLOOKUP($L41,EnemySkills!$A$4:$K$304,5,FALSE)) +($H$4*VLOOKUP($L41,EnemySkills!$A$4:$K$304,6,FALSE)) +($I$4*VLOOKUP($L41,EnemySkills!$A$4:$K$304,7,FALSE)) )-( (VLOOKUP(T$30,$A$7:$T$26,16,FALSE)*VLOOKUP($L41,EnemySkills!$A$4:$K$304,8,FALSE)) +(VLOOKUP(T$30,$A$7:$T$26,18,FALSE)*VLOOKUP($L41,EnemySkills!$A$4:$K$304,9,FALSE)) +(VLOOKUP(T$30,$A$7:$T$26,19,FALSE)*VLOOKUP($L41,EnemySkills!$A$4:$K$304,10,FALSE)) +(VLOOKUP(T$30,$A$7:$T$26,20,FALSE)*VLOOKUP($L41,EnemySkills!$A$4:$K$304,11,FALSE)) ),0) -> #N/A | ... AF41: =ROUND(VLOOKUP($L41,EnemySkills!$A$4:$K$304,3,FALSE) +( ($D$4*VLOOKUP($L41,EnemySkills!$A$4:$K$304,4,FALSE)) +($F$4*VLOOKUP($L41,EnemySkills!$A$4:$K$304,5,FALSE)) +($H$4*VLOOKUP($L41,EnemySkills!$A$4:$K$304,6,FALSE)) +($I$4*VLOOKUP($L41,EnemySkills!$A$4:$K$304,7,FALSE)) )-( (VLOOKUP(AF$30,$A$7:$T$26,16,FALSE)*VLOOKUP($L41,EnemySkills!$A$4:$K$304,8,FALSE)) +(VLOOKUP(AF$30,$A$7:$T$26,18,FALSE)*VLOOKUP($L41,EnemySkills!$A$4:$K$304,9,FALSE)) +(VLOOKUP(AF$30,$A$7:$T$26,19,FALSE)*VLOOKUP($L41,EnemySkills!$A$4:$K$304,10,FALSE)) +(VLOOKUP(AF$30,$A$7:$T$26,20,FALSE)*VLOOKUP($L41,EnemySkills!$A$4:$K$304,11,FALSE)) ),0) -> #N/A
A42: =Skills!A15 -> Punch | B42: =VLOOKUP($A42,Skills!$A$4:$C$304,2,FALSE) -> Gryn | D42: =ROUND(VLOOKUP(A42,Skills!A15:K315,3,FALSE) +((VLOOKUP(B42,$A$7:$T$26,15,FALSE)*VLOOKUP(A42,Skills!$A$4:$K$304,4,FALSE)) +(VLOOKUP(B42,$A$7:$T$26,17,FALSE)*VLOOKUP(A42,Skills!$A$4:$K$304,5,FALSE)) +(VLOOKUP(B42,$A$7:$T$26,19,FALSE)*VLOOKUP(A42,Skills!$A$4:$K$304,6,FALSE)) +(VLOOKUP(B42,$A$7:$T37,20,FALSE)*VLOOKUP(A42,Skills!$A$4:$K$304,7,FALSE))) -(($E$4*VLOOKUP(A42,Skills!$A$4:$K$304,8,FALSE)) +($F$4*VLOOKUP(A42,Skills!$A$4:$K$304,9,FALSE)) +($H$4*VLOOKUP(A42,Skills!$A$4:$K$304,10,FALSE)) +($I$4*VLOOKUP(A42,Skills!$A$4:$K$304,11,FALSE))),0) -> 48 | E42: =ROUND($B$4/D42,1) -> 2.1 | F42: =ROUND(VLOOKUP(A42,Skills!A15:K315,3,FALSE) +(((VLOOKUP(B42,$A$7:$T$26,15,FALSE)*1.2)*VLOOKUP(A42,Skills!$A$4:$K$304,4,FALSE)) +((VLOOKUP(B42,$A$7:$T$26,17,FALSE)*1.2)*VLOOKUP(A42,Skills!$A$4:$K$304,5,FALSE)) +(VLOOKUP(B42,$A$7:$T$26,19,FALSE)*VLOOKUP(A42,Skills!$A$4:$K$304,6,FALSE)) +(VLOOKUP(B42,$A$7:$T37,20,FALSE)*VLOOKUP(A42,Skills!$A$4:$K$304,7,FALSE))) -(($E$4*VLOOKUP(A42,Skills!$A$4:$K$304,8,FALSE)) +($F$4*VLOOKUP(A42,Skills!$A$4:$K$304,9,FALSE)) +($H$4*VLOOKUP(A42,Skills!$A$4:$K$304,10,FALSE)) +($I$4*VLOOKUP(A42,Skills!$A$4:$K$304,11,FALSE))),0) -> 62 | G42: =ROUND(VLOOKUP(A42,Skills!A15:K315,3,FALSE) +(((VLOOKUP(B42,$A$7:$T$26,15,FALSE)*1.4)*VLOOKUP(A42,Skills!$A$4:$K$304,4,FALSE)) +((VLOOKUP(B42,$A$7:$T$26,17,FALSE)*1.4)*VLOOKUP(A42,Skills!$A$4:$K$304,5,FALSE)) +(VLOOKUP(B42,$A$7:$T$26,19,FALSE)*VLOOKUP(A42,Skills!$A$4:$K$304,6,FALSE)) +(VLOOKUP(B42,$A$7:$T37,20,FALSE)*VLOOKUP(A42,Skills!$A$4:$K$304,7,FALSE))) -(($E$4*VLOOKUP(A42,Skills!$A$4:$K$304,8,FALSE)) +($F$4*VLOOKUP(A42,Skills!$A$4:$K$304,9,FALSE)) +($H$4*VLOOKUP(A42,Skills!$A$4:$K$304,10,FALSE)) +($I$4*VLOOKUP(A42,Skills!$A$4:$K$304,11,FALSE))),0) -> 75 | H42: =ROUND(VLOOKUP(A42,Skills!A15:K315,3,FALSE) +((VLOOKUP(B42,$A$7:$T$26,15,FALSE)*VLOOKUP(A42,Skills!$A$4:$K$304,4,FALSE)) +(VLOOKUP(B42,$A$7:$T$26,17,FALSE)*VLOOKUP(A42,Skills!$A$4:$K$304,5,FALSE)) +(VLOOKUP(B42,$A$7:$T$26,19,FALSE)*VLOOKUP(A42,Skills!$A$4:$K$304,6,FALSE)) +(VLOOKUP(B42,$A$7:$T37,20,FALSE)*VLOOKUP(A42,Skills!$A$4:$K$304,7,FALSE))) -((($E$4*1.2)*VLOOKUP(A42,Skills!$A$4:$K$304,8,FALSE)) +(($F$4*1.2)*VLOOKUP(A42,Skills!$A$4:$K$304,9,FALSE)) +($H$4*VLOOKUP(A42,Skills!$A$4:$K$304,10,FALSE)) +($I$4*VLOOKUP(A42,Skills!$A$4:$K$304,11,FALSE))),0) -> 44 | I42: =ROUND(VLOOKUP(A42,Skills!A15:K315,3,FALSE) +((VLOOKUP(B42,$A$7:$T$26,15,FALSE)*VLOOKUP(A42,Skills!$A$4:$K$304,4,FALSE)) +(VLOOKUP(B42,$A$7:$T$26,17,FALSE)*VLOOKUP(A42,Skills!$A$4:$K$304,5,FALSE)) +(VLOOKUP(B42,$A$7:$T$26,19,FALSE)*VLOOKUP(A42,Skills!$A$4:$K$304,6,FALSE)) +(VLOOKUP(B42,$A$7:$T37,20,FALSE)*VLOOKUP(A42,Skills!$A$4:$K$304,7,FALSE))) -((($E$4*1.4)*VLOOKUP(A42,Skills!$A$4:$K$304,8,FALSE)) +(($F$4*1.4)*VLOOKUP(A42,Skills!$A$4:$K$304,9,FALSE)) +($H$4*VLOOKUP(A42,Skills!$A$4:$K$304,10,FALSE)) +($I$4*VLOOKUP(A42,Skills!$A$4:$K$304,11,FALSE))),0) -> 40 | L42: =EnemySkills!A15 -> 0 | M42: =ROUND(VLOOKUP($L42,EnemySkills!$A$4:$K$304,3,FALSE) +( ($D$4*VLOOKUP($L42,EnemySkills!$A$4:$K$304,4,FALSE)) +($F$4*VLOOKUP($L42,EnemySkills!$A$4:$K$304,5,FALSE)) +($H$4*VLOOKUP($L42,EnemySkills!$A$4:$K$304,6,FALSE)) +($I$4*VLOOKUP($L42,EnemySkills!$A$4:$K$304,7,FALSE)) )-( (VLOOKUP(M$30,$A$7:$T$26,16,FALSE)*VLOOKUP($L42,EnemySkills!$A$4:$K$304,8,FALSE)) +(VLOOKUP(M$30,$A$7:$T$26,18,FALSE)*VLOOKUP($L42,EnemySkills!$A$4:$K$304,9,FALSE)) +(VLOOKUP(M$30,$A$7:$T$26,19,FALSE)*VLOOKUP($L42,EnemySkills!$A$4:$K$304,10,FALSE)) +(VLOOKUP(M$30,$A$7:$T$26,20,FALSE)*VLOOKUP($L42,EnemySkills!$A$4:$K$304,11,FALSE)) ),0) -> #N/A | N42: =ROUND(VLOOKUP($L42,EnemySkills!$A$4:$K$304,3,FALSE) +( ($D$4*VLOOKUP($L42,EnemySkills!$A$4:$K$304,4,FALSE)) +($F$4*VLOOKUP($L42,EnemySkills!$A$4:$K$304,5,FALSE)) +($H$4*VLOOKUP($L42,EnemySkills!$A$4:$K$304,6,FALSE)) +($I$4*VLOOKUP($L42,EnemySkills!$A$4:$K$304,7,FALSE)) )-( (VLOOKUP(N$30,$A$7:$T$26,16,FALSE)*VLOOKUP($L42,EnemySkills!$A$4:$K$304,8,FALSE)) +(VLOOKUP(N$30,$A$7:$T$26,18,FALSE)*VLOOKUP($L42,EnemySkills!$A$4:$K$304,9,FALSE)) +(VLOOKUP(N$30,$A$7:$T$26,19,FALSE)*VLOOKUP($L42,EnemySkills!$A$4:$K$304,10,FALSE)) +(VLOOKUP(N$30,$A$7:$T$26,20,FALSE)*VLOOKUP($L42,EnemySkills!$A$4:$K$304,11,FALSE)) ),0) -> #N/A | O42: =ROUND(VLOOKUP($L42,EnemySkills!$A$4:$K$304,3,FALSE) +( ($D$4*VLOOKUP($L42,EnemySkills!$A$4:$K$304,4,FALSE)) +($F$4*VLOOKUP($L42,EnemySkills!$A$4:$K$304,5,FALSE)) +($H$4*VLOOKUP($L42,EnemySkills!$A$4:$K$304,6,FALSE)) +($I$4*VLOOKUP($L42,EnemySkills!$A$4:$K$304,7,FALSE)) )-( (VLOOKUP(O$30,$A$7:$T$26,16,FALSE)*VLOOKUP($L42,EnemySkills!$A$4:$K$304,8,FALSE)) +(VLOOKUP(O$30,$A$7:$T$26,18,FALSE)*VLOOKUP($L42,EnemySkills!$A$4:$K$304,9,FALSE)) +(VLOOKUP(O$30,$A$7:$T$26,19,FALSE)*VLOOKUP($L42,EnemySkills!$A$4:$K$304,10,FALSE)) +(VLOOKUP(O$30,$A$7:$T$26,20,FALSE)*VLOOKUP($L42,EnemySkills!$A$4:$K$304,11,FALSE)) ),0) -> #N/A | P42: =ROUND(VLOOKUP($L42,EnemySkills!$A$4:$K$304,3,FALSE) +( ($D$4*VLOOKUP($L42,EnemySkills!$A$4:$K$304,4,FALSE)) +($F$4*VLOOKUP($L42,EnemySkills!$A$4:$K$304,5,FALSE)) +($H$4*VLOOKUP($L42,EnemySkills!$A$4:$K$304,6,FALSE)) +($I$4*VLOOKUP($L42,EnemySkills!$A$4:$K$304,7,FALSE)) )-( (VLOOKUP(P$30,$A$7:$T$26,16,FALSE)*VLOOKUP($L42,EnemySkills!$A$4:$K$304,8,FALSE)) +(VLOOKUP(P$30,$A$7:$T$26,18,FALSE)*VLOOKUP($L42,EnemySkills!$A$4:$K$304,9,FALSE)) +(VLOOKUP(P$30,$A$7:$T$26,19,FALSE)*VLOOKUP($L42,EnemySkills!$A$4:$K$304,10,FALSE)) +(VLOOKUP(P$30,$A$7:$T$26,20,FALSE)*VLOOKUP($L42,EnemySkills!$A$4:$K$304,11,FALSE)) ),0) -> #N/A | Q42: =ROUND(VLOOKUP($L42,EnemySkills!$A$4:$K$304,3,FALSE) +( ($D$4*VLOOKUP($L42,EnemySkills!$A$4:$K$304,4,FALSE)) +($F$4*VLOOKUP($L42,EnemySkills!$A$4:$K$304,5,FALSE)) +($H$4*VLOOKUP($L42,EnemySkills!$A$4:$K$304,6,FALSE)) +($I$4*VLOOKUP($L42,EnemySkills!$A$4:$K$304,7,FALSE)) )-( (VLOOKUP(Q$30,$A$7:$T$26,16,FALSE)*VLOOKUP($L42,EnemySkills!$A$4:$K$304,8,FALSE)) +(VLOOKUP(Q$30,$A$7:$T$26,18,FALSE)*VLOOKUP($L42,EnemySkills!$A$4:$K$304,9,FALSE)) +(VLOOKUP(Q$30,$A$7:$T$26,19,FALSE)*VLOOKUP($L42,EnemySkills!$A$4:$K$304,10,FALSE)) +(VLOOKUP(Q$30,$A$7:$T$26,20,FALSE)*VLOOKUP($L42,EnemySkills!$A$4:$K$304,11,FALSE)) ),0) -> #N/A | R42: =ROUND(VLOOKUP($L42,EnemySkills!$A$4:$K$304,3,FALSE) +( ($D$4*VLOOKUP($L42,EnemySkills!$A$4:$K$304,4,FALSE)) +($F$4*VLOOKUP($L42,EnemySkills!$A$4:$K$304,5,FALSE)) +($H$4*VLOOKUP($L42,EnemySkills!$A$4:$K$304,6,FALSE)) +($I$4*VLOOKUP($L42,EnemySkills!$A$4:$K$304,7,FALSE)) )-( (VLOOKUP(R$30,$A$7:$T$26,16,FALSE)*VLOOKUP($L42,EnemySkills!$A$4:$K$304,8,FALSE)) +(VLOOKUP(R$30,$A$7:$T$26,18,FALSE)*VLOOKUP($L42,EnemySkills!$A$4:$K$304,9,FALSE)) +(VLOOKUP(R$30,$A$7:$T$26,19,FALSE)*VLOOKUP($L42,EnemySkills!$A$4:$K$304,10,FALSE)) +(VLOOKUP(R$30,$A$7:$T$26,20,FALSE)*VLOOKUP($L42,EnemySkills!$A$4:$K$304,11,FALSE)) ),0) -> #N/A | S42: =ROUND(VLOOKUP($L42,EnemySkills!$A$4:$K$304,3,FALSE) +( ($D$4*VLOOKUP($L42,EnemySkills!$A$4:$K$304,4,FALSE)) +($F$4*VLOOKUP($L42,EnemySkills!$A$4:$K$304,5,FALSE)) +($H$4*VLOOKUP($L42,EnemySkills!$A$4:$K$304,6,FALSE)) +($I$4*VLOOKUP($L42,EnemySkills!$A$4:$K$304,7,FALSE)) )-( (VLOOKUP(S$30,$A$7:$T$26,16,FALSE)*VLOOKUP($L42,EnemySkills!$A$4:$K$304,8,FALSE)) +(VLOOKUP(S$30,$A$7:$T$26,18,FALSE)*VLOOKUP($L42,EnemySkills!$A$4:$K$304,9,FALSE)) +(VLOOKUP(S$30,$A$7:$T$26,19,FALSE)*VLOOKUP($L42,EnemySkills!$A$4:$K$304,10,FALSE)) +(VLOOKUP(S$30,$A$7:$T$26,20,FALSE)*VLOOKUP($L42,EnemySkills!$A$4:$K$304,11,FALSE)) ),0) -> #N/A | T42: =ROUND(VLOOKUP($L42,EnemySkills!$A$4:$K$304,3,FALSE) +( ($D$4*VLOOKUP($L42,EnemySkills!$A$4:$K$304,4,FALSE)) +($F$4*VLOOKUP($L42,EnemySkills!$A$4:$K$304,5,FALSE)) +($H$4*VLOOKUP($L42,EnemySkills!$A$4:$K$304,6,FALSE)) +($I$4*VLOOKUP($L42,EnemySkills!$A$4:$K$304,7,FALSE)) )-( (VLOOKUP(T$30,$A$7:$T$26,16,FALSE)*VLOOKUP($L42,EnemySkills!$A$4:$K$304,8,FALSE)) +(VLOOKUP(T$30,$A$7:$T$26,18,FALSE)*VLOOKUP($L42,EnemySkills!$A$4:$K$304,9,FALSE)) +(VLOOKUP(T$30,$A$7:$T$26,19,FALSE)*VLOOKUP($L42,EnemySkills!$A$4:$K$304,10,FALSE)) +(VLOOKUP(T$30,$A$7:$T$26,20,FALSE)*VLOOKUP($L42,EnemySkills!$A$4:$K$304,11,FALSE)) ),0) -> #N/A | ... AF42: =ROUND(VLOOKUP($L42,EnemySkills!$A$4:$K$304,3,FALSE) +( ($D$4*VLOOKUP($L42,EnemySkills!$A$4:$K$304,4,FALSE)) +($F$4*VLOOKUP($L42,EnemySkills!$A$4:$K$304,5,FALSE)) +($H$4*VLOOKUP($L42,EnemySkills!$A$4:$K$304,6,FALSE)) +($I$4*VLOOKUP($L42,EnemySkills!$A$4:$K$304,7,FALSE)) )-( (VLOOKUP(AF$30,$A$7:$T$26,16,FALSE)*VLOOKUP($L42,EnemySkills!$A$4:$K$304,8,FALSE)) +(VLOOKUP(AF$30,$A$7:$T$26,18,FALSE)*VLOOKUP($L42,EnemySkills!$A$4:$K$304,9,FALSE)) +(VLOOKUP(AF$30,$A$7:$T$26,19,FALSE)*VLOOKUP($L42,EnemySkills!$A$4:$K$304,10,FALSE)) +(VLOOKUP(AF$30,$A$7:$T$26,20,FALSE)*VLOOKUP($L42,EnemySkills!$A$4:$K$304,11,FALSE)) ),0) -> #N/A
... A130: =Skills!A103 -> 0 | B130: =VLOOKUP($A130,Skills!$A$4:$C$304,2,FALSE) -> #N/A | D130: =ROUND(VLOOKUP(A130,Skills!A103:K403,3,FALSE) +((VLOOKUP(B130,$A$7:$T$26,15,FALSE)*VLOOKUP(A130,Skills!$A$4:$K$304,4,FALSE)) +(VLOOKUP(B130,$A$7:$T$26,17,FALSE)*VLOOKUP(A130,Skills!$A$4:$K$304,5,FALSE)) +(VLOOKUP(B130,$A$7:$T$26,19,FALSE)*VLOOKUP(A130,Skills!$A$4:$K$304,6,FALSE)) +(VLOOKUP(B130,$A$7:$T125,20,FALSE)*VLOOKUP(A130,Skills!$A$4:$K$304,7,FALSE))) -(($E$4*VLOOKUP(A130,Skills!$A$4:$K$304,8,FALSE)) +($F$4*VLOOKUP(A130,Skills!$A$4:$K$304,9,FALSE)) +($H$4*VLOOKUP(A130,Skills!$A$4:$K$304,10,FALSE)) +($I$4*VLOOKUP(A130,Skills!$A$4:$K$304,11,FALSE))),0) -> #N/A | E130: =ROUND($B$4/D130,1) -> #N/A | F130: =ROUND(VLOOKUP(A130,Skills!A103:K403,3,FALSE) +(((VLOOKUP(B130,$A$7:$T$26,15,FALSE)*1.2)*VLOOKUP(A130,Skills!$A$4:$K$304,4,FALSE)) +((VLOOKUP(B130,$A$7:$T$26,17,FALSE)*1.2)*VLOOKUP(A130,Skills!$A$4:$K$304,5,FALSE)) +(VLOOKUP(B130,$A$7:$T$26,19,FALSE)*VLOOKUP(A130,Skills!$A$4:$K$304,6,FALSE)) +(VLOOKUP(B130,$A$7:$T125,20,FALSE)*VLOOKUP(A130,Skills!$A$4:$K$304,7,FALSE))) -(($E$4*VLOOKUP(A130,Skills!$A$4:$K$304,8,FALSE)) +($F$4*VLOOKUP(A130,Skills!$A$4:$K$304,9,FALSE)) +($H$4*VLOOKUP(A130,Skills!$A$4:$K$304,10,FALSE)) +($I$4*VLOOKUP(A130,Skills!$A$4:$K$304,11,FALSE))),0) -> #N/A | G130: =ROUND(VLOOKUP(A130,Skills!A103:K403,3,FALSE) +(((VLOOKUP(B130,$A$7:$T$26,15,FALSE)*1.4)*VLOOKUP(A130,Skills!$A$4:$K$304,4,FALSE)) +((VLOOKUP(B130,$A$7:$T$26,17,FALSE)*1.4)*VLOOKUP(A130,Skills!$A$4:$K$304,5,FALSE)) +(VLOOKUP(B130,$A$7:$T$26,19,FALSE)*VLOOKUP(A130,Skills!$A$4:$K$304,6,FALSE)) +(VLOOKUP(B130,$A$7:$T125,20,FALSE)*VLOOKUP(A130,Skills!$A$4:$K$304,7,FALSE))) -(($E$4*VLOOKUP(A130,Skills!$A$4:$K$304,8,FALSE)) +($F$4*VLOOKUP(A130,Skills!$A$4:$K$304,9,FALSE)) +($H$4*VLOOKUP(A130,Skills!$A$4:$K$304,10,FALSE)) +($I$4*VLOOKUP(A130,Skills!$A$4:$K$304,11,FALSE))),0) -> #N/A | H130: =ROUND(VLOOKUP(A130,Skills!A103:K403,3,FALSE) +((VLOOKUP(B130,$A$7:$T$26,15,FALSE)*VLOOKUP(A130,Skills!$A$4:$K$304,4,FALSE)) +(VLOOKUP(B130,$A$7:$T$26,17,FALSE)*VLOOKUP(A130,Skills!$A$4:$K$304,5,FALSE)) +(VLOOKUP(B130,$A$7:$T$26,19,FALSE)*VLOOKUP(A130,Skills!$A$4:$K$304,6,FALSE)) +(VLOOKUP(B130,$A$7:$T125,20,FALSE)*VLOOKUP(A130,Skills!$A$4:$K$304,7,FALSE))) -((($E$4*1.2)*VLOOKUP(A130,Skills!$A$4:$K$304,8,FALSE)) +(($F$4*1.2)*VLOOKUP(A130,Skills!$A$4:$K$304,9,FALSE)) +($H$4*VLOOKUP(A130,Skills!$A$4:$K$304,10,FALSE)) +($I$4*VLOOKUP(A130,Skills!$A$4:$K$304,11,FALSE))),0) -> #N/A | I130: =ROUND(VLOOKUP(A130,Skills!A103:K403,3,FALSE) +((VLOOKUP(B130,$A$7:$T$26,15,FALSE)*VLOOKUP(A130,Skills!$A$4:$K$304,4,FALSE)) +(VLOOKUP(B130,$A$7:$T$26,17,FALSE)*VLOOKUP(A130,Skills!$A$4:$K$304,5,FALSE)) +(VLOOKUP(B130,$A$7:$T$26,19,FALSE)*VLOOKUP(A130,Skills!$A$4:$K$304,6,FALSE)) +(VLOOKUP(B130,$A$7:$T125,20,FALSE)*VLOOKUP(A130,Skills!$A$4:$K$304,7,FALSE))) -((($E$4*1.4)*VLOOKUP(A130,Skills!$A$4:$K$304,8,FALSE)) +(($F$4*1.4)*VLOOKUP(A130,Skills!$A$4:$K$304,9,FALSE)) +($H$4*VLOOKUP(A130,Skills!$A$4:$K$304,10,FALSE)) +($I$4*VLOOKUP(A130,Skills!$A$4:$K$304,11,FALSE))),0) -> #N/A | L130: =EnemySkills!A103 -> 0 | M130: =ROUND(VLOOKUP($L130,EnemySkills!$A$4:$K$304,3,FALSE) +( ($D$4*VLOOKUP($L130,EnemySkills!$A$4:$K$304,4,FALSE)) +($F$4*VLOOKUP($L130,EnemySkills!$A$4:$K$304,5,FALSE)) +($H$4*VLOOKUP($L130,EnemySkills!$A$4:$K$304,6,FALSE)) +($I$4*VLOOKUP($L130,EnemySkills!$A$4:$K$304,7,FALSE)) )-( (VLOOKUP(M$30,$A$7:$T$26,16,FALSE)*VLOOKUP($L130,EnemySkills!$A$4:$K$304,8,FALSE)) +(VLOOKUP(M$30,$A$7:$T$26,18,FALSE)*VLOOKUP($L130,EnemySkills!$A$4:$K$304,9,FALSE)) +(VLOOKUP(M$30,$A$7:$T$26,19,FALSE)*VLOOKUP($L130,EnemySkills!$A$4:$K$304,10,FALSE)) +(VLOOKUP(M$30,$A$7:$T$26,20,FALSE)*VLOOKUP($L130,EnemySkills!$A$4:$K$304,11,FALSE)) ),0) -> #N/A | N130: =ROUND(VLOOKUP($L130,EnemySkills!$A$4:$K$304,3,FALSE) +( ($D$4*VLOOKUP($L130,EnemySkills!$A$4:$K$304,4,FALSE)) +($F$4*VLOOKUP($L130,EnemySkills!$A$4:$K$304,5,FALSE)) +($H$4*VLOOKUP($L130,EnemySkills!$A$4:$K$304,6,FALSE)) +($I$4*VLOOKUP($L130,EnemySkills!$A$4:$K$304,7,FALSE)) )-( (VLOOKUP(N$30,$A$7:$T$26,16,FALSE)*VLOOKUP($L130,EnemySkills!$A$4:$K$304,8,FALSE)) +(VLOOKUP(N$30,$A$7:$T$26,18,FALSE)*VLOOKUP($L130,EnemySkills!$A$4:$K$304,9,FALSE)) +(VLOOKUP(N$30,$A$7:$T$26,19,FALSE)*VLOOKUP($L130,EnemySkills!$A$4:$K$304,10,FALSE)) +(VLOOKUP(N$30,$A$7:$T$26,20,FALSE)*VLOOKUP($L130,EnemySkills!$A$4:$K$304,11,FALSE)) ),0) -> #N/A | O130: =ROUND(VLOOKUP($L130,EnemySkills!$A$4:$K$304,3,FALSE) +( ($D$4*VLOOKUP($L130,EnemySkills!$A$4:$K$304,4,FALSE)) +($F$4*VLOOKUP($L130,EnemySkills!$A$4:$K$304,5,FALSE)) +($H$4*VLOOKUP($L130,EnemySkills!$A$4:$K$304,6,FALSE)) +($I$4*VLOOKUP($L130,EnemySkills!$A$4:$K$304,7,FALSE)) )-( (VLOOKUP(O$30,$A$7:$T$26,16,FALSE)*VLOOKUP($L130,EnemySkills!$A$4:$K$304,8,FALSE)) +(VLOOKUP(O$30,$A$7:$T$26,18,FALSE)*VLOOKUP($L130,EnemySkills!$A$4:$K$304,9,FALSE)) +(VLOOKUP(O$30,$A$7:$T$26,19,FALSE)*VLOOKUP($L130,EnemySkills!$A$4:$K$304,10,FALSE)) +(VLOOKUP(O$30,$A$7:$T$26,20,FALSE)*VLOOKUP($L130,EnemySkills!$A$4:$K$304,11,FALSE)) ),0) -> #N/A | P130: =ROUND(VLOOKUP($L130,EnemySkills!$A$4:$K$304,3,FALSE) +( ($D$4*VLOOKUP($L130,EnemySkills!$A$4:$K$304,4,FALSE)) +($F$4*VLOOKUP($L130,EnemySkills!$A$4:$K$304,5,FALSE)) +($H$4*VLOOKUP($L130,EnemySkills!$A$4:$K$304,6,FALSE)) +($I$4*VLOOKUP($L130,EnemySkills!$A$4:$K$304,7,FALSE)) )-( (VLOOKUP(P$30,$A$7:$T$26,16,FALSE)*VLOOKUP($L130,EnemySkills!$A$4:$K$304,8,FALSE)) +(VLOOKUP(P$30,$A$7:$T$26,18,FALSE)*VLOOKUP($L130,EnemySkills!$A$4:$K$304,9,FALSE)) +(VLOOKUP(P$30,$A$7:$T$26,19,FALSE)*VLOOKUP($L130,EnemySkills!$A$4:$K$304,10,FALSE)) +(VLOOKUP(P$30,$A$7:$T$26,20,FALSE)*VLOOKUP($L130,EnemySkills!$A$4:$K$304,11,FALSE)) ),0) -> #N/A | Q130: =ROUND(VLOOKUP($L130,EnemySkills!$A$4:$K$304,3,FALSE) +( ($D$4*VLOOKUP($L130,EnemySkills!$A$4:$K$304,4,FALSE)) +($F$4*VLOOKUP($L130,EnemySkills!$A$4:$K$304,5,FALSE)) +($H$4*VLOOKUP($L130,EnemySkills!$A$4:$K$304,6,FALSE)) +($I$4*VLOOKUP($L130,EnemySkills!$A$4:$K$304,7,FALSE)) )-( (VLOOKUP(Q$30,$A$7:$T$26,16,FALSE)*VLOOKUP($L130,EnemySkills!$A$4:$K$304,8,FALSE)) +(VLOOKUP(Q$30,$A$7:$T$26,18,FALSE)*VLOOKUP($L130,EnemySkills!$A$4:$K$304,9,FALSE)) +(VLOOKUP(Q$30,$A$7:$T$26,19,FALSE)*VLOOKUP($L130,EnemySkills!$A$4:$K$304,10,FALSE)) +(VLOOKUP(Q$30,$A$7:$T$26,20,FALSE)*VLOOKUP($L130,EnemySkills!$A$4:$K$304,11,FALSE)) ),0) -> #N/A | R130: =ROUND(VLOOKUP($L130,EnemySkills!$A$4:$K$304,3,FALSE) +( ($D$4*VLOOKUP($L130,EnemySkills!$A$4:$K$304,4,FALSE)) +($F$4*VLOOKUP($L130,EnemySkills!$A$4:$K$304,5,FALSE)) +($H$4*VLOOKUP($L130,EnemySkills!$A$4:$K$304,6,FALSE)) +($I$4*VLOOKUP($L130,EnemySkills!$A$4:$K$304,7,FALSE)) )-( (VLOOKUP(R$30,$A$7:$T$26,16,FALSE)*VLOOKUP($L130,EnemySkills!$A$4:$K$304,8,FALSE)) +(VLOOKUP(R$30,$A$7:$T$26,18,FALSE)*VLOOKUP($L130,EnemySkills!$A$4:$K$304,9,FALSE)) +(VLOOKUP(R$30,$A$7:$T$26,19,FALSE)*VLOOKUP($L130,EnemySkills!$A$4:$K$304,10,FALSE)) +(VLOOKUP(R$30,$A$7:$T$26,20,FALSE)*VLOOKUP($L130,EnemySkills!$A$4:$K$304,11,FALSE)) ),0) -> #N/A | S130: =ROUND(VLOOKUP($L130,EnemySkills!$A$4:$K$304,3,FALSE) +( ($D$4*VLOOKUP($L130,EnemySkills!$A$4:$K$304,4,FALSE)) +($F$4*VLOOKUP($L130,EnemySkills!$A$4:$K$304,5,FALSE)) +($H$4*VLOOKUP($L130,EnemySkills!$A$4:$K$304,6,FALSE)) +($I$4*VLOOKUP($L130,EnemySkills!$A$4:$K$304,7,FALSE)) )-( (VLOOKUP(S$30,$A$7:$T$26,16,FALSE)*VLOOKUP($L130,EnemySkills!$A$4:$K$304,8,FALSE)) +(VLOOKUP(S$30,$A$7:$T$26,18,FALSE)*VLOOKUP($L130,EnemySkills!$A$4:$K$304,9,FALSE)) +(VLOOKUP(S$30,$A$7:$T$26,19,FALSE)*VLOOKUP($L130,EnemySkills!$A$4:$K$304,10,FALSE)) +(VLOOKUP(S$30,$A$7:$T$26,20,FALSE)*VLOOKUP($L130,EnemySkills!$A$4:$K$304,11,FALSE)) ),0) -> #N/A | T130: =ROUND(VLOOKUP($L130,EnemySkills!$A$4:$K$304,3,FALSE) +( ($D$4*VLOOKUP($L130,EnemySkills!$A$4:$K$304,4,FALSE)) +($F$4*VLOOKUP($L130,EnemySkills!$A$4:$K$304,5,FALSE)) +($H$4*VLOOKUP($L130,EnemySkills!$A$4:$K$304,6,FALSE)) +($I$4*VLOOKUP($L130,EnemySkills!$A$4:$K$304,7,FALSE)) )-( (VLOOKUP(T$30,$A$7:$T$26,16,FALSE)*VLOOKUP($L130,EnemySkills!$A$4:$K$304,8,FALSE)) +(VLOOKUP(T$30,$A$7:$T$26,18,FALSE)*VLOOKUP($L130,EnemySkills!$A$4:$K$304,9,FALSE)) +(VLOOKUP(T$30,$A$7:$T$26,19,FALSE)*VLOOKUP($L130,EnemySkills!$A$4:$K$304,10,FALSE)) +(VLOOKUP(T$30,$A$7:$T$26,20,FALSE)*VLOOKUP($L130,EnemySkills!$A$4:$K$304,11,FALSE)) ),0) -> #N/A | ... AF130: =ROUND(VLOOKUP($L130,EnemySkills!$A$4:$K$304,3,FALSE) +( ($D$4*VLOOKUP($L130,EnemySkills!$A$4:$K$304,4,FALSE)) +($F$4*VLOOKUP($L130,EnemySkills!$A$4:$K$304,5,FALSE)) +($H$4*VLOOKUP($L130,EnemySkills!$A$4:$K$304,6,FALSE)) +($I$4*VLOOKUP($L130,EnemySkills!$A$4:$K$304,7,FALSE)) )-( (VLOOKUP(AF$30,$A$7:$T$26,16,FALSE)*VLOOKUP($L130,EnemySkills!$A$4:$K$304,8,FALSE)) +(VLOOKUP(AF$30,$A$7:$T$26,18,FALSE)*VLOOKUP($L130,EnemySkills!$A$4:$K$304,9,FALSE)) +(VLOOKUP(AF$30,$A$7:$T$26,19,FALSE)*VLOOKUP($L130,EnemySkills!$A$4:$K$304,10,FALSE)) +(VLOOKUP(AF$30,$A$7:$T$26,20,FALSE)*VLOOKUP($L130,EnemySkills!$A$4:$K$304,11,FALSE)) ),0) -> #N/A

Sheet Equipment
A1: Equipment
A3: Equipment | B3: HP | C3: MP | D3: ATT | E3: DEF | F3: MAT | G3: MDF | H3: AGI | I3: LUK | J3: Type
A4: (None) | B4: 0 | C4: 0 | D4: 0 | E4: 0 | F4: 0 | G4: 0 | H4: 0 | I4: 0 | J4: (None)
A5: Rusted Sword | B5: 0 | C5: 0 | D5: 9 | E5: 0 | F5: 2 | G5: 0 | H5: 3 | I5: 0 | J5: Weapon
A6: Reforged Sword | B6: 0 | C6: 0 | D6: 0 | E6: 0 | F6: 0 | G6: 0 | H6: 0 | I6: 0 | J6: Weapon
A7: Tattered Spellbook | B7: 0 | C7: 5 | D7: 2 | E7: 0 | F7: 5 | G7: 0 | H7: 1 | I7: 2 | J7: Weapon
A8: Restored Spellbook | B8: 0 | C8: 0 | D8: 0 | E8: 0 | F8: 0 | G8: 0 | H8: 0 | I8: 0 | J8: Weapon
A9: Rickety Bow | B9: 0 | C9: 0 | D9: 5 | E9: 0 | F9: 2 | G9: 0 | H9: 5 | I9: 3 | J9: Weapon
A10: Reinforced Bow | B10: 0 | C10: 0 | D10: 0 | E10: 0 | F10: 0 | G10: 0 | H10: 0 | I10: 0 | J10: Weapon
A11: Spiked Glove | B11: 0 | C11: 0 | D11: 7 | E11: 2 | F11: 0 | G11: 0 | H11: 3 | I11: 4 | J11: Weapon
A12: Longsword | B12: 0 | C12: 0 | D12: 20 | E12: 0 | F12: 10 | G12: 0 | H12: 0 | I12: 0 | J12: Weapon
A13: Tattered Robes | B13: 10 | C13: 30 | D13: 0 | E13: 3 | F13: 0 | G13: 7 | H13: 3 | I13: 4 | J13: Armor
A14: Worn Leather | B14: 20 | C14: 5 | D14: 0 | E14: 6 | F14: 0 | G14: 3 | H14: 3 | I14: 4 | J14: Armor
A15: Rusted Mail | B15: 40 | C15: 0 | D15: 0 | E15: 10 | F15: 0 | G15: 4 | H15: 1 | I15: 2 | J15: Armor
... A19: Lute | B19: 0 | C19: 10 | D19: 0 | E19: 0 | F19: 5 | G19: 0 | H19: 0 | I19: 0 | J19: Off Hand
B20: 0 | C20: 0 | D20: 0 | E20: 0 | F20: 0 | G20: 0 | H20: 0 | I20: 0
B21: 0 | C21: 0 | D21: 0 | E21: 0 | F21: 0 | G21: 0 | H21: 0 | I21: 0
B22: 0 | C22: 0 | D22: 0 | E22: 0 | F22: 0 | G22: 0 | H22: 0 | I22: 0
B23: 0 | C23: 0 | D23: 0 | E23: 0 | F23: 0 | G23: 0 | H23: 0 | I23: 0
B24: 0 | C24: 0 | D24: 0 | E24: 0 | F24: 0 | G24: 0 | H24: 0 | I24: 0
B25: 0 | C25: 0 | D25: 0 | E25: 0 | F25: 0 | G25: 0 | H25: 0 | I25: 0
B26: 0 | C26: 0 | D26: 0 | E26: 0 | F26: 0 | G26: 0 | H26: 0 | I26: 0
B27: 0 | C27: 0 | D27: 0 | E27: 0 | F27: 0 | G27: 0 | H27: 0 | I27: 0
B28: 0 | C28: 0 | D28: 0 | E28: 0 | F28: 0 | G28: 0 | H28: 0 | I28: 0
B29: 0 | C29: 0 | D29: 0 | E29: 0 | F29: 0 | G29: 0 | H29: 0 | I29: 0
B30: 0 | C30: 0 | D30: 0 | E30: 0 | F30: 0 | G30: 0 | H30: 0 | I30: 0
B31: 0 | C31: 0 | D31: 0 | E31: 0 | F31: 0 | G31: 0 | H31: 0 | I31: 0
... B56: 0 | C56: 0 | D56: 0 | E56: 0 | F56: 0 | G56: 0 | H56: 0 | I56: 0

Sheet Skills
A1: Skills
D2: Damage Stats | H2: Defense Stats
A3: Skill | B3: Character | C3: Bonus | D3: Att | E3: Mat | F3: Agi | G3: Luk | H3: Def | I3: Mdf | J3: Agi | K3: Luk | L3: Damage Formula
A4: Slash (Soldier) | B4: Soldier | C4: 0 | D4: 3 | E4: 0 | F4: 0 | G4: 0 | H4: 2 | I4: 0 | J4: 0 | K4: 0 | L4: =CONCATENATE(IF(C4=0,"",CONCATENATE(C4,"+")),"(",IF(D4=0,"",CONCATENATE("+(a.att*",D4,")")),IF(E4=0,"",CONCATENATE("+(a.mat*",E4,")")),IF(F4=0,"",CONCATENATE("+(a.agi*",F4,")")),IF(G4=0,"",CONCATENATE("+(a.luk*",G4,")")),")-(",IF(H4=0,"",CONCATENATE("+(b.def*",H4,")")),IF(I4=0,"",CONCATENATE("+(b.mdf*",I4,")")),IF(J4=0,"",CONCATENATE("+(b.agi*",J4,")")),IF(K4=0,"",CONCATENATE("+(b.luk*",K4,")")),")") -> (+(a.att*3))-(+(b.def*2))
A5: Jagged Slash | B5: Soldier | C5: 0 | D5: 3 | E5: 0 | F5: 0 | G5: 0 | H5: 2 | I5: 0 | J5: 0 | K5: 0 | L5: =CONCATENATE(IF(C5=0,"",CONCATENATE(C5,"+")),"(",IF(D5=0,"",CONCATENATE("+(a.att*",D5,")")),IF(E5=0,"",CONCATENATE("+(a.mat*",E5,")")),IF(F5=0,"",CONCATENATE("+(a.agi*",F5,")")),IF(G5=0,"",CONCATENATE("+(a.luk*",G5,")")),")-(",IF(H5=0,"",CONCATENATE("+(b.def*",H5,")")),IF(I5=0,"",CONCATENATE("+(b.mdf*",I5,")")),IF(J5=0,"",CONCATENATE("+(b.agi*",J5,")")),IF(K5=0,"",CONCATENATE("+(b.luk*",K5,")")),")") -> (+(a.att*3))-(+(b.def*2))
A6: Pommel Bash | B6: Soldier | C6: 0 | D6: 4 | E6: 0 | F6: 0 | G6: 0 | H6: 2 | I6: 0 | J6: 0 | K6: 0 | L6: =CONCATENATE(IF(C6=0,"",CONCATENATE(C6,"+")),"(",IF(D6=0,"",CONCATENATE("+(a.att*",D6,")")),IF(E6=0,"",CONCATENATE("+(a.mat*",E6,")")),IF(F6=0,"",CONCATENATE("+(a.agi*",F6,")")),IF(G6=0,"",CONCATENATE("+(a.luk*",G6,")")),")-(",IF(H6=0,"",CONCATENATE("+(b.def*",H6,")")),IF(I6=0,"",CONCATENATE("+(b.mdf*",I6,")")),IF(J6=0,"",CONCATENATE("+(b.agi*",J6,")")),IF(K6=0,"",CONCATENATE("+(b.luk*",K6,")")),")") -> (+(a.att*4))-(+(b.def*2))
A7: Inspiring Charge | B7: Soldier | C7: 5 | D7: 4 | E7: 0 | F7: 0 | G7: 0 | H7: 2 | I7: 0 | J7: 0 | K7: 0 | L7: =CONCATENATE(IF(C7=0,"",CONCATENATE(C7,"+")),"(",IF(D7=0,"",CONCATENATE("+(a.att*",D7,")")),IF(E7=0,"",CONCATENATE("+(a.mat*",E7,")")),IF(F7=0,"",CONCATENATE("+(a.agi*",F7,")")),IF(G7=0,"",CONCATENATE("+(a.luk*",G7,")")),")-(",IF(H7=0,"",CONCATENATE("+(b.def*",H7,")")),IF(I7=0,"",CONCATENATE("+(b.mdf*",I7,")")),IF(J7=0,"",CONCATENATE("+(b.agi*",J7,")")),IF(K7=0,"",CONCATENATE("+(b.luk*",K7,")")),")") -> 5+(+(a.att*4))-(+(b.def*2))
A8: Arcane Bolt | B8: Sorcerer | C8: 0 | D8: 0 | E8: 3 | F8: 0 | G8: 0 | H8: 0 | I8: 2 | J8: 0 | K8: 0 | L8: =CONCATENATE(IF(C8=0,"",CONCATENATE(C8,"+")),"(",IF(D8=0,"",CONCATENATE("+(a.att*",D8,")")),IF(E8=0,"",CONCATENATE("+(a.mat*",E8,")")),IF(F8=0,"",CONCATENATE("+(a.agi*",F8,")")),IF(G8=0,"",CONCATENATE("+(a.luk*",G8,")")),")-(",IF(H8=0,"",CONCATENATE("+(b.def*",H8,")")),IF(I8=0,"",CONCATENATE("+(b.mdf*",I8,")")),IF(J8=0,"",CONCATENATE("+(b.agi*",J8,")")),IF(K8=0,"",CONCATENATE("+(b.luk*",K8,")")),")") -> (+(a.mat*3))-(+(b.mdf*2))
A9: Arcane Blast | B9: Sorcerer | C9: 0 | D9: 0 | E9: 4 | F9: 0 | G9: 0 | H9: 0 | I9: 2 | J9: 0 | K9: 0 | L9: =CONCATENATE(IF(C9=0,"",CONCATENATE(C9,"+")),"(",IF(D9=0,"",CONCATENATE("+(a.att*",D9,")")),IF(E9=0,"",CONCATENATE("+(a.mat*",E9,")")),IF(F9=0,"",CONCATENATE("+(a.agi*",F9,")")),IF(G9=0,"",CONCATENATE("+(a.luk*",G9,")")),")-(",IF(H9=0,"",CONCATENATE("+(b.def*",H9,")")),IF(I9=0,"",CONCATENATE("+(b.mdf*",I9,")")),IF(J9=0,"",CONCATENATE("+(b.agi*",J9,")")),IF(K9=0,"",CONCATENATE("+(b.luk*",K9,")")),")") -> (+(a.mat*4))-(+(b.mdf*2))
A10: Drain Life | B10: Sorcerer | C10: 5 | D10: 0 | E10: 4 | F10: 0 | G10: 0 | H10: 0 | I10: 2 | J10: 0 | K10: 0 | L10: =CONCATENATE(IF(C10=0,"",CONCATENATE(C10,"+")),"(",IF(D10=0,"",CONCATENATE("+(a.att*",D10,")")),IF(E10=0,"",CONCATENATE("+(a.mat*",E10,")")),IF(F10=0,"",CONCATENATE("+(a.agi*",F10,")")),IF(G10=0,"",CONCATENATE("+(a.luk*",G10,")")),")-(",IF(H10=0,"",CONCATENATE("+(b.def*",H10,")")),IF(I10=0,"",CONCATENATE("+(b.mdf*",I10,")")),IF(J10=0,"",CONCATENATE("+(b.agi*",J10,")")),IF(K10=0,"",CONCATENATE("+(b.luk*",K10,")")),")") -> 5+(+(a.mat*4))-(+(b.mdf*2))
A11: Weaken | B11: Sorcerer | C11: 0 | D11: 0 | E11: 3 | F11: 0 | G11: 0 | H11: 0 | I11: 1 | J11: 0 | K11: 0 | L11: =CONCATENATE(IF(C11=0,"",CONCATENATE(C11,"+")),"(",IF(D11=0,"",CONCATENATE("+(a.att*",D11,")")),IF(E11=0,"",CONCATENATE("+(a.mat*",E11,")")),IF(F11=0,"",CONCATENATE("+(a.agi*",F11,")")),IF(G11=0,"",CONCATENATE("+(a.luk*",G11,")")),")-(",IF(H11=0,"",CONCATENATE("+(b.def*",H11,")")),IF(I11=0,"",CONCATENATE("+(b.mdf*",I11,")")),IF(J11=0,"",CONCATENATE("+(b.agi*",J11,")")),IF(K11=0,"",CONCATENATE("+(b.luk*",K11,")")),")") -> (+(a.mat*3))-(+(b.mdf*1))
A12: Shoot | B12: Scout | C12: 0 | D12: 3 | E12: 0 | F12: 0 | G12: 0 | H12: 2 | I12: 0 | J12: 0 | K12: 0 | L12: =CONCATENATE(IF(C12=0,"",CONCATENATE(C12,"+")),"(",IF(D12=0,"",CONCATENATE("+(a.att*",D12,")")),IF(E12=0,"",CONCATENATE("+(a.mat*",E12,")")),IF(F12=0,"",CONCATENATE("+(a.agi*",F12,")")),IF(G12=0,"",CONCATENATE("+(a.luk*",G12,")")),")-(",IF(H12=0,"",CONCATENATE("+(b.def*",H12,")")),IF(I12=0,"",CONCATENATE("+(b.mdf*",I12,")")),IF(J12=0,"",CONCATENATE("+(b.agi*",J12,")")),IF(K12=0,"",CONCATENATE("+(b.luk*",K12,")")),")") -> (+(a.att*3))-(+(b.def*2))
A13: Careful Aim | B13: Scout | C13: 5 | D13: 4 | E13: 0 | F13: 0 | G13: 0 | H13: 2 | I13: 0 | J13: 0 | K13: 0 | L13: =CONCATENATE(IF(C13=0,"",CONCATENATE(C13,"+")),"(",IF(D13=0,"",CONCATENATE("+(a.att*",D13,")")),IF(E13=0,"",CONCATENATE("+(a.mat*",E13,")")),IF(F13=0,"",CONCATENATE("+(a.agi*",F13,")")),IF(G13=0,"",CONCATENATE("+(a.luk*",G13,")")),")-(",IF(H13=0,"",CONCATENATE("+(b.def*",H13,")")),IF(I13=0,"",CONCATENATE("+(b.mdf*",I13,")")),IF(J13=0,"",CONCATENATE("+(b.agi*",J13,")")),IF(K13=0,"",CONCATENATE("+(b.luk*",K13,")")),")") -> 5+(+(a.att*4))-(+(b.def*2))
A14: Flash Bomb | B14: Scout | C14: 0 | D14: 4 | E14: 0 | F14: 0 | G14: 0 | H14: 2 | I14: 0 | J14: 0 | K14: 0 | L14: =CONCATENATE(IF(C14=0,"",CONCATENATE(C14,"+")),"(",IF(D14=0,"",CONCATENATE("+(a.att*",D14,")")),IF(E14=0,"",CONCATENATE("+(a.mat*",E14,")")),IF(F14=0,"",CONCATENATE("+(a.agi*",F14,")")),IF(G14=0,"",CONCATENATE("+(a.luk*",G14,")")),")-(",IF(H14=0,"",CONCATENATE("+(b.def*",H14,")")),IF(I14=0,"",CONCATENATE("+(b.mdf*",I14,")")),IF(J14=0,"",CONCATENATE("+(b.agi*",J14,")")),IF(K14=0,"",CONCATENATE("+(b.luk*",K14,")")),")") -> (+(a.att*4))-(+(b.def*2))
A15: Punch | B15: Gryn | C15: 0 | D15: 4 | E15: 0 | F15: 0 | G15: 0 | H15: 2 | I15: 0 | J15: 0 | K15: 0 | L15: =CONCATENATE(IF(C15=0,"",CONCATENATE(C15,"+")),"(",IF(D15=0,"",CONCATENATE("+(a.att*",D15,")")),IF(E15=0,"",CONCATENATE("+(a.mat*",E15,")")),IF(F15=0,"",CONCATENATE("+(a.agi*",F15,")")),IF(G15=0,"",CONCATENATE("+(a.luk*",G15,")")),")-(",IF(H15=0,"",CONCATENATE("+(b.def*",H15,")")),IF(I15=0,"",CONCATENATE("+(b.mdf*",I15,")")),IF(J15=0,"",CONCATENATE("+(b.agi*",J15,")")),IF(K15=0,"",CONCATENATE("+(b.luk*",K15,")")),")") -> (+(a.att*4))-(+(b.def*2))
... A25: Shoot (Bard) | B25: Leira | C25: 0 | D25: 3 | E25: 0 | F25: 0 | G25: 0 | H25: 0 | I25: 0 | J25: 2 | K25: 0 | L25: =CONCATENATE(IF(C25=0,"",CONCATENATE(C25,"+")),"(",IF(D25=0,"",CONCATENATE("+(a.att*",D25,")")),IF(E25=0,"",CONCATENATE("+(a.mat*",E25,")")),IF(F25=0,"",CONCATENATE("+(a.agi*",F25,")")),IF(G25=0,"",CONCATENATE("+(a.luk*",G25,")")),")-(",IF(H25=0,"",CONCATENATE("+(b.def*",H25,")")),IF(I25=0,"",CONCATENATE("+(b.mdf*",I25,")")),IF(J25=0,"",CONCATENATE("+(b.agi*",J25,")")),IF(K25=0,"",CONCATENATE("+(b.luk*",K25,")")),")") -> (+(a.att*3))-(+(b.agi*2))
C26: 0 | D26: 0 | E26: 0 | F26: 0 | G26: 0 | H26: 0 | I26: 0 | J26: 0 | K26: 0 | L26: =CONCATENATE(IF(C26=0,"",CONCATENATE(C26,"+")),"(",IF(D26=0,"",CONCATENATE("+(a.att*",D26,")")),IF(E26=0,"",CONCATENATE("+(a.mat*",E26,")")),IF(F26=0,"",CONCATENATE("+(a.agi*",F26,")")),IF(G26=0,"",CONCATENATE("+(a.luk*",G26,")")),")-(",IF(H26=0,"",CONCATENATE("+(b.def*",H26,")")),IF(I26=0,"",CONCATENATE("+(b.mdf*",I26,")")),IF(J26=0,"",CONCATENATE("+(b.agi*",J26,")")),IF(K26=0,"",CONCATENATE("+(b.luk*",K26,")")),")") -> ()-()
C27: 0 | D27: 0 | E27: 0 | F27: 0 | G27: 0 | H27: 0 | I27: 0 | J27: 0 | K27: 0 | L27: =CONCATENATE(IF(C27=0,"",CONCATENATE(C27,"+")),"(",IF(D27=0,"",CONCATENATE("+(a.att*",D27,")")),IF(E27=0,"",CONCATENATE("+(a.mat*",E27,")")),IF(F27=0,"",CONCATENATE("+(a.agi*",F27,")")),IF(G27=0,"",CONCATENATE("+(a.luk*",G27,")")),")-(",IF(H27=0,"",CONCATENATE("+(b.def*",H27,")")),IF(I27=0,"",CONCATENATE("+(b.mdf*",I27,")")),IF(J27=0,"",CONCATENATE("+(b.agi*",J27,")")),IF(K27=0,"",CONCATENATE("+(b.luk*",K27,")")),")") -> ()-()
C28: 0 | D28: 0 | E28: 0 | F28: 0 | G28: 0 | H28: 0 | I28: 0 | J28: 0 | K28: 0 | L28: =CONCATENATE(IF(C28=0,"",CONCATENATE(C28,"+")),"(",IF(D28=0,"",CONCATENATE("+(a.att*",D28,")")),IF(E28=0,"",CONCATENATE("+(a.mat*",E28,")")),IF(F28=0,"",CONCATENATE("+(a.agi*",F28,")")),IF(G28=0,"",CONCATENATE("+(a.luk*",G28,")")),")-(",IF(H28=0,"",CONCATENATE("+(b.def*",H28,")")),IF(I28=0,"",CONCATENATE("+(b.mdf*",I28,")")),IF(J28=0,"",CONCATENATE("+(b.agi*",J28,")")),IF(K28=0,"",CONCATENATE("+(b.luk*",K28,")")),")") -> ()-()
C29: 0 | D29: 0 | E29: 0 | F29: 0 | G29: 0 | H29: 0 | I29: 0 | J29: 0 | K29: 0 | L29: =CONCATENATE(IF(C29=0,"",CONCATENATE(C29,"+")),"(",IF(D29=0,"",CONCATENATE("+(a.att*",D29,")")),IF(E29=0,"",CONCATENATE("+(a.mat*",E29,")")),IF(F29=0,"",CONCATENATE("+(a.agi*",F29,")")),IF(G29=0,"",CONCATENATE("+(a.luk*",G29,")")),")-(",IF(H29=0,"",CONCATENATE("+(b.def*",H29,")")),IF(I29=0,"",CONCATENATE("+(b.mdf*",I29,")")),IF(J29=0,"",CONCATENATE("+(b.agi*",J29,")")),IF(K29=0,"",CONCATENATE("+(b.luk*",K29,")")),")") -> ()-()
C30: 0 | D30: 0 | E30: 0 | F30: 0 | G30: 0 | H30: 0 | I30: 0 | J30: 0 | K30: 0 | L30: =CONCATENATE(IF(C30=0,"",CONCATENATE(C30,"+")),"(",IF(D30=0,"",CONCATENATE("+(a.att*",D30,")")),IF(E30=0,"",CONCATENATE("+(a.mat*",E30,")")),IF(F30=0,"",CONCATENATE("+(a.agi*",F30,")")),IF(G30=0,"",CONCATENATE("+(a.luk*",G30,")")),")-(",IF(H30=0,"",CONCATENATE("+(b.def*",H30,")")),IF(I30=0,"",CONCATENATE("+(b.mdf*",I30,")")),IF(J30=0,"",CONCATENATE("+(b.agi*",J30,")")),IF(K30=0,"",CONCATENATE("+(b.luk*",K30,")")),")") -> ()-()
C31: 0 | D31: 0 | E31: 0 | F31: 0 | G31: 0 | H31: 0 | I31: 0 | J31: 0 | K31: 0 | L31: =CONCATENATE(IF(C31=0,"",CONCATENATE(C31,"+")),"(",IF(D31=0,"",CONCATENATE("+(a.att*",D31,")")),IF(E31=0,"",CONCATENATE("+(a.mat*",E31,")")),IF(F31=0,"",CONCATENATE("+(a.agi*",F31,")")),IF(G31=0,"",CONCATENATE("+(a.luk*",G31,")")),")-(",IF(H31=0,"",CONCATENATE("+(b.def*",H31,")")),IF(I31=0,"",CONCATENATE("+(b.mdf*",I31,")")),IF(J31=0,"",CONCATENATE("+(b.agi*",J31,")")),IF(K31=0,"",CONCATENATE("+(b.luk*",K31,")")),")") -> ()-()
C32: 0 | D32: 0 | E32: 0 | F32: 0 | G32: 0 | H32: 0 | I32: 0 | J32: 0 | K32: 0 | L32: =CONCATENATE(IF(C32=0,"",CONCATENATE(C32,"+")),"(",IF(D32=0,"",CONCATENATE("+(a.att*",D32,")")),IF(E32=0,"",CONCATENATE("+(a.mat*",E32,")")),IF(F32=0,"",CONCATENATE("+(a.agi*",F32,")")),IF(G32=0,"",CONCATENATE("+(a.luk*",G32,")")),")-(",IF(H32=0,"",CONCATENATE("+(b.def*",H32,")")),IF(I32=0,"",CONCATENATE("+(b.mdf*",I32,")")),IF(J32=0,"",CONCATENATE("+(b.agi*",J32,")")),IF(K32=0,"",CONCATENATE("+(b.luk*",K32,")")),")") -> ()-()
C33: 0 | D33: 0 | E33: 0 | F33: 0 | G33: 0 | H33: 0 | I33: 0 | J33: 0 | K33: 0 | L33: =CONCATENATE(IF(C33=0,"",CONCATENATE(C33,"+")),"(",IF(D33=0,"",CONCATENATE("+(a.att*",D33,")")),IF(E33=0,"",CONCATENATE("+(a.mat*",E33,")")),IF(F33=0,"",CONCATENATE("+(a.agi*",F33,")")),IF(G33=0,"",CONCATENATE("+(a.luk*",G33,")")),")-(",IF(H33=0,"",CONCATENATE("+(b.def*",H33,")")),IF(I33=0,"",CONCATENATE("+(b.mdf*",I33,")")),IF(J33=0,"",CONCATENATE("+(b.agi*",J33,")")),IF(K33=0,"",CONCATENATE("+(b.luk*",K33,")")),")") -> ()-()
C34: 0 | D34: 0 | E34: 0 | F34: 0 | G34: 0 | H34: 0 | I34: 0 | J34: 0 | K34: 0 | L34: =CONCATENATE(IF(C34=0,"",CONCATENATE(C34,"+")),"(",IF(D34=0,"",CONCATENATE("+(a.att*",D34,")")),IF(E34=0,"",CONCATENATE("+(a.mat*",E34,")")),IF(F34=0,"",CONCATENATE("+(a.agi*",F34,")")),IF(G34=0,"",CONCATENATE("+(a.luk*",G34,")")),")-(",IF(H34=0,"",CONCATENATE("+(b.def*",H34,")")),IF(I34=0,"",CONCATENATE("+(b.mdf*",I34,")")),IF(J34=0,"",CONCATENATE("+(b.agi*",J34,")")),IF(K34=0,"",CONCATENATE("+(b.luk*",K34,")")),")") -> ()-()
C35: 0 | D35: 0 | E35: 0 | F35: 0 | G35: 0 | H35: 0 | I35: 0 | J35: 0 | K35: 0 | L35: =CONCATENATE(IF(C35=0,"",CONCATENATE(C35,"+")),"(",IF(D35=0,"",CONCATENATE("+(a.att*",D35,")")),IF(E35=0,"",CONCATENATE("+(a.mat*",E35,")")),IF(F35=0,"",CONCATENATE("+(a.agi*",F35,")")),IF(G35=0,"",CONCATENATE("+(a.luk*",G35,")")),")-(",IF(H35=0,"",CONCATENATE("+(b.def*",H35,")")),IF(I35=0,"",CONCATENATE("+(b.mdf*",I35,")")),IF(J35=0,"",CONCATENATE("+(b.agi*",J35,")")),IF(K35=0,"",CONCATENATE("+(b.luk*",K35,")")),")") -> ()-()
C36: 0 | D36: 0 | E36: 0 | F36: 0 | G36: 0 | H36: 0 | I36: 0 | J36: 0 | K36: 0 | L36: =CONCATENATE(IF(C36=0,"",CONCATENATE(C36,"+")),"(",IF(D36=0,"",CONCATENATE("+(a.att*",D36,")")),IF(E36=0,"",CONCATENATE("+(a.mat*",E36,")")),IF(F36=0,"",CONCATENATE("+(a.agi*",F36,")")),IF(G36=0,"",CONCATENATE("+(a.luk*",G36,")")),")-(",IF(H36=0,"",CONCATENATE("+(b.def*",H36,")")),IF(I36=0,"",CONCATENATE("+(b.mdf*",I36,")")),IF(J36=0,"",CONCATENATE("+(b.agi*",J36,")")),IF(K36=0,"",CONCATENATE("+(b.luk*",K36,")")),")") -> ()-()
C37: 0 | D37: 0 | E37: 0 | F37: 0 | G37: 0 | H37: 0 | I37: 0 | J37: 0 | K37: 0 | L37: =CONCATENATE(IF(C37=0,"",CONCATENATE(C37,"+")),"(",IF(D37=0,"",CONCATENATE("+(a.att*",D37,")")),IF(E37=0,"",CONCATENATE("+(a.mat*",E37,")")),IF(F37=0,"",CONCATENATE("+(a.agi*",F37,")")),IF(G37=0,"",CONCATENATE("+(a.luk*",G37,")")),")-(",IF(H37=0,"",CONCATENATE("+(b.def*",H37,")")),IF(I37=0,"",CONCATENATE("+(b.mdf*",I37,")")),IF(J37=0,"",CONCATENATE("+(b.agi*",J37,")")),IF(K37=0,"",CONCATENATE("+(b.luk*",K37,")")),")") -> ()-()
... C304: 0 | D304: 0 | E304: 0 | F304: 0 | G304: 0 | H304: 0 | I304: 0 | J304: 0 | K304: 0 | L304: =CONCATENATE(IF(C304=0,"",CONCATENATE(C304,"+")),"(",IF(D304=0,"",CONCATENATE("+(a.att*",D304,")")),IF(E304=0,"",CONCATENATE("+(a.mat*",E304,")")),IF(F304=0,"",CONCATENATE("+(a.agi*",F304,")")),IF(G304=0,"",CONCATENATE("+(a.luk*",G304,")")),")-(",IF(H304=0,"",CONCATENATE("+(b.def*",H304,")")),IF(I304=0,"",CONCATENATE("+(b.mdf*",I304,")")),IF(J304=0,"",CONCATENATE("+(b.agi*",J304,")")),IF(K304=0,"",CONCATENATE("+(b.luk*",K304,")")),")") -> ()-()

Sheet Enemies
A1: Enemies
A3: Level | B3: HP | C3: MP | D3: ATT | E3: DEF | F3: MAT | G3: MDF | H3: AGI | I3: LUK
A4: Ghoul | B4: 100 | C4: 15 | D4: 10 | E4: 10 | F4: 10 | G4: 10 | H4: 10 | I4: 10
A5: Skeletal Soldier | B5: 130 | C5: 15 | D5: 12 | E5: 8 | F5: 10 | G5: 10 | H5: 8 | I5: 12
A6: Angry Ghoul | B6: 130 | C6: 10 | D6: 15 | E6: 8 | F6: 20 | G6: 5 | H6: 3 | I6: 6
A7: Skeletal Swordsman | B7: 165 | C7: 10 | D7: 17 | E7: 12 | F7: 8 | G7: 15 | H7: 3 | I7: 10

Sheet EnemySkills
A1: Enemy Skills
D2: Damage Stats | H2: Defense Stats
A3: Skill | B3: Character | C3: Bonus | D3: Att | E3: Mat | F3: Agi | G3: Luk | H3: Def | I3: Mdf | J3: Agi | K3: Luk | L3: Damage Formula
A4: Claw | B4: Enemy | C4: 0 | D4: 4 | E4: 0 | F4: 0 | G4: 0 | H4: 2 | I4: 0 | J4: 0 | K4: 0 | L4: =CONCATENATE(IF(C4=0,"",CONCATENATE(C4,"+")),"(",IF(D4=0,"",CONCATENATE("+(a.att*",D4,")")),IF(E4=0,"",CONCATENATE("+(a.mat*",E4,")")),IF(F4=0,"",CONCATENATE("+(a.agi*",F4,")")),IF(G4=0,"",CONCATENATE("+(a.luk*",G4,")")),")-(",IF(H4=0,"",CONCATENATE("+(b.def*",H4,")")),IF(I4=0,"",CONCATENATE("+(b.mdf*",I4,")")),IF(J4=0,"",CONCATENATE("+(b.agi*",J4,")")),IF(K4=0,"",CONCATENATE("+(b.luk*",K4,")")),")") -> (+(a.att*4))-(+(b.def*2))
A5: Bite | B5: Enemy | C5: 0 | D5: 5 | E5: 0 | F5: 0 | G5: 0 | H5: 2 | I5: 0 | J5: 0 | K5: 0 | L5: =CONCATENATE(IF(C5=0,"",CONCATENATE(C5,"+")),"(",IF(D5=0,"",CONCATENATE("+(a.att*",D5,")")),IF(E5=0,"",CONCATENATE("+(a.mat*",E5,")")),IF(F5=0,"",CONCATENATE("+(a.agi*",F5,")")),IF(G5=0,"",CONCATENATE("+(a.luk*",G5,")")),")-(",IF(H5=0,"",CONCATENATE("+(b.def*",H5,")")),IF(I5=0,"",CONCATENATE("+(b.mdf*",I5,")")),IF(J5=0,"",CONCATENATE("+(b.agi*",J5,")")),IF(K5=0,"",CONCATENATE("+(b.luk*",K5,")")),")") -> (+(a.att*5))-(+(b.def*2))
A6: Pounce | B6: Enemy | C6: 0 | D6: 2 | E6: 0 | F6: 0 | G6: 0 | H6: 0 | I6: 0 | J6: 0 | K6: 0 | L6: =CONCATENATE(IF(C6=0,"",CONCATENATE(C6,"+")),"(",IF(D6=0,"",CONCATENATE("+(a.att*",D6,")")),IF(E6=0,"",CONCATENATE("+(a.mat*",E6,")")),IF(F6=0,"",CONCATENATE("+(a.agi*",F6,")")),IF(G6=0,"",CONCATENATE("+(a.luk*",G6,")")),")-(",IF(H6=0,"",CONCATENATE("+(b.def*",H6,")")),IF(I6=0,"",CONCATENATE("+(b.mdf*",I6,")")),IF(J6=0,"",CONCATENATE("+(b.agi*",J6,")")),IF(K6=0,"",CONCATENATE("+(b.luk*",K6,")")),")") -> (+(a.att*2))-()
A7: Putrid Cloud | B7: Enemy | C7: 0 | D7: 1 | E7: 0 | F7: 0 | G7: 0 | H7: 0 | I7: 0 | J7: 0 | K7: 0 | L7: =CONCATENATE(IF(C7=0,"",CONCATENATE(C7,"+")),"(",IF(D7=0,"",CONCATENATE("+(a.att*",D7,")")),IF(E7=0,"",CONCATENATE("+(a.mat*",E7,")")),IF(F7=0,"",CONCATENATE("+(a.agi*",F7,")")),IF(G7=0,"",CONCATENATE("+(a.luk*",G7,")")),")-(",IF(H7=0,"",CONCATENATE("+(b.def*",H7,")")),IF(I7=0,"",CONCATENATE("+(b.mdf*",I7,")")),IF(J7=0,"",CONCATENATE("+(b.agi*",J7,")")),IF(K7=0,"",CONCATENATE("+(b.luk*",K7,")")),")") -> (+(a.att*1))-()
A8: Slash (Enemy) | B8: Enemy | C8: 0 | D8: 4 | E8: 0 | F8: 0 | G8: 0 | H8: 2 | I8: 0 | J8: 0 | K8: 0 | L8: =CONCATENATE(IF(C8=0,"",CONCATENATE(C8,"+")),"(",IF(D8=0,"",CONCATENATE("+(a.att*",D8,")")),IF(E8=0,"",CONCATENATE("+(a.mat*",E8,")")),IF(F8=0,"",CONCATENATE("+(a.agi*",F8,")")),IF(G8=0,"",CONCATENATE("+(a.luk*",G8,")")),")-(",IF(H8=0,"",CONCATENATE("+(b.def*",H8,")")),IF(I8=0,"",CONCATENATE("+(b.mdf*",I8,")")),IF(J8=0,"",CONCATENATE("+(b.agi*",J8,")")),IF(K8=0,"",CONCATENATE("+(b.luk*",K8,")")),")") -> (+(a.att*4))-(+(b.def*2))
A9: Reckless Slash | B9: Enemy | C9: 0 | D9: 4 | E9: 0 | F9: 0 | G9: 0 | H9: 1 | I9: 0 | J9: 0 | K9: 0 | L9: =CONCATENATE(IF(C9=0,"",CONCATENATE(C9,"+")),"(",IF(D9=0,"",CONCATENATE("+(a.att*",D9,")")),IF(E9=0,"",CONCATENATE("+(a.mat*",E9,")")),IF(F9=0,"",CONCATENATE("+(a.agi*",F9,")")),IF(G9=0,"",CONCATENATE("+(a.luk*",G9,")")),")-(",IF(H9=0,"",CONCATENATE("+(b.def*",H9,")")),IF(I9=0,"",CONCATENATE("+(b.mdf*",I9,")")),IF(J9=0,"",CONCATENATE("+(b.agi*",J9,")")),IF(K9=0,"",CONCATENATE("+(b.luk*",K9,")")),")") -> (+(a.att*4))-(+(b.def*1))
C10: 0 | D10: 0 | E10: 0 | F10: 0 | G10: 0 | H10: 0 | I10: 0 | J10: 0 | K10: 0 | L10: =CONCATENATE(IF(C10=0,"",CONCATENATE(C10,"+")),"(",IF(D10=0,"",CONCATENATE("+(a.att*",D10,")")),IF(E10=0,"",CONCATENATE("+(a.mat*",E10,")")),IF(F10=0,"",CONCATENATE("+(a.agi*",F10,")")),IF(G10=0,"",CONCATENATE("+(a.luk*",G10,")")),")-(",IF(H10=0,"",CONCATENATE("+(b.def*",H10,")")),IF(I10=0,"",CONCATENATE("+(b.mdf*",I10,")")),IF(J10=0,"",CONCATENATE("+(b.agi*",J10,")")),IF(K10=0,"",CONCATENATE("+(b.luk*",K10,")")),")") -> ()-()
C11: 0 | D11: 0 | E11: 0 | F11: 0 | G11: 0 | H11: 0 | I11: 0 | J11: 0 | K11: 0 | L11: =CONCATENATE(IF(C11=0,"",CONCATENATE(C11,"+")),"(",IF(D11=0,"",CONCATENATE("+(a.att*",D11,")")),IF(E11=0,"",CONCATENATE("+(a.mat*",E11,")")),IF(F11=0,"",CONCATENATE("+(a.agi*",F11,")")),IF(G11=0,"",CONCATENATE("+(a.luk*",G11,")")),")-(",IF(H11=0,"",CONCATENATE("+(b.def*",H11,")")),IF(I11=0,"",CONCATENATE("+(b.mdf*",I11,")")),IF(J11=0,"",CONCATENATE("+(b.agi*",J11,")")),IF(K11=0,"",CONCATENATE("+(b.luk*",K11,")")),")") -> ()-()
C12: 0 | D12: 0 | E12: 0 | F12: 0 | G12: 0 | H12: 0 | I12: 0 | J12: 0 | K12: 0 | L12: =CONCATENATE(IF(C12=0,"",CONCATENATE(C12,"+")),"(",IF(D12=0,"",CONCATENATE("+(a.att*",D12,")")),IF(E12=0,"",CONCATENATE("+(a.mat*",E12,")")),IF(F12=0,"",CONCATENATE("+(a.agi*",F12,")")),IF(G12=0,"",CONCATENATE("+(a.luk*",G12,")")),")-(",IF(H12=0,"",CONCATENATE("+(b.def*",H12,")")),IF(I12=0,"",CONCATENATE("+(b.mdf*",I12,")")),IF(J12=0,"",CONCATENATE("+(b.agi*",J12,")")),IF(K12=0,"",CONCATENATE("+(b.luk*",K12,")")),")") -> ()-()
C13: 0 | D13: 0 | E13: 0 | F13: 0 | G13: 0 | H13: 0 | I13: 0 | J13: 0 | K13: 0 | L13: =CONCATENATE(IF(C13=0,"",CONCATENATE(C13,"+")),"(",IF(D13=0,"",CONCATENATE("+(a.att*",D13,")")),IF(E13=0,"",CONCATENATE("+(a.mat*",E13,")")),IF(F13=0,"",CONCATENATE("+(a.agi*",F13,")")),IF(G13=0,"",CONCATENATE("+(a.luk*",G13,")")),")-(",IF(H13=0,"",CONCATENATE("+(b.def*",H13,")")),IF(I13=0,"",CONCATENATE("+(b.mdf*",I13,")")),IF(J13=0,"",CONCATENATE("+(b.agi*",J13,")")),IF(K13=0,"",CONCATENATE("+(b.luk*",K13,")")),")") -> ()-()
C14: 0 | D14: 0 | E14: 0 | F14: 0 | G14: 0 | H14: 0 | I14: 0 | J14: 0 | K14: 0 | L14: =CONCATENATE(IF(C14=0,"",CONCATENATE(C14,"+")),"(",IF(D14=0,"",CONCATENATE("+(a.att*",D14,")")),IF(E14=0,"",CONCATENATE("+(a.mat*",E14,")")),IF(F14=0,"",CONCATENATE("+(a.agi*",F14,")")),IF(G14=0,"",CONCATENATE("+(a.luk*",G14,")")),")-(",IF(H14=0,"",CONCATENATE("+(b.def*",H14,")")),IF(I14=0,"",CONCATENATE("+(b.mdf*",I14,")")),IF(J14=0,"",CONCATENATE("+(b.agi*",J14,")")),IF(K14=0,"",CONCATENATE("+(b.luk*",K14,")")),")") -> ()-()
C15: 0 | D15: 0 | E15: 0 | F15: 0 | G15: 0 | H15: 0 | I15: 0 | J15: 0 | K15: 0 | L15: =CONCATENATE(IF(C15=0,"",CONCATENATE(C15,"+")),"(",IF(D15=0,"",CONCATENATE("+(a.att*",D15,")")),IF(E15=0,"",CONCATENATE("+(a.mat*",E15,")")),IF(F15=0,"",CONCATENATE("+(a.agi*",F15,")")),IF(G15=0,"",CONCATENATE("+(a.luk*",G15,")")),")-(",IF(H15=0,"",CONCATENATE("+(b.def*",H15,")")),IF(I15=0,"",CONCATENATE("+(b.mdf*",I15,")")),IF(J15=0,"",CONCATENATE("+(b.agi*",J15,")")),IF(K15=0,"",CONCATENATE("+(b.luk*",K15,")")),")") -> ()-()
C16: 0 | D16: 0 | E16: 0 | F16: 0 | G16: 0 | H16: 0 | I16: 0 | J16: 0 | K16: 0 | L16: =CONCATENATE(IF(C16=0,"",CONCATENATE(C16,"+")),"(",IF(D16=0,"",CONCATENATE("+(a.att*",D16,")")),IF(E16=0,"",CONCATENATE("+(a.mat*",E16,")")),IF(F16=0,"",CONCATENATE("+(a.agi*",F16,")")),IF(G16=0,"",CONCATENATE("+(a.luk*",G16,")")),")-(",IF(H16=0,"",CONCATENATE("+(b.def*",H16,")")),IF(I16=0,"",CONCATENATE("+(b.mdf*",I16,")")),IF(J16=0,"",CONCATENATE("+(b.agi*",J16,")")),IF(K16=0,"",CONCATENATE("+(b.luk*",K16,")")),")") -> ()-()
C17: 0 | D17: 0 | E17: 0 | F17: 0 | G17: 0 | H17: 0 | I17: 0 | J17: 0 | K17: 0 | L17: =CONCATENATE(IF(C17=0,"",CONCATENATE(C17,"+")),"(",IF(D17=0,"",CONCATENATE("+(a.att*",D17,")")),IF(E17=0,"",CONCATENATE("+(a.mat*",E17,")")),IF(F17=0,"",CONCATENATE("+(a.agi*",F17,")")),IF(G17=0,"",CONCATENATE("+(a.luk*",G17,")")),")-(",IF(H17=0,"",CONCATENATE("+(b.def*",H17,")")),IF(I17=0,"",CONCATENATE("+(b.mdf*",I17,")")),IF(J17=0,"",CONCATENATE("+(b.agi*",J17,")")),IF(K17=0,"",CONCATENATE("+(b.luk*",K17,")")),")") -> ()-()
C18: 0 | D18: 0 | E18: 0 | F18: 0 | G18: 0 | H18: 0 | I18: 0 | J18: 0 | K18: 0 | L18: =CONCATENATE(IF(C18=0,"",CONCATENATE(C18,"+")),"(",IF(D18=0,"",CONCATENATE("+(a.att*",D18,")")),IF(E18=0,"",CONCATENATE("+(a.mat*",E18,")")),IF(F18=0,"",CONCATENATE("+(a.agi*",F18,")")),IF(G18=0,"",CONCATENATE("+(a.luk*",G18,")")),")-(",IF(H18=0,"",CONCATENATE("+(b.def*",H18,")")),IF(I18=0,"",CONCATENATE("+(b.mdf*",I18,")")),IF(J18=0,"",CONCATENATE("+(b.agi*",J18,")")),IF(K18=0,"",CONCATENATE("+(b.luk*",K18,")")),")") -> ()-()
C19: 0 | D19: 0 | E19: 0 | F19: 0 | G19: 0 | H19: 0 | I19: 0 | J19: 0 | K19: 0 | L19: =CONCATENATE(IF(C19=0,"",CONCATENATE(C19,"+")),"(",IF(D19=0,"",CONCATENATE("+(a.att*",D19,")")),IF(E19=0,"",CONCATENATE("+(a.mat*",E19,")")),IF(F19=0,"",CONCATENATE("+(a.agi*",F19,")")),IF(G19=0,"",CONCATENATE("+(a.luk*",G19,")")),")-(",IF(H19=0,"",CONCATENATE("+(b.def*",H19,")")),IF(I19=0,"",CONCATENATE("+(b.mdf*",I19,")")),IF(J19=0,"",CONCATENATE("+(b.agi*",J19,")")),IF(K19=0,"",CONCATENATE("+(b.luk*",K19,")")),")") -> ()-()
C20: 0 | D20: 0 | E20: 0 | F20: 0 | G20: 0 | H20: 0 | I20: 0 | J20: 0 | K20: 0 | L20: =CONCATENATE(IF(C20=0,"",CONCATENATE(C20,"+")),"(",IF(D20=0,"",CONCATENATE("+(a.att*",D20,")")),IF(E20=0,"",CONCATENATE("+(a.mat*",E20,")")),IF(F20=0,"",CONCATENATE("+(a.agi*",F20,")")),IF(G20=0,"",CONCATENATE("+(a.luk*",G20,")")),")-(",IF(H20=0,"",CONCATENATE("+(b.def*",H20,")")),IF(I20=0,"",CONCATENATE("+(b.mdf*",I20,")")),IF(J20=0,"",CONCATENATE("+(b.agi*",J20,")")),IF(K20=0,"",CONCATENATE("+(b.luk*",K20,")")),")") -> ()-()
C21: 0 | D21: 0 | E21: 0 | F21: 0 | G21: 0 | H21: 0 | I21: 0 | J21: 0 | K21: 0 | L21: =CONCATENATE(IF(C21=0,"",CONCATENATE(C21,"+")),"(",IF(D21=0,"",CONCATENATE("+(a.att*",D21,")")),IF(E21=0,"",CONCATENATE("+(a.mat*",E21,")")),IF(F21=0,"",CONCATENATE("+(a.agi*",F21,")")),IF(G21=0,"",CONCATENATE("+(a.luk*",G21,")")),")-(",IF(H21=0,"",CONCATENATE("+(b.def*",H21,")")),IF(I21=0,"",CONCATENATE("+(b.mdf*",I21,")")),IF(J21=0,"",CONCATENATE("+(b.agi*",J21,")")),IF(K21=0,"",CONCATENATE("+(b.luk*",K21,")")),")") -> ()-()
... C304: 0 | D304: 0 | E304: 0 | F304: 0 | G304: 0 | H304: 0 | I304: 0 | J304: 0 | K304: 0 | L304: =CONCATENATE(IF(C304=0,"",CONCATENATE(C304,"+")),"(",IF(D304=0,"",CONCATENATE("+(a.att*",D304,")")),IF(E304=0,"",CONCATENATE("+(a.mat*",E304,")")),IF(F304=0,"",CONCATENATE("+(a.agi*",F304,")")),IF(G304=0,"",CONCATENATE("+(a.luk*",G304,")")),")-(",IF(H304=0,"",CONCATENATE("+(b.def*",H304,")")),IF(I304=0,"",CONCATENATE("+(b.mdf*",I304,")")),IF(J304=0,"",CONCATENATE("+(b.agi*",J304,")")),IF(K304=0,"",CONCATENATE("+(b.luk*",K304,")")),")") -> ()-()

Sheet Soldier
A1: Hermit - Soldier
A2: Soldier
A3: Per Lvl | B3: 5 | C3: 1 | D3: 1 | E3: 1 | F3: 1 | G3: 1 | H3: 1 | I3: 1
A4: Level | B4: HP | C4: MP | D4: ATT | E4: DEF | F4: MAT | G4: MDF | H4: AGI | I4: LUK
A5: 1 | B5: 100 | C5: 5 | D5: 10 | E5: 10 | F5: 10 | G5: 10 | H5: 10 | I5: 10
A6: 2 | B6: =$B5+$B$3 -> 105 | C6: =$C5+$C$3 -> 6 | D6: =$D5+$D$3 -> 11 | E6: =$E5+$E$3 -> 11 | F6: =$F5+$F$3 -> 11 | G6: =$G5+$G$3 -> 11 | H6: =$H5+$H$3 -> 11 | I6: =$I5+$I$3 -> 11
A7: 3 | B7: =$B6+$B$3 -> 110 | C7: =$C6+$C$3 -> 7 | D7: =$D6+$D$3 -> 12 | E7: =$E6+$E$3 -> 12 | F7: =$F6+$F$3 -> 12 | G7: =$G6+$G$3 -> 12 | H7: =$H6+$H$3 -> 12 | I7: =$I6+$I$3 -> 12
A8: 4 | B8: =$B7+$B$3 -> 115 | C8: =$C7+$C$3 -> 8 | D8: =$D7+$D$3 -> 13 | E8: =$E7+$E$3 -> 13 | F8: =$F7+$F$3 -> 13 | G8: =$G7+$G$3 -> 13 | H8: =$H7+$H$3 -> 13 | I8: =$I7+$I$3 -> 13
A9: 5 | B9: =$B8+$B$3 -> 120 | C9: =$C8+$C$3 -> 9 | D9: =$D8+$D$3 -> 14 | E9: =$E8+$E$3 -> 14 | F9: =$F8+$F$3 -> 14 | G9: =$G8+$G$3 -> 14 | H9: =$H8+$H$3 -> 14 | I9: =$I8+$I$3 -> 14
A10: 6 | B10: =$B9+$B$3 -> 125 | C10: =$C9+$C$3 -> 10 | D10: =$D9+$D$3 -> 15 | E10: =$E9+$E$3 -> 15 | F10: =$F9+$F$3 -> 15 | G10: =$G9+$G$3 -> 15 | H10: =$H9+$H$3 -> 15 | I10: =$I9+$I$3 -> 15
A11: 7 | B11: =$B10+$B$3 -> 130 | C11: =$C10+$C$3 -> 11 | D11: =$D10+$D$3 -> 16 | E11: =$E10+$E$3 -> 16 | F11: =$F10+$F$3 -> 16 | G11: =$G10+$G$3 -> 16 | H11: =$H10+$H$3 -> 16 | I11: =$I10+$I$3 -> 16
A12: 8 | B12: =$B11+$B$3 -> 135 | C12: =$C11+$C$3 -> 12 | D12: =$D11+$D$3 -> 17 | E12: =$E11+$E$3 -> 17 | F12: =$F11+$F$3 -> 17 | G12: =$G11+$G$3 -> 17 | H12: =$H11+$H$3 -> 17 | I12: =$I11+$I$3 -> 17
A13: 9 | B13: =$B12+$B$3 -> 140 | C13: =$C12+$C$3 -> 13 | D13: =$D12+$D$3 -> 18 | E13: =$E12+$E$3 -> 18 | F13: =$F12+$F$3 -> 18 | G13: =$G12+$G$3 -> 18 | H13: =$H12+$H$3 -> 18 | I13: =$I12+$I$3 -> 18
A14: 10 | B14: =$B13+$B$3 -> 145 | C14: =$C13+$C$3 -> 14 | D14: =$D13+$D$3 -> 19 | E14: =$E13+$E$3 -> 19 | F14: =$F13+$F$3 -> 19 | G14: =$G13+$G$3 -> 19 | H14: =$H13+$H$3 -> 19 | I14: =$I13+$I$3 -> 19
A15: 11 | B15: =$B14+$B$3 -> 150 | C15: =$C14+$C$3 -> 15 | D15: =$D14+$D$3 -> 20 | E15: =$E14+$E$3 -> 20 | F15: =$F14+$F$3 -> 20 | G15: =$G14+$G$3 -> 20 | H15: =$H14+$H$3 -> 20 | I15: =$I14+$I$3 -> 20
A16: 12 | B16: =$B15+$B$3 -> 155 | C16: =$C15+$C$3 -> 16 | D16: =$D15+$D$3 -> 21 | E16: =$E15+$E$3 -> 21 | F16: =$F15+$F$3 -> 21 | G16: =$G15+$G$3 -> 21 | H16: =$H15+$H$3 -> 21 | I16: =$I15+$I$3 -> 21
A17: 13 | B17: =$B16+$B$3 -> 160 | C17: =$C16+$C$3 -> 17 | D17: =$D16+$D$3 -> 22 | E17: =$E16+$E$3 -> 22 | F17: =$F16+$F$3 -> 22 | G17: =$G16+$G$3 -> 22 | H17: =$H16+$H$3 -> 22 | I17: =$I16+$I$3 -> 22
... A103: 99 | B103: =$B102+$B$3 -> 590 | C103: =$C102+$C$3 -> 103 | D103: =$D102+$D$3 -> 108 | E103: =$E102+$E$3 -> 108 | F103: =$F102+$F$3 -> 108 | G103: =$G102+$G$3 -> 108 | H103: =$H102+$H$3 -> 108 | I103: =$I102+$I$3 -> 108

Sheet Sorcerer
A1: Hermit - Sorcerer
A2: Priest
A3: Per Lvl | B3: 5 | C3: 1 | D3: 1 | E3: 1 | F3: 1 | G3: 1 | H3: 1 | I3: 1
A4: Level | B4: HP | C4: MP | D4: ATT | E4: DEF | F4: MAT | G4: MDF | H4: AGI | I4: LUK
A5: 1 | B5: 100 | C5: 5 | D5: 10 | E5: 10 | F5: 10 | G5: 10 | H5: 10 | I5: 10
A6: 2 | B6: =$B5+$B$3 -> 105 | C6: =$C5+$C$3 -> 6 | D6: =$D5+$D$3 -> 11 | E6: =$E5+$E$3 -> 11 | F6: =$F5+$F$3 -> 11 | G6: =$G5+$G$3 -> 11 | H6: =$H5+$H$3 -> 11 | I6: =$I5+$I$3 -> 11
A7: 3 | B7: =$B6+$B$3 -> 110 | C7: =$C6+$C$3 -> 7 | D7: =$D6+$D$3 -> 12 | E7: =$E6+$E$3 -> 12 | F7: =$F6+$F$3 -> 12 | G7: =$G6+$G$3 -> 12 | H7: =$H6+$H$3 -> 12 | I7: =$I6+$I$3 -> 12
A8: 4 | B8: =$B7+$B$3 -> 115 | C8: =$C7+$C$3 -> 8 | D8: =$D7+$D$3 -> 13 | E8: =$E7+$E$3 -> 13 | F8: =$F7+$F$3 -> 13 | G8: =$G7+$G$3 -> 13 | H8: =$H7+$H$3 -> 13 | I8: =$I7+$I$3 -> 13
A9: 5 | B9: =$B8+$B$3 -> 120 | C9: =$C8+$C$3 -> 9 | D9: =$D8+$D$3 -> 14 | E9: =$E8+$E$3 -> 14 | F9: =$F8+$F$3 -> 14 | G9: =$G8+$G$3 -> 14 | H9: =$H8+$H$3 -> 14 | I9: =$I8+$I$3 -> 14
A10: 6 | B10: =$B9+$B$3 -> 125 | C10: =$C9+$C$3 -> 10 | D10: =$D9+$D$3 -> 15 | E10: =$E9+$E$3 -> 15 | F10: =$F9+$F$3 -> 15 | G10: =$G9+$G$3 -> 15 | H10: =$H9+$H$3 -> 15 | I10: =$I9+$I$3 -> 15
A11: 7 | B11: =$B10+$B$3 -> 130 | C11: =$C10+$C$3 -> 11 | D11: =$D10+$D$3 -> 16 | E11: =$E10+$E$3 -> 16 | F11: =$F10+$F$3 -> 16 | G11: =$G10+$G$3 -> 16 | H11: =$H10+$H$3 -> 16 | I11: =$I10+$I$3 -> 16
A12: 8 | B12: =$B11+$B$3 -> 135 | C12: =$C11+$C$3 -> 12 | D12: =$D11+$D$3 -> 17 | E12: =$E11+$E$3 -> 17 | F12: =$F11+$F$3 -> 17 | G12: =$G11+$G$3 -> 17 | H12: =$H11+$H$3 -> 17 | I12: =$I11+$I$3 -> 17
A13: 9 | B13: =$B12+$B$3 -> 140 | C13: =$C12+$C$3 -> 13 | D13: =$D12+$D$3 -> 18 | E13: =$E12+$E$3 -> 18 | F13: =$F12+$F$3 -> 18 | G13: =$G12+$G$3 -> 18 | H13: =$H12+$H$3 -> 18 | I13: =$I12+$I$3 -> 18
A14: 10 | B14: =$B13+$B$3 -> 145 | C14: =$C13+$C$3 -> 14 | D14: =$D13+$D$3 -> 19 | E14: =$E13+$E$3 -> 19 | F14: =$F13+$F$3 -> 19 | G14: =$G13+$G$3 -> 19 | H14: =$H13+$H$3 -> 19 | I14: =$I13+$I$3 -> 19
A15: 11 | B15: =$B14+$B$3 -> 150 | C15: =$C14+$C$3 -> 15 | D15: =$D14+$D$3 -> 20 | E15: =$E14+$E$3 -> 20 | F15: =$F14+$F$3 -> 20 | G15: =$G14+$G$3 -> 20 | H15: =$H14+$H$3 -> 20 | I15: =$I14+$I$3 -> 20
A16: 12 | B16: =$B15+$B$3 -> 155 | C16: =$C15+$C$3 -> 16 | D16: =$D15+$D$3 -> 21 | E16: =$E15+$E$3 -> 21 | F16: =$F15+$F$3 -> 21 | G16: =$G15+$G$3 -> 21 | H16: =$H15+$H$3 -> 21 | I16: =$I15+$I$3 -> 21
A17: 13 | B17: =$B16+$B$3 -> 160 | C17: =$C16+$C$3 -> 17 | D17: =$D16+$D$3 -> 22 | E17: =$E16+$E$3 -> 22 | F17: =$F16+$F$3 -> 22 | G17: =$G16+$G$3 -> 22 | H17: =$H16+$H$3 -> 22 | I17: =$I16+$I$3 -> 22
... A103: 99 | B103: =$B102+$B$3 -> 590 | C103: =$C102+$C$3 -> 103 | D103: =$D102+$D$3 -> 108 | E103: =$E102+$E$3 -> 108 | F103: =$F102+$F$3 -> 108 | G103: =$G102+$G$3 -> 108 | H103: =$H102+$H$3 -> 108 | I103: =$I102+$I$3 -> 108

Sheet Scout
A1: Hermit - Scout
A2: Sorcerer
A3: Per Lvl | B3: 5 | C3: 1 | D3: 1 | E3: 1 | F3: 1 | G3: 1 | H3: 1 | I3: 1
A4: Level | B4: HP | C4: MP | D4: ATT | E4: DEF | F4: MAT | G4: MDF | H4: AGI | I4: LUK
A5: 1 | B5: 100 | C5: 5 | D5: 10 | E5: 10 | F5: 10 | G5: 10 | H5: 10 | I5: 10
A6: 2 | B6: =$B5+$B$3 -> 105 | C6: =$C5+$C$3 -> 6 | D6: =$D5+$D$3 -> 11 | E6: =$E5+$E$3 -> 11 | F6: =$F5+$F$3 -> 11 | G6: =$G5+$G$3 -> 11 | H6: =$H5+$H$3 -> 11 | I6: =$I5+$I$3 -> 11
A7: 3 | B7: =$B6+$B$3 -> 110 | C7: =$C6+$C$3 -> 7 | D7: =$D6+$D$3 -> 12 | E7: =$E6+$E$3 -> 12 | F7: =$F6+$F$3 -> 12 | G7: =$G6+$G$3 -> 12 | H7: =$H6+$H$3 -> 12 | I7: =$I6+$I$3 -> 12
A8: 4 | B8: =$B7+$B$3 -> 115 | C8: =$C7+$C$3 -> 8 | D8: =$D7+$D$3 -> 13 | E8: =$E7+$E$3 -> 13 | F8: =$F7+$F$3 -> 13 | G8: =$G7+$G$3 -> 13 | H8: =$H7+$H$3 -> 13 | I8: =$I7+$I$3 -> 13
A9: 5 | B9: =$B8+$B$3 -> 120 | C9: =$C8+$C$3 -> 9 | D9: =$D8+$D$3 -> 14 | E9: =$E8+$E$3 -> 14 | F9: =$F8+$F$3 -> 14 | G9: =$G8+$G$3 -> 14 | H9: =$H8+$H$3 -> 14 | I9: =$I8+$I$3 -> 14
A10: 6 | B10: =$B9+$B$3 -> 125 | C10: =$C9+$C$3 -> 10 | D10: =$D9+$D$3 -> 15 | E10: =$E9+$E$3 -> 15 | F10: =$F9+$F$3 -> 15 | G10: =$G9+$G$3 -> 15 | H10: =$H9+$H$3 -> 15 | I10: =$I9+$I$3 -> 15
A11: 7 | B11: =$B10+$B$3 -> 130 | C11: =$C10+$C$3 -> 11 | D11: =$D10+$D$3 -> 16 | E11: =$E10+$E$3 -> 16 | F11: =$F10+$F$3 -> 16 | G11: =$G10+$G$3 -> 16 | H11: =$H10+$H$3 -> 16 | I11: =$I10+$I$3 -> 16
A12: 8 | B12: =$B11+$B$3 -> 135 | C12: =$C11+$C$3 -> 12 | D12: =$D11+$D$3 -> 17 | E12: =$E11+$E$3 -> 17 | F12: =$F11+$F$3 -> 17 | G12: =$G11+$G$3 -> 17 | H12: =$H11+$H$3 -> 17 | I12: =$I11+$I$3 -> 17
A13: 9 | B13: =$B12+$B$3 -> 140 | C13: =$C12+$C$3 -> 13 | D13: =$D12+$D$3 -> 18 | E13: =$E12+$E$3 -> 18 | F13: =$F12+$F$3 -> 18 | G13: =$G12+$G$3 -> 18 | H13: =$H12+$H$3 -> 18 | I13: =$I12+$I$3 -> 18
A14: 10 | B14: =$B13+$B$3 -> 145 | C14: =$C13+$C$3 -> 14 | D14: =$D13+$D$3 -> 19 | E14: =$E13+$E$3 -> 19 | F14: =$F13+$F$3 -> 19 | G14: =$G13+$G$3 -> 19 | H14: =$H13+$H$3 -> 19 | I14: =$I13+$I$3 -> 19
A15: 11 | B15: =$B14+$B$3 -> 150 | C15: =$C14+$C$3 -> 15 | D15: =$D14+$D$3 -> 20 | E15: =$E14+$E$3 -> 20 | F15: =$F14+$F$3 -> 20 | G15: =$G14+$G$3 -> 20 | H15: =$H14+$H$3 -> 20 | I15: =$I14+$I$3 -> 20
A16: 12 | B16: =$B15+$B$3 -> 155 | C16: =$C15+$C$3 -> 16 | D16: =$D15+$D$3 -> 21 | E16: =$E15+$E$3 -> 21 | F16: =$F15+$F$3 -> 21 | G16: =$G15+$G$3 -> 21 | H16: =$H15+$H$3 -> 21 | I16: =$I15+$I$3 -> 21
A17: 13 | B17: =$B16+$B$3 -> 160 | C17: =$C16+$C$3 -> 17 | D17: =$D16+$D$3 -> 22 | E17: =$E16+$E$3 -> 22 | F17: =$F16+$F$3 -> 22 | G17: =$G16+$G$3 -> 22 | H17: =$H16+$H$3 -> 22 | I17: =$I16+$I$3 -> 22
... A103: 99 | B103: =$B102+$B$3 -> 590 | C103: =$C102+$C$3 -> 103 | D103: =$D102+$D$3 -> 108 | E103: =$E102+$E$3 -> 108 | F103: =$F102+$F$3 -> 108 | G103: =$G102+$G$3 -> 108 | H103: =$H102+$H$3 -> 108 | I103: =$I102+$I$3 -> 108

Sheet Gryn
A1: Gryn
A2: Merchant (Guest)
A3: Per Lvl | B3: 5 | C3: 1 | D3: 1 | E3: 1 | F3: 1 | G3: 1 | H3: 1 | I3: 1
A4: Level | B4: HP | C4: MP | D4: ATT | E4: DEF | F4: MAT | G4: MDF | H4: AGI | I4: LUK
A5: 1 | B5: 100 | C5: 5 | D5: 10 | E5: 10 | F5: 10 | G5: 10 | H5: 10 | I5: 10
A6: 2 | B6: =$B5+$B$3 -> 105 | C6: =$C5+$C$3 -> 6 | D6: =$D5+$D$3 -> 11 | E6: =$E5+$E$3 -> 11 | F6: =$F5+$F$3 -> 11 | G6: =$G5+$G$3 -> 11 | H6: =$H5+$H$3 -> 11 | I6: =$I5+$I$3 -> 11
A7: 3 | B7: =$B6+$B$3 -> 110 | C7: =$C6+$C$3 -> 7 | D7: =$D6+$D$3 -> 12 | E7: =$E6+$E$3 -> 12 | F7: =$F6+$F$3 -> 12 | G7: =$G6+$G$3 -> 12 | H7: =$H6+$H$3 -> 12 | I7: =$I6+$I$3 -> 12
A8: 4 | B8: =$B7+$B$3 -> 115 | C8: =$C7+$C$3 -> 8 | D8: =$D7+$D$3 -> 13 | E8: =$E7+$E$3 -> 13 | F8: =$F7+$F$3 -> 13 | G8: =$G7+$G$3 -> 13 | H8: =$H7+$H$3 -> 13 | I8: =$I7+$I$3 -> 13
A9: 5 | B9: =$B8+$B$3 -> 120 | C9: =$C8+$C$3 -> 9 | D9: =$D8+$D$3 -> 14 | E9: =$E8+$E$3 -> 14 | F9: =$F8+$F$3 -> 14 | G9: =$G8+$G$3 -> 14 | H9: =$H8+$H$3 -> 14 | I9: =$I8+$I$3 -> 14
A10: 6 | B10: =$B9+$B$3 -> 125 | C10: =$C9+$C$3 -> 10 | D10: =$D9+$D$3 -> 15 | E10: =$E9+$E$3 -> 15 | F10: =$F9+$F$3 -> 15 | G10: =$G9+$G$3 -> 15 | H10: =$H9+$H$3 -> 15 | I10: =$I9+$I$3 -> 15
A11: 7 | B11: =$B10+$B$3 -> 130 | C11: =$C10+$C$3 -> 11 | D11: =$D10+$D$3 -> 16 | E11: =$E10+$E$3 -> 16 | F11: =$F10+$F$3 -> 16 | G11: =$G10+$G$3 -> 16 | H11: =$H10+$H$3 -> 16 | I11: =$I10+$I$3 -> 16
A12: 8 | B12: =$B11+$B$3 -> 135 | C12: =$C11+$C$3 -> 12 | D12: =$D11+$D$3 -> 17 | E12: =$E11+$E$3 -> 17 | F12: =$F11+$F$3 -> 17 | G12: =$G11+$G$3 -> 17 | H12: =$H11+$H$3 -> 17 | I12: =$I11+$I$3 -> 17
A13: 9 | B13: =$B12+$B$3 -> 140 | C13: =$C12+$C$3 -> 13 | D13: =$D12+$D$3 -> 18 | E13: =$E12+$E$3 -> 18 | F13: =$F12+$F$3 -> 18 | G13: =$G12+$G$3 -> 18 | H13: =$H12+$H$3 -> 18 | I13: =$I12+$I$3 -> 18
A14: 10 | B14: =$B13+$B$3 -> 145 | C14: =$C13+$C$3 -> 14 | D14: =$D13+$D$3 -> 19 | E14: =$E13+$E$3 -> 19 | F14: =$F13+$F$3 -> 19 | G14: =$G13+$G$3 -> 19 | H14: =$H13+$H$3 -> 19 | I14: =$I13+$I$3 -> 19
A15: 11 | B15: =$B14+$B$3 -> 150 | C15: =$C14+$C$3 -> 15 | D15: =$D14+$D$3 -> 20 | E15: =$E14+$E$3 -> 20 | F15: =$F14+$F$3 -> 20 | G15: =$G14+$G$3 -> 20 | H15: =$H14+$H$3 -> 20 | I15: =$I14+$I$3 -> 20
A16: 12 | B16: =$B15+$B$3 -> 155 | C16: =$C15+$C$3 -> 16 | D16: =$D15+$D$3 -> 21 | E16: =$E15+$E$3 -> 21 | F16: =$F15+$F$3 -> 21 | G16: =$G15+$G$3 -> 21 | H16: =$H15+$H$3 -> 21 | I16: =$I15+$I$3 -> 21
A17: 13 | B17: =$B16+$B$3 -> 160 | C17: =$C16+$C$3 -> 17 | D17: =$D16+$D$3 -> 22 | E17: =$E16+$E$3 -> 22 | F17: =$F16+$F$3 -> 22 | G17: =$G16+$G$3 -> 22 | H17: =$H16+$H$3 -> 22 | I17: =$I16+$I$3 -> 22
... A103: 99 | B103: =$B102+$B$3 -> 590 | C103: =$C102+$C$3 -> 103 | D103: =$D102+$D$3 -> 108 | E103: =$E102+$E$3 -> 108 | F103: =$F102+$F$3 -> 108 | G103: =$G102+$G$3 -> 108 | H103: =$H102+$H$3 -> 108 | I103: =$I102+$I$3 -> 108

Sheet Dumpy
A1: Dumpy
A2: Mule (Guest)
A3: Per Lvl | B3: 5 | C3: 1 | D3: 1 | E3: 1 | F3: 1 | G3: 1 | H3: 1 | I3: 1
A4: Level | B4: HP | C4: MP | D4: ATT | E4: DEF | F4: MAT | G4: MDF | H4: AGI | I4: LUK
A5: 1 | B5: 100 | C5: 5 | D5: 10 | E5: 10 | F5: 10 | G5: 10 | H5: 10 | I5: 10
A6: 2 | B6: =$B5+$B$3 -> 105 | C6: =$C5+$C$3 -> 6 | D6: =$D5+$D$3 -> 11 | E6: =$E5+$E$3 -> 11 | F6: =$F5+$F$3 -> 11 | G6: =$G5+$G$3 -> 11 | H6: =$H5+$H$3 -> 11 | I6: =$I5+$I$3 -> 11
A7: 3 | B7: =$B6+$B$3 -> 110 | C7: =$C6+$C$3 -> 7 | D7: =$D6+$D$3 -> 12 | E7: =$E6+$E$3 -> 12 | F7: =$F6+$F$3 -> 12 | G7: =$G6+$G$3 -> 12 | H7: =$H6+$H$3 -> 12 | I7: =$I6+$I$3 -> 12
A8: 4 | B8: =$B7+$B$3 -> 115 | C8: =$C7+$C$3 -> 8 | D8: =$D7+$D$3 -> 13 | E8: =$E7+$E$3 -> 13 | F8: =$F7+$F$3 -> 13 | G8: =$G7+$G$3 -> 13 | H8: =$H7+$H$3 -> 13 | I8: =$I7+$I$3 -> 13
A9: 5 | B9: =$B8+$B$3 -> 120 | C9: =$C8+$C$3 -> 9 | D9: =$D8+$D$3 -> 14 | E9: =$E8+$E$3 -> 14 | F9: =$F8+$F$3 -> 14 | G9: =$G8+$G$3 -> 14 | H9: =$H8+$H$3 -> 14 | I9: =$I8+$I$3 -> 14
A10: 6 | B10: =$B9+$B$3 -> 125 | C10: =$C9+$C$3 -> 10 | D10: =$D9+$D$3 -> 15 | E10: =$E9+$E$3 -> 15 | F10: =$F9+$F$3 -> 15 | G10: =$G9+$G$3 -> 15 | H10: =$H9+$H$3 -> 15 | I10: =$I9+$I$3 -> 15
A11: 7 | B11: =$B10+$B$3 -> 130 | C11: =$C10+$C$3 -> 11 | D11: =$D10+$D$3 -> 16 | E11: =$E10+$E$3 -> 16 | F11: =$F10+$F$3 -> 16 | G11: =$G10+$G$3 -> 16 | H11: =$H10+$H$3 -> 16 | I11: =$I10+$I$3 -> 16
A12: 8 | B12: =$B11+$B$3 -> 135 | C12: =$C11+$C$3 -> 12 | D12: =$D11+$D$3 -> 17 | E12: =$E11+$E$3 -> 17 | F12: =$F11+$F$3 -> 17 | G12: =$G11+$G$3 -> 17 | H12: =$H11+$H$3 -> 17 | I12: =$I11+$I$3 -> 17
A13: 9 | B13: =$B12+$B$3 -> 140 | C13: =$C12+$C$3 -> 13 | D13: =$D12+$D$3 -> 18 | E13: =$E12+$E$3 -> 18 | F13: =$F12+$F$3 -> 18 | G13: =$G12+$G$3 -> 18 | H13: =$H12+$H$3 -> 18 | I13: =$I12+$I$3 -> 18
A14: 10 | B14: =$B13+$B$3 -> 145 | C14: =$C13+$C$3 -> 14 | D14: =$D13+$D$3 -> 19 | E14: =$E13+$E$3 -> 19 | F14: =$F13+$F$3 -> 19 | G14: =$G13+$G$3 -> 19 | H14: =$H13+$H$3 -> 19 | I14: =$I13+$I$3 -> 19
A15: 11 | B15: =$B14+$B$3 -> 150 | C15: =$C14+$C$3 -> 15 | D15: =$D14+$D$3 -> 20 | E15: =$E14+$E$3 -> 20 | F15: =$F14+$F$3 -> 20 | G15: =$G14+$G$3 -> 20 | H15: =$H14+$H$3 -> 20 | I15: =$I14+$I$3 -> 20
A16: 12 | B16: =$B15+$B$3 -> 155 | C16: =$C15+$C$3 -> 16 | D16: =$D15+$D$3 -> 21 | E16: =$E15+$E$3 -> 21 | F16: =$F15+$F$3 -> 21 | G16: =$G15+$G$3 -> 21 | H16: =$H15+$H$3 -> 21 | I16: =$I15+$I$3 -> 21
A17: 13 | B17: =$B16+$B$3 -> 160 | C17: =$C16+$C$3 -> 17 | D17: =$D16+$D$3 -> 22 | E17: =$E16+$E$3 -> 22 | F17: =$F16+$F$3 -> 22 | G17: =$G16+$G$3 -> 22 | H17: =$H16+$H$3 -> 22 | I17: =$I16+$I$3 -> 22
... A103: 99 | B103: =$B102+$B$3 -> 590 | C103: =$C102+$C$3 -> 103 | D103: =$D102+$D$3 -> 108 | E103: =$E102+$E$3 -> 108 | F103: =$F102+$F$3 -> 108 | G103: =$G102+$G$3 -> 108 | H103: =$H102+$H$3 -> 108 | I103: =$I102+$I$3 -> 108

Sheet Ahmrin
A1: Ahmrin
A2: Paladin
A3: Per Lvl | B3: 5 | C3: 1 | D3: 1 | E3: 1 | F3: 1 | G3: 1 | H3: 1 | I3: 1
A4: Level | B4: HP | C4: MP | D4: ATT | E4: DEF | F4: MAT | G4: MDF | H4: AGI | I4: LUK
A5: 1 | B5: 100 | C5: 5 | D5: 10 | E5: 10 | F5: 10 | G5: 10 | H5: 10 | I5: 10
A6: 2 | B6: =$B5+$B$3 -> 105 | C6: =$C5+$C$3 -> 6 | D6: =$D5+$D$3 -> 11 | E6: =$E5+$E$3 -> 11 | F6: =$F5+$F$3 -> 11 | G6: =$G5+$G$3 -> 11 | H6: =$H5+$H$3 -> 11 | I6: =$I5+$I$3 -> 11
A7: 3 | B7: =$B6+$B$3 -> 110 | C7: =$C6+$C$3 -> 7 | D7: =$D6+$D$3 -> 12 | E7: =$E6+$E$3 -> 12 | F7: =$F6+$F$3 -> 12 | G7: =$G6+$G$3 -> 12 | H7: =$H6+$H$3 -> 12 | I7: =$I6+$I$3 -> 12
A8: 4 | B8: =$B7+$B$3 -> 115 | C8: =$C7+$C$3 -> 8 | D8: =$D7+$D$3 -> 13 | E8: =$E7+$E$3 -> 13 | F8: =$F7+$F$3 -> 13 | G8: =$G7+$G$3 -> 13 | H8: =$H7+$H$3 -> 13 | I8: =$I7+$I$3 -> 13
A9: 5 | B9: =$B8+$B$3 -> 120 | C9: =$C8+$C$3 -> 9 | D9: =$D8+$D$3 -> 14 | E9: =$E8+$E$3 -> 14 | F9: =$F8+$F$3 -> 14 | G9: =$G8+$G$3 -> 14 | H9: =$H8+$H$3 -> 14 | I9: =$I8+$I$3 -> 14
A10: 6 | B10: =$B9+$B$3 -> 125 | C10: =$C9+$C$3 -> 10 | D10: =$D9+$D$3 -> 15 | E10: =$E9+$E$3 -> 15 | F10: =$F9+$F$3 -> 15 | G10: =$G9+$G$3 -> 15 | H10: =$H9+$H$3 -> 15 | I10: =$I9+$I$3 -> 15
A11: 7 | B11: =$B10+$B$3 -> 130 | C11: =$C10+$C$3 -> 11 | D11: =$D10+$D$3 -> 16 | E11: =$E10+$E$3 -> 16 | F11: =$F10+$F$3 -> 16 | G11: =$G10+$G$3 -> 16 | H11: =$H10+$H$3 -> 16 | I11: =$I10+$I$3 -> 16
A12: 8 | B12: =$B11+$B$3 -> 135 | C12: =$C11+$C$3 -> 12 | D12: =$D11+$D$3 -> 17 | E12: =$E11+$E$3 -> 17 | F12: =$F11+$F$3 -> 17 | G12: =$G11+$G$3 -> 17 | H12: =$H11+$H$3 -> 17 | I12: =$I11+$I$3 -> 17
A13: 9 | B13: =$B12+$B$3 -> 140 | C13: =$C12+$C$3 -> 13 | D13: =$D12+$D$3 -> 18 | E13: =$E12+$E$3 -> 18 | F13: =$F12+$F$3 -> 18 | G13: =$G12+$G$3 -> 18 | H13: =$H12+$H$3 -> 18 | I13: =$I12+$I$3 -> 18
A14: 10 | B14: =$B13+$B$3 -> 145 | C14: =$C13+$C$3 -> 14 | D14: =$D13+$D$3 -> 19 | E14: =$E13+$E$3 -> 19 | F14: =$F13+$F$3 -> 19 | G14: =$G13+$G$3 -> 19 | H14: =$H13+$H$3 -> 19 | I14: =$I13+$I$3 -> 19
A15: 11 | B15: =$B14+$B$3 -> 150 | C15: =$C14+$C$3 -> 15 | D15: =$D14+$D$3 -> 20 | E15: =$E14+$E$3 -> 20 | F15: =$F14+$F$3 -> 20 | G15: =$G14+$G$3 -> 20 | H15: =$H14+$H$3 -> 20 | I15: =$I14+$I$3 -> 20
A16: 12 | B16: =$B15+$B$3 -> 155 | C16: =$C15+$C$3 -> 16 | D16: =$D15+$D$3 -> 21 | E16: =$E15+$E$3 -> 21 | F16: =$F15+$F$3 -> 21 | G16: =$G15+$G$3 -> 21 | H16: =$H15+$H$3 -> 21 | I16: =$I15+$I$3 -> 21
A17: 13 | B17: =$B16+$B$3 -> 160 | C17: =$C16+$C$3 -> 17 | D17: =$D16+$D$3 -> 22 | E17: =$E16+$E$3 -> 22 | F17: =$F16+$F$3 -> 22 | G17: =$G16+$G$3 -> 22 | H17: =$H16+$H$3 -> 22 | I17: =$I16+$I$3 -> 22
... A103: 99 | B103: =$B102+$B$3 -> 590 | C103: =$C102+$C$3 -> 103 | D103: =$D102+$D$3 -> 108 | E103: =$E102+$E$3 -> 108 | F103: =$F102+$F$3 -> 108 | G103: =$G102+$G$3 -> 108 | H103: =$H102+$H$3 -> 108 | I103: =$I102+$I$3 -> 108

Sheet Leira
A1: Leira
A2: Bard (Guest)
A3: Per Lvl | B3: 5 | C3: 1 | D3: 1 | E3: 1 | F3: 1 | G3: 1 | H3: 1 | I3: 1
A4: Level | B4: HP | C4: MP | D4: ATT | E4: DEF | F4: MAT | G4: MDF | H4: AGI | I4: LUK
A5: 1 | B5: 100 | C5: 5 | D5: 10 | E5: 10 | F5: 10 | G5: 10 | H5: 10 | I5: 10
A6: 2 | B6: =$B5+$B$3 -> 105 | C6: =$C5+$C$3 -> 6 | D6: =$D5+$D$3 -> 11 | E6: =$E5+$E$3 -> 11 | F6: =$F5+$F$3 -> 11 | G6: =$G5+$G$3 -> 11 | H6: =$H5+$H$3 -> 11 | I6: =$I5+$I$3 -> 11
A7: 3 | B7: =$B6+$B$3 -> 110 | C7: =$C6+$C$3 -> 7 | D7: =$D6+$D$3 -> 12 | E7: =$E6+$E$3 -> 12 | F7: =$F6+$F$3 -> 12 | G7: =$G6+$G$3 -> 12 | H7: =$H6+$H$3 -> 12 | I7: =$I6+$I$3 -> 12
A8: 4 | B8: =$B7+$B$3 -> 115 | C8: =$C7+$C$3 -> 8 | D8: =$D7+$D$3 -> 13 | E8: =$E7+$E$3 -> 13 | F8: =$F7+$F$3 -> 13 | G8: =$G7+$G$3 -> 13 | H8: =$H7+$H$3 -> 13 | I8: =$I7+$I$3 -> 13
A9: 5 | B9: =$B8+$B$3 -> 120 | C9: =$C8+$C$3 -> 9 | D9: =$D8+$D$3 -> 14 | E9: =$E8+$E$3 -> 14 | F9: =$F8+$F$3 -> 14 | G9: =$G8+$G$3 -> 14 | H9: =$H8+$H$3 -> 14 | I9: =$I8+$I$3 -> 14
A10: 6 | B10: =$B9+$B$3 -> 125 | C10: =$C9+$C$3 -> 10 | D10: =$D9+$D$3 -> 15 | E10: =$E9+$E$3 -> 15 | F10: =$F9+$F$3 -> 15 | G10: =$G9+$G$3 -> 15 | H10: =$H9+$H$3 -> 15 | I10: =$I9+$I$3 -> 15
A11: 7 | B11: =$B10+$B$3 -> 130 | C11: =$C10+$C$3 -> 11 | D11: =$D10+$D$3 -> 16 | E11: =$E10+$E$3 -> 16 | F11: =$F10+$F$3 -> 16 | G11: =$G10+$G$3 -> 16 | H11: =$H10+$H$3 -> 16 | I11: =$I10+$I$3 -> 16
A12: 8 | B12: =$B11+$B$3 -> 135 | C12: =$C11+$C$3 -> 12 | D12: =$D11+$D$3 -> 17 | E12: =$E11+$E$3 -> 17 | F12: =$F11+$F$3 -> 17 | G12: =$G11+$G$3 -> 17 | H12: =$H11+$H$3 -> 17 | I12: =$I11+$I$3 -> 17
A13: 9 | B13: =$B12+$B$3 -> 140 | C13: =$C12+$C$3 -> 13 | D13: =$D12+$D$3 -> 18 | E13: =$E12+$E$3 -> 18 | F13: =$F12+$F$3 -> 18 | G13: =$G12+$G$3 -> 18 | H13: =$H12+$H$3 -> 18 | I13: =$I12+$I$3 -> 18
A14: 10 | B14: =$B13+$B$3 -> 145 | C14: =$C13+$C$3 -> 14 | D14: =$D13+$D$3 -> 19 | E14: =$E13+$E$3 -> 19 | F14: =$F13+$F$3 -> 19 | G14: =$G13+$G$3 -> 19 | H14: =$H13+$H$3 -> 19 | I14: =$I13+$I$3 -> 19
A15: 11 | B15: =$B14+$B$3 -> 150 | C15: =$C14+$C$3 -> 15 | D15: =$D14+$D$3 -> 20 | E15: =$E14+$E$3 -> 20 | F15: =$F14+$F$3 -> 20 | G15: =$G14+$G$3 -> 20 | H15: =$H14+$H$3 -> 20 | I15: =$I14+$I$3 -> 20
A16: 12 | B16: =$B15+$B$3 -> 155 | C16: =$C15+$C$3 -> 16 | D16: =$D15+$D$3 -> 21 | E16: =$E15+$E$3 -> 21 | F16: =$F15+$F$3 -> 21 | G16: =$G15+$G$3 -> 21 | H16: =$H15+$H$3 -> 21 | I16: =$I15+$I$3 -> 21
A17: 13 | B17: =$B16+$B$3 -> 160 | C17: =$C16+$C$3 -> 17 | D17: =$D16+$D$3 -> 22 | E17: =$E16+$E$3 -> 22 | F17: =$F16+$F$3 -> 22 | G17: =$G16+$G$3 -> 22 | H17: =$H16+$H$3 -> 22 | I17: =$I16+$I$3 -> 22
... A103: 99 | B103: =$B102+$B$3 -> 590 | C103: =$C102+$C$3 -> 103 | D103: =$D102+$D$3 -> 108 | E103: =$E102+$E$3 -> 108 | F103: =$F102+$F$3 -> 108 | G103: =$G102+$G$3 -> 108 | H103: =$H102+$H$3 -> 108 | I103: =$I102+$I$3 -> 108

Sheet Hero8
A1: Hero8
A2: Class
A3: Per Lvl | B3: 5 | C3: 1 | D3: 1 | E3: 1 | F3: 1 | G3: 1 | H3: 1 | I3: 1
A4: Level | B4: HP | C4: MP | D4: ATT | E4: DEF | F4: MAT | G4: MDF | H4: AGI | I4: LUK
A5: 1 | B5: 100 | C5: 5 | D5: 10 | E5: 10 | F5: 10 | G5: 10 | H5: 10 | I5: 10
A6: 2 | B6: =$B5+$B$3 -> 105 | C6: =$C5+$C$3 -> 6 | D6: =$D5+$D$3 -> 11 | E6: =$E5+$E$3 -> 11 | F6: =$F5+$F$3 -> 11 | G6: =$G5+$G$3 -> 11 | H6: =$H5+$H$3 -> 11 | I6: =$I5+$I$3 -> 11
A7: 3 | B7: =$B6+$B$3 -> 110 | C7: =$C6+$C$3 -> 7 | D7: =$D6+$D$3 -> 12 | E7: =$E6+$E$3 -> 12 | F7: =$F6+$F$3 -> 12 | G7: =$G6+$G$3 -> 12 | H7: =$H6+$H$3 -> 12 | I7: =$I6+$I$3 -> 12
A8: 4 | B8: =$B7+$B$3 -> 115 | C8: =$C7+$C$3 -> 8 | D8: =$D7+$D$3 -> 13 | E8: =$E7+$E$3 -> 13 | F8: =$F7+$F$3 -> 13 | G8: =$G7+$G$3 -> 13 | H8: =$H7+$H$3 -> 13 | I8: =$I7+$I$3 -> 13
A9: 5 | B9: =$B8+$B$3 -> 120 | C9: =$C8+$C$3 -> 9 | D9: =$D8+$D$3 -> 14 | E9: =$E8+$E$3 -> 14 | F9: =$F8+$F$3 -> 14 | G9: =$G8+$G$3 -> 14 | H9: =$H8+$H$3 -> 14 | I9: =$I8+$I$3 -> 14
A10: 6 | B10: =$B9+$B$3 -> 125 | C10: =$C9+$C$3 -> 10 | D10: =$D9+$D$3 -> 15 | E10: =$E9+$E$3 -> 15 | F10: =$F9+$F$3 -> 15 | G10: =$G9+$G$3 -> 15 | H10: =$H9+$H$3 -> 15 | I10: =$I9+$I$3 -> 15
A11: 7 | B11: =$B10+$B$3 -> 130 | C11: =$C10+$C$3 -> 11 | D11: =$D10+$D$3 -> 16 | E11: =$E10+$E$3 -> 16 | F11: =$F10+$F$3 -> 16 | G11: =$G10+$G$3 -> 16 | H11: =$H10+$H$3 -> 16 | I11: =$I10+$I$3 -> 16
A12: 8 | B12: =$B11+$B$3 -> 135 | C12: =$C11+$C$3 -> 12 | D12: =$D11+$D$3 -> 17 | E12: =$E11+$E$3 -> 17 | F12: =$F11+$F$3 -> 17 | G12: =$G11+$G$3 -> 17 | H12: =$H11+$H$3 -> 17 | I12: =$I11+$I$3 -> 17
A13: 9 | B13: =$B12+$B$3 -> 140 | C13: =$C12+$C$3 -> 13 | D13: =$D12+$D$3 -> 18 | E13: =$E12+$E$3 -> 18 | F13: =$F12+$F$3 -> 18 | G13: =$G12+$G$3 -> 18 | H13: =$H12+$H$3 -> 18 | I13: =$I12+$I$3 -> 18
A14: 10 | B14: =$B13+$B$3 -> 145 | C14: =$C13+$C$3 -> 14 | D14: =$D13+$D$3 -> 19 | E14: =$E13+$E$3 -> 19 | F14: =$F13+$F$3 -> 19 | G14: =$G13+$G$3 -> 19 | H14: =$H13+$H$3 -> 19 | I14: =$I13+$I$3 -> 19
A15: 11 | B15: =$B14+$B$3 -> 150 | C15: =$C14+$C$3 -> 15 | D15: =$D14+$D$3 -> 20 | E15: =$E14+$E$3 -> 20 | F15: =$F14+$F$3 -> 20 | G15: =$G14+$G$3 -> 20 | H15: =$H14+$H$3 -> 20 | I15: =$I14+$I$3 -> 20
A16: 12 | B16: =$B15+$B$3 -> 155 | C16: =$C15+$C$3 -> 16 | D16: =$D15+$D$3 -> 21 | E16: =$E15+$E$3 -> 21 | F16: =$F15+$F$3 -> 21 | G16: =$G15+$G$3 -> 21 | H16: =$H15+$H$3 -> 21 | I16: =$I15+$I$3 -> 21
A17: 13 | B17: =$B16+$B$3 -> 160 | C17: =$C16+$C$3 -> 17 | D17: =$D16+$D$3 -> 22 | E17: =$E16+$E$3 -> 22 | F17: =$F16+$F$3 -> 22 | G17: =$G16+$G$3 -> 22 | H17: =$H16+$H$3 -> 22 | I17: =$I16+$I$3 -> 22
... A103: 99 | B103: =$B102+$B$3 -> 590 | C103: =$C102+$C$3 -> 103 | D103: =$D102+$D$3 -> 108 | E103: =$E102+$E$3 -> 108 | F103: =$F102+$F$3 -> 108 | G103: =$G102+$G$3 -> 108 | H103: =$H102+$H$3 -> 108 | I103: =$I102+$I$3 -> 108

Sheet Hero9
A1: Hero9
A2: Class
A3: Per Lvl | B3: 5 | C3: 1 | D3: 1 | E3: 1 | F3: 1 | G3: 1 | H3: 1 | I3: 1
A4: Level | B4: HP | C4: MP | D4: ATT | E4: DEF | F4: MAT | G4: MDF | H4: AGI | I4: LUK
A5: 1 | B5: 100 | C5: 5 | D5: 10 | E5: 10 | F5: 10 | G5: 10 | H5: 10 | I5: 10
A6: 2 | B6: =$B5+$B$3 -> 105 | C6: =$C5+$C$3 -> 6 | D6: =$D5+$D$3 -> 11 | E6: =$E5+$E$3 -> 11 | F6: =$F5+$F$3 -> 11 | G6: =$G5+$G$3 -> 11 | H6: =$H5+$H$3 -> 11 | I6: =$I5+$I$3 -> 11
A7: 3 | B7: =$B6+$B$3 -> 110 | C7: =$C6+$C$3 -> 7 | D7: =$D6+$D$3 -> 12 | E7: =$E6+$E$3 -> 12 | F7: =$F6+$F$3 -> 12 | G7: =$G6+$G$3 -> 12 | H7: =$H6+$H$3 -> 12 | I7: =$I6+$I$3 -> 12
A8: 4 | B8: =$B7+$B$3 -> 115 | C8: =$C7+$C$3 -> 8 | D8: =$D7+$D$3 -> 13 | E8: =$E7+$E$3 -> 13 | F8: =$F7+$F$3 -> 13 | G8: =$G7+$G$3 -> 13 | H8: =$H7+$H$3 -> 13 | I8: =$I7+$I$3 -> 13
A9: 5 | B9: =$B8+$B$3 -> 120 | C9: =$C8+$C$3 -> 9 | D9: =$D8+$D$3 -> 14 | E9: =$E8+$E$3 -> 14 | F9: =$F8+$F$3 -> 14 | G9: =$G8+$G$3 -> 14 | H9: =$H8+$H$3 -> 14 | I9: =$I8+$I$3 -> 14
A10: 6 | B10: =$B9+$B$3 -> 125 | C10: =$C9+$C$3 -> 10 | D10: =$D9+$D$3 -> 15 | E10: =$E9+$E$3 -> 15 | F10: =$F9+$F$3 -> 15 | G10: =$G9+$G$3 -> 15 | H10: =$H9+$H$3 -> 15 | I10: =$I9+$I$3 -> 15
A11: 7 | B11: =$B10+$B$3 -> 130 | C11: =$C10+$C$3 -> 11 | D11: =$D10+$D$3 -> 16 | E11: =$E10+$E$3 -> 16 | F11: =$F10+$F$3 -> 16 | G11: =$G10+$G$3 -> 16 | H11: =$H10+$H$3 -> 16 | I11: =$I10+$I$3 -> 16
A12: 8 | B12: =$B11+$B$3 -> 135 | C12: =$C11+$C$3 -> 12 | D12: =$D11+$D$3 -> 17 | E12: =$E11+$E$3 -> 17 | F12: =$F11+$F$3 -> 17 | G12: =$G11+$G$3 -> 17 | H12: =$H11+$H$3 -> 17 | I12: =$I11+$I$3 -> 17
A13: 9 | B13: =$B12+$B$3 -> 140 | C13: =$C12+$C$3 -> 13 | D13: =$D12+$D$3 -> 18 | E13: =$E12+$E$3 -> 18 | F13: =$F12+$F$3 -> 18 | G13: =$G12+$G$3 -> 18 | H13: =$H12+$H$3 -> 18 | I13: =$I12+$I$3 -> 18
A14: 10 | B14: =$B13+$B$3 -> 145 | C14: =$C13+$C$3 -> 14 | D14: =$D13+$D$3 -> 19 | E14: =$E13+$E$3 -> 19 | F14: =$F13+$F$3 -> 19 | G14: =$G13+$G$3 -> 19 | H14: =$H13+$H$3 -> 19 | I14: =$I13+$I$3 -> 19
A15: 11 | B15: =$B14+$B$3 -> 150 | C15: =$C14+$C$3 -> 15 | D15: =$D14+$D$3 -> 20 | E15: =$E14+$E$3 -> 20 | F15: =$F14+$F$3 -> 20 | G15: =$G14+$G$3 -> 20 | H15: =$H14+$H$3 -> 20 | I15: =$I14+$I$3 -> 20
A16: 12 | B16: =$B15+$B$3 -> 155 | C16: =$C15+$C$3 -> 16 | D16: =$D15+$D$3 -> 21 | E16: =$E15+$E$3 -> 21 | F16: =$F15+$F$3 -> 21 | G16: =$G15+$G$3 -> 21 | H16: =$H15+$H$3 -> 21 | I16: =$I15+$I$3 -> 21
A17: 13 | B17: =$B16+$B$3 -> 160 | C17: =$C16+$C$3 -> 17 | D17: =$D16+$D$3 -> 22 | E17: =$E16+$E$3 -> 22 | F17: =$F16+$F$3 -> 22 | G17: =$G16+$G$3 -> 22 | H17: =$H16+$H$3 -> 22 | I17: =$I16+$I$3 -> 22
... A103: 99 | B103: =$B102+$B$3 -> 590 | C103: =$C102+$C$3 -> 103 | D103: =$D102+$D$3 -> 108 | E103: =$E102+$E$3 -> 108 | F103: =$F102+$F$3 -> 108 | G103: =$G102+$G$3 -> 108 | H103: =$H102+$H$3 -> 108 | I103: =$I102+$I$3 -> 108

Sheet Hero10
A1: Hero10
A2: Class
A3: Per Lvl | B3: 5 | C3: 1 | D3: 1 | E3: 1 | F3: 1 | G3: 1 | H3: 1 | I3: 1
A4: Level | B4: HP | C4: MP | D4: ATT | E4: DEF | F4: MAT | G4: MDF | H4: AGI | I4: LUK
A5: 1 | B5: 100 | C5: 5 | D5: 10 | E5: 10 | F5: 10 | G5: 10 | H5: 10 | I5: 10
A6: 2 | B6: =$B5+$B$3 -> 105 | C6: =$C5+$C$3 -> 6 | D6: =$D5+$D$3 -> 11 | E6: =$E5+$E$3 -> 11 | F6: =$F5+$F$3 -> 11 | G6: =$G5+$G$3 -> 11 | H6: =$H5+$H$3 -> 11 | I6: =$I5+$I$3 -> 11
A7: 3 | B7: =$B6+$B$3 -> 110 | C7: =$C6+$C$3 -> 7 | D7: =$D6+$D$3 -> 12 | E7: =$E6+$E$3 -> 12 | F7: =$F6+$F$3 -> 12 | G7: =$G6+$G$3 -> 12 | H7: =$H6+$H$3 -> 12 | I7: =$I6+$I$3 -> 12
A8: 4 | B8: =$B7+$B$3 -> 115 | C8: =$C7+$C$3 -> 8 | D8: =$D7+$D$3 -> 13 | E8: =$E7+$E$3 -> 13 | F8: =$F7+$F$3 -> 13 | G8: =$G7+$G$3 -> 13 | H8: =$H7+$H$3 -> 13 | I8: =$I7+$I$3 -> 13
A9: 5 | B9: =$B8+$B$3 -> 120 | C9: =$C8+$C$3 -> 9 | D9: =$D8+$D$3 -> 14 | E9: =$E8+$E$3 -> 14 | F9: =$F8+$F$3 -> 14 | G9: =$G8+$G$3 -> 14 | H9: =$H8+$H$3 -> 14 | I9: =$I8+$I$3 -> 14
A10: 6 | B10: =$B9+$B$3 -> 125 | C10: =$C9+$C$3 -> 10 | D10: =$D9+$D$3 -> 15 | E10: =$E9+$E$3 -> 15 | F10: =$F9+$F$3 -> 15 | G10: =$G9+$G$3 -> 15 | H10: =$H9+$H$3 -> 15 | I10: =$I9+$I$3 -> 15
A11: 7 | B11: =$B10+$B$3 -> 130 | C11: =$C10+$C$3 -> 11 | D11: =$D10+$D$3 -> 16 | E11: =$E10+$E$3 -> 16 | F11: =$F10+$F$3 -> 16 | G11: =$G10+$G$3 -> 16 | H11: =$H10+$H$3 -> 16 | I11: =$I10+$I$3 -> 16
A12: 8 | B12: =$B11+$B$3 -> 135 | C12: =$C11+$C$3 -> 12 | D12: =$D11+$D$3 -> 17 | E12: =$E11+$E$3 -> 17 | F12: =$F11+$F$3 -> 17 | G12: =$G11+$G$3 -> 17 | H12: =$H11+$H$3 -> 17 | I12: =$I11+$I$3 -> 17
A13: 9 | B13: =$B12+$B$3 -> 140 | C13: =$C12+$C$3 -> 13 | D13: =$D12+$D$3 -> 18 | E13: =$E12+$E$3 -> 18 | F13: =$F12+$F$3 -> 18 | G13: =$G12+$G$3 -> 18 | H13: =$H12+$H$3 -> 18 | I13: =$I12+$I$3 -> 18
A14: 10 | B14: =$B13+$B$3 -> 145 | C14: =$C13+$C$3 -> 14 | D14: =$D13+$D$3 -> 19 | E14: =$E13+$E$3 -> 19 | F14: =$F13+$F$3 -> 19 | G14: =$G13+$G$3 -> 19 | H14: =$H13+$H$3 -> 19 | I14: =$I13+$I$3 -> 19
A15: 11 | B15: =$B14+$B$3 -> 150 | C15: =$C14+$C$3 -> 15 | D15: =$D14+$D$3 -> 20 | E15: =$E14+$E$3 -> 20 | F15: =$F14+$F$3 -> 20 | G15: =$G14+$G$3 -> 20 | H15: =$H14+$H$3 -> 20 | I15: =$I14+$I$3 -> 20
A16: 12 | B16: =$B15+$B$3 -> 155 | C16: =$C15+$C$3 -> 16 | D16: =$D15+$D$3 -> 21 | E16: =$E15+$E$3 -> 21 | F16: =$F15+$F$3 -> 21 | G16: =$G15+$G$3 -> 21 | H16: =$H15+$H$3 -> 21 | I16: =$I15+$I$3 -> 21
A17: 13 | B17: =$B16+$B$3 -> 160 | C17: =$C16+$C$3 -> 17 | D17: =$D16+$D$3 -> 22 | E17: =$E16+$E$3 -> 22 | F17: =$F16+$F$3 -> 22 | G17: =$G16+$G$3 -> 22 | H17: =$H16+$H$3 -> 22 | I17: =$I16+$I$3 -> 22
... A103: 99 | B103: =$B102+$B$3 -> 590 | C103: =$C102+$C$3 -> 103 | D103: =$D102+$D$3 -> 108 | E103: =$E102+$E$3 -> 108 | F103: =$F102+$F$3 -> 108 | G103: =$G102+$G$3 -> 108 | H103: =$H102+$H$3 -> 108 | I103: =$I102+$I$3 -> 108

Sheet Hero11
A1: Hero11
A2: Class
A3: Per Lvl | B3: 5 | C3: 1 | D3: 1 | E3: 1 | F3: 1 | G3: 1 | H3: 1 | I3: 1
A4: Level | B4: HP | C4: MP | D4: ATT | E4: DEF | F4: MAT | G4: MDF | H4: AGI | I4: LUK
A5: 1 | B5: 100 | C5: 5 | D5: 10 | E5: 10 | F5: 10 | G5: 10 | H5: 10 | I5: 10
A6: 2 | B6: =$B5+$B$3 -> 105 | C6: =$C5+$C$3 -> 6 | D6: =$D5+$D$3 -> 11 | E6: =$E5+$E$3 -> 11 | F6: =$F5+$F$3 -> 11 | G6: =$G5+$G$3 -> 11 | H6: =$H5+$H$3 -> 11 | I6: =$I5+$I$3 -> 11
A7: 3 | B7: =$B6+$B$3 -> 110 | C7: =$C6+$C$3 -> 7 | D7: =$D6+$D$3 -> 12 | E7: =$E6+$E$3 -> 12 | F7: =$F6+$F$3 -> 12 | G7: =$G6+$G$3 -> 12 | H7: =$H6+$H$3 -> 12 | I7: =$I6+$I$3 -> 12
A8: 4 | B8: =$B7+$B$3 -> 115 | C8: =$C7+$C$3 -> 8 | D8: =$D7+$D$3 -> 13 | E8: =$E7+$E$3 -> 13 | F8: =$F7+$F$3 -> 13 | G8: =$G7+$G$3 -> 13 | H8: =$H7+$H$3 -> 13 | I8: =$I7+$I$3 -> 13
A9: 5 | B9: =$B8+$B$3 -> 120 | C9: =$C8+$C$3 -> 9 | D9: =$D8+$D$3 -> 14 | E9: =$E8+$E$3 -> 14 | F9: =$F8+$F$3 -> 14 | G9: =$G8+$G$3 -> 14 | H9: =$H8+$H$3 -> 14 | I9: =$I8+$I$3 -> 14
A10: 6 | B10: =$B9+$B$3 -> 125 | C10: =$C9+$C$3 -> 10 | D10: =$D9+$D$3 -> 15 | E10: =$E9+$E$3 -> 15 | F10: =$F9+$F$3 -> 15 | G10: =$G9+$G$3 -> 15 | H10: =$H9+$H$3 -> 15 | I10: =$I9+$I$3 -> 15
A11: 7 | B11: =$B10+$B$3 -> 130 | C11: =$C10+$C$3 -> 11 | D11: =$D10+$D$3 -> 16 | E11: =$E10+$E$3 -> 16 | F11: =$F10+$F$3 -> 16 | G11: =$G10+$G$3 -> 16 | H11: =$H10+$H$3 -> 16 | I11: =$I10+$I$3 -> 16
A12: 8 | B12: =$B11+$B$3 -> 135 | C12: =$C11+$C$3 -> 12 | D12: =$D11+$D$3 -> 17 | E12: =$E11+$E$3 -> 17 | F12: =$F11+$F$3 -> 17 | G12: =$G11+$G$3 -> 17 | H12: =$H11+$H$3 -> 17 | I12: =$I11+$I$3 -> 17
A13: 9 | B13: =$B12+$B$3 -> 140 | C13: =$C12+$C$3 -> 13 | D13: =$D12+$D$3 -> 18 | E13: =$E12+$E$3 -> 18 | F13: =$F12+$F$3 -> 18 | G13: =$G12+$G$3 -> 18 | H13: =$H12+$H$3 -> 18 | I13: =$I12+$I$3 -> 18
A14: 10 | B14: =$B13+$B$3 -> 145 | C14: =$C13+$C$3 -> 14 | D14: =$D13+$D$3 -> 19 | E14: =$E13+$E$3 -> 19 | F14: =$F13+$F$3 -> 19 | G14: =$G13+$G$3 -> 19 | H14: =$H13+$H$3 -> 19 | I14: =$I13+$I$3 -> 19
A15: 11 | B15: =$B14+$B$3 -> 150 | C15: =$C14+$C$3 -> 15 | D15: =$D14+$D$3 -> 20 | E15: =$E14+$E$3 -> 20 | F15: =$F14+$F$3 -> 20 | G15: =$G14+$G$3 -> 20 | H15: =$H14+$H$3 -> 20 | I15: =$I14+$I$3 -> 20
A16: 12 | B16: =$B15+$B$3 -> 155 | C16: =$C15+$C$3 -> 16 | D16: =$D15+$D$3 -> 21 | E16: =$E15+$E$3 -> 21 | F16: =$F15+$F$3 -> 21 | G16: =$G15+$G$3 -> 21 | H16: =$H15+$H$3 -> 21 | I16: =$I15+$I$3 -> 21
A17: 13 | B17: =$B16+$B$3 -> 160 | C17: =$C16+$C$3 -> 17 | D17: =$D16+$D$3 -> 22 | E17: =$E16+$E$3 -> 22 | F17: =$F16+$F$3 -> 22 | G17: =$G16+$G$3 -> 22 | H17: =$H16+$H$3 -> 22 | I17: =$I16+$I$3 -> 22
... A103: 99 | B103: =$B102+$B$3 -> 590 | C103: =$C102+$C$3 -> 103 | D103: =$D102+$D$3 -> 108 | E103: =$E102+$E$3 -> 108 | F103: =$F102+$F$3 -> 108 | G103: =$G102+$G$3 -> 108 | H103: =$H102+$H$3 -> 108 | I103: =$I102+$I$3 -> 108

Sheet Hero12
A1: Hero12
A2: Class
A3: Per Lvl | B3: 5 | C3: 1 | D3: 1 | E3: 1 | F3: 1 | G3: 1 | H3: 1 | I3: 1
A4: Level | B4: HP | C4: MP | D4: ATT | E4: DEF | F4: MAT | G4: MDF | H4: AGI | I4: LUK
A5: 1 | B5: 100 | C5: 5 | D5: 10 | E5: 10 | F5: 10 | G5: 10 | H5: 10 | I5: 10
A6: 2 | B6: =$B5+$B$3 -> 105 | C6: =$C5+$C$3 -> 6 | D6: =$D5+$D$3 -> 11 | E6: =$E5+$E$3 -> 11 | F6: =$F5+$F$3 -> 11 | G6: =$G5+$G$3 -> 11 | H6: =$H5+$H$3 -> 11 | I6: =$I5+$I$3 -> 11
A7: 3 | B7: =$B6+$B$3 -> 110 | C7: =$C6+$C$3 -> 7 | D7: =$D6+$D$3 -> 12 | E7: =$E6+$E$3 -> 12 | F7: =$F6+$F$3 -> 12 | G7: =$G6+$G$3 -> 12 | H7: =$H6+$H$3 -> 12 | I7: =$I6+$I$3 -> 12
A8: 4 | B8: =$B7+$B$3 -> 115 | C8: =$C7+$C$3 -> 8 | D8: =$D7+$D$3 -> 13 | E8: =$E7+$E$3 -> 13 | F8: =$F7+$F$3 -> 13 | G8: =$G7+$G$3 -> 13 | H8: =$H7+$H$3 -> 13 | I8: =$I7+$I$3 -> 13
A9: 5 | B9: =$B8+$B$3 -> 120 | C9: =$C8+$C$3 -> 9 | D9: =$D8+$D$3 -> 14 | E9: =$E8+$E$3 -> 14 | F9: =$F8+$F$3 -> 14 | G9: =$G8+$G$3 -> 14 | H9: =$H8+$H$3 -> 14 | I9: =$I8+$I$3 -> 14
A10: 6 | B10: =$B9+$B$3 -> 125 | C10: =$C9+$C$3 -> 10 | D10: =$D9+$D$3 -> 15 | E10: =$E9+$E$3 -> 15 | F10: =$F9+$F$3 -> 15 | G10: =$G9+$G$3 -> 15 | H10: =$H9+$H$3 -> 15 | I10: =$I9+$I$3 -> 15
A11: 7 | B11: =$B10+$B$3 -> 130 | C11: =$C10+$C$3 -> 11 | D11: =$D10+$D$3 -> 16 | E11: =$E10+$E$3 -> 16 | F11: =$F10+$F$3 -> 16 | G11: =$G10+$G$3 -> 16 | H11: =$H10+$H$3 -> 16 | I11: =$I10+$I$3 -> 16
A12: 8 | B12: =$B11+$B$3 -> 135 | C12: =$C11+$C$3 -> 12 | D12: =$D11+$D$3 -> 17 | E12: =$E11+$E$3 -> 17 | F12: =$F11+$F$3 -> 17 | G12: =$G11+$G$3 -> 17 | H12: =$H11+$H$3 -> 17 | I12: =$I11+$I$3 -> 17
A13: 9 | B13: =$B12+$B$3 -> 140 | C13: =$C12+$C$3 -> 13 | D13: =$D12+$D$3 -> 18 | E13: =$E12+$E$3 -> 18 | F13: =$F12+$F$3 -> 18 | G13: =$G12+$G$3 -> 18 | H13: =$H12+$H$3 -> 18 | I13: =$I12+$I$3 -> 18
A14: 10 | B14: =$B13+$B$3 -> 145 | C14: =$C13+$C$3 -> 14 | D14: =$D13+$D$3 -> 19 | E14: =$E13+$E$3 -> 19 | F14: =$F13+$F$3 -> 19 | G14: =$G13+$G$3 -> 19 | H14: =$H13+$H$3 -> 19 | I14: =$I13+$I$3 -> 19
A15: 11 | B15: =$B14+$B$3 -> 150 | C15: =$C14+$C$3 -> 15 | D15: =$D14+$D$3 -> 20 | E15: =$E14+$E$3 -> 20 | F15: =$F14+$F$3 -> 20 | G15: =$G14+$G$3 -> 20 | H15: =$H14+$H$3 -> 20 | I15: =$I14+$I$3 -> 20
A16: 12 | B16: =$B15+$B$3 -> 155 | C16: =$C15+$C$3 -> 16 | D16: =$D15+$D$3 -> 21 | E16: =$E15+$E$3 -> 21 | F16: =$F15+$F$3 -> 21 | G16: =$G15+$G$3 -> 21 | H16: =$H15+$H$3 -> 21 | I16: =$I15+$I$3 -> 21
A17: 13 | B17: =$B16+$B$3 -> 160 | C17: =$C16+$C$3 -> 17 | D17: =$D16+$D$3 -> 22 | E17: =$E16+$E$3 -> 22 | F17: =$F16+$F$3 -> 22 | G17: =$G16+$G$3 -> 22 | H17: =$H16+$H$3 -> 22 | I17: =$I16+$I$3 -> 22
... A103: 99 | B103: =$B102+$B$3 -> 590 | C103: =$C102+$C$3 -> 103 | D103: =$D102+$D$3 -> 108 | E103: =$E102+$E$3 -> 108 | F103: =$F102+$F$3 -> 108 | G103: =$G102+$G$3 -> 108 | H103: =$H102+$H$3 -> 108 | I103: =$I102+$I$3 -> 108

Sheet Hero13
A1: Hero13
A2: Class
A3: Per Lvl | B3: 5 | C3: 1 | D3: 1 | E3: 1 | F3: 1 | G3: 1 | H3: 1 | I3: 1
A4: Level | B4: HP | C4: MP | D4: ATT | E4: DEF | F4: MAT | G4: MDF | H4: AGI | I4: LUK
A5: 1 | B5: 100 | C5: 5 | D5: 10 | E5: 10 | F5: 10 | G5: 10 | H5: 10 | I5: 10
A6: 2 | B6: =$B5+$B$3 -> 105 | C6: =$C5+$C$3 -> 6 | D6: =$D5+$D$3 -> 11 | E6: =$E5+$E$3 -> 11 | F6: =$F5+$F$3 -> 11 | G6: =$G5+$G$3 -> 11 | H6: =$H5+$H$3 -> 11 | I6: =$I5+$I$3 -> 11
A7: 3 | B7: =$B6+$B$3 -> 110 | C7: =$C6+$C$3 -> 7 | D7: =$D6+$D$3 -> 12 | E7: =$E6+$E$3 -> 12 | F7: =$F6+$F$3 -> 12 | G7: =$G6+$G$3 -> 12 | H7: =$H6+$H$3 -> 12 | I7: =$I6+$I$3 -> 12
A8: 4 | B8: =$B7+$B$3 -> 115 | C8: =$C7+$C$3 -> 8 | D8: =$D7+$D$3 -> 13 | E8: =$E7+$E$3 -> 13 | F8: =$F7+$F$3 -> 13 | G8: =$G7+$G$3 -> 13 | H8: =$H7+$H$3 -> 13 | I8: =$I7+$I$3 -> 13
A9: 5 | B9: =$B8+$B$3 -> 120 | C9: =$C8+$C$3 -> 9 | D9: =$D8+$D$3 -> 14 | E9: =$E8+$E$3 -> 14 | F9: =$F8+$F$3 -> 14 | G9: =$G8+$G$3 -> 14 | H9: =$H8+$H$3 -> 14 | I9: =$I8+$I$3 -> 14
A10: 6 | B10: =$B9+$B$3 -> 125 | C10: =$C9+$C$3 -> 10 | D10: =$D9+$D$3 -> 15 | E10: =$E9+$E$3 -> 15 | F10: =$F9+$F$3 -> 15 | G10: =$G9+$G$3 -> 15 | H10: =$H9+$H$3 -> 15 | I10: =$I9+$I$3 -> 15
A11: 7 | B11: =$B10+$B$3 -> 130 | C11: =$C10+$C$3 -> 11 | D11: =$D10+$D$3 -> 16 | E11: =$E10+$E$3 -> 16 | F11: =$F10+$F$3 -> 16 | G11: =$G10+$G$3 -> 16 | H11: =$H10+$H$3 -> 16 | I11: =$I10+$I$3 -> 16
A12: 8 | B12: =$B11+$B$3 -> 135 | C12: =$C11+$C$3 -> 12 | D12: =$D11+$D$3 -> 17 | E12: =$E11+$E$3 -> 17 | F12: =$F11+$F$3 -> 17 | G12: =$G11+$G$3 -> 17 | H12: =$H11+$H$3 -> 17 | I12: =$I11+$I$3 -> 17
