Workbook

Sheet Calculator
A1: Calculator
A3: Enemy | B3: HP | C3: MP | D3: Att | E3: Def | F3: Mat | G3: Mdf | H3: Agi | I3: Luk | L3: Level
A4: Ghoul | B4: =VLOOKUP($A$4,Enemies!$A$4:$I$204,2,FALSE) -> 100 | C4: =VLOOKUP($A$4,Enemies!$A$4:$I$204,3,FALSE) -> 15 | D4: =VLOOKUP($A$4,Enemies!$A$4:$I$204,4,FALSE) -> 10 | E4: =VLOOKUP($A$4,Enemies!$A$4:$I$204,5,FALSE) -> 10 | F4: =VLOOKUP($A$4,Enemies!$A$4:$I$204,6,FALSE) -> 10 | G4: =VLOOKUP($A$4,Enemies!$A$4:$I$204,7,FALSE) -> 10 | H4: =VLOOKUP($A$4,Enemies!$A$4:$I$204,8,FALSE) -> 10 | I4: =VLOOKUP($A$4,Enemies!$A$4:$I$204,9,FALSE) -> 10 | L4: 1
A6: Characters | B6: HP | C6: MP | D6: Att | E6: Def | F6: Mat | G6: Mdf | H6: Agi | I6: Luk | J6: Main Hand | K6: Off Hand | L6: Armor | M6: HP | N6: MP | O6: Att | P6: Def | Q6: Mat | R6: Mdf | S6: Agi | T6: Luk
A7: Soldier | B7: =VLOOKUP($L$4,INDIRECT($A7&"!$A$5:$I$103"),2,FALSE) -> 100 | C7: =VLOOKUP($L$4,INDIRECT($A7&"!$A$5:$I$103"),3,FALSE) -> 5 | D7: =VLOOKUP($L$4,INDIRECT($A7&"!$A$5:$I$103"),4,FALSE) -> 10 | E7: =VLOOKUP($L$4,INDIRECT($A7&"!$A$5:$I$103"),5,FALSE) -> 10 | F7: =VLOOKUP($L$4,INDIRECT($A7&"!$A$5:$I$103"),6,FALSE) -> 10 | G7: =VLOOKUP($L$4,INDIRECT($A7&"!$A$5:$I$103"),7,FALSE) -> 10 | H7: =VLOOKUP($L$4,INDIRECT($A7&"!$A$5:$I$103"),8,FALSE) -> 10 | I7: =VLOOKUP($L$4,INDIRECT($A7&"!$A$5:$I$103"),9,FALSE) -> 10 | J7: Rusted Sword | K7: (None) | L7: Rusted Mail | M7: =B7+VLOOKUP($J7,Equipment!$A$4:$I$204,2,FALSE)+VLOOKUP($K7,Equipment!$A$4:$I$204,2,FALSE)+VLOOKUP($L7,Equipment!$A$4:$I$204,2,FALSE) -> 140 | N7: =C7+VLOOKUP($J7,Equipment!$A$4:$I$204,3,FALSE)+VLOOKUP($K7,Equipment!$A$4:$I$204,3,FALSE)+VLOOKUP($L7,Equipment!$A$4:$I$204,3,FALSE) -> 5 | O7: =D7+VLOOKUP($J7,Equipment!$A$4:$I$204,4,FALSE)+VLOOKUP($K7,Equipment!$A$4:$I$204,4,FALSE)+VLOOKUP($L7,Equipment!$A$4:$I$204,4,FALSE) -> 19 | P7: =E7+VLOOKUP($J7,Equipment!$A$4:$I$204,5,FALSE)+VLOOKUP($K7,Equipment!$A$4:$I$204,5,FALSE)+VLOOKUP($L7,Equipment!$A$4:$I$204,5,FALSE) -> 20 | Q7: =F7+VLOOKUP($J7,Equipment!$A$4:$I$204,6,FALSE)+VLOOKUP($K7,Equipment!$A$4:$I$204,6,FALSE)+VLOOKUP($L7,Equipment!$A$4:$I$204,6,FALSE) -> 12 | R7: =G7+VLOOKUP($J7,Equipment!$A$4:$I$204,7,FALSE)+VLOOKUP($K7,Equipment!$A$4:$I$204,7,FALSE)+VLOOKUP($L7,Equipment!$A$4:$I$204,7,FALSE) -> 14 | S7: =H7+VLOOKUP($J7,Equipment!$A$4:$I$204,8,FALSE)+VLOOKUP($K7,Equipment!$A$4:$I$204,8,FALSE)+VLOOKUP($L7,Equipment!$A$4:$I$204,8,FALSE) -> 14 | T7: =I7+VLOOKUP($J7,Equipment!$A$4:$I$204,9,FALSE)+VLOOKUP($K7,Equipment!$A$4:$I$204,9,FALSE)+VLOOKUP($L7,Equipment!$A$4:$I$204,9,FALSE) -> 12
A8: Sorcerer | B8: =VLOOKUP($L$4,INDIRECT($A8&"!$A$5:$I$103"),2,FALSE) -> 100 | C8: =VLOOKUP($L$4,INDIRECT($A8&"!$A$5:$I$103"),3,FALSE) -> 5 | D8: =VLOOKUP($L$4,INDIRECT($A8&"!$A$5:$I$103"),4,FALSE) -> 10 | E8: =VLOOKUP($L$4,INDIRECT($A8&"!$A$5:$I$103"),5,FALSE) -> 10 | F8: =VLOOKUP($L$4,INDIRECT($A8&"!$A$5:$I$103"),6,FALSE) -> 10 | G8: =VLOOKUP($L$4,INDIRECT($A8&"!$A$5:$I$103"),7,FALSE) -> 10 | H8: =VLOOKUP($L$4,INDIRECT($A8&"!$A$5:$I$103"),8,FALSE) -> 10 | I8: =VLOOKUP($L$4,INDIRECT($A8&"!$A$5:$I$103"),9,FALSE) -> 10 | J8: Tattered Spellbook | K8: (None) | L8: Tattered Robes | M8: =B8+VLOOKUP($J8,Equipment!$A$4:$I$204,2,FALSE)+VLOOKUP($K8,Equipment!$A$4:$I$204,2,FALSE)+VLOOKUP($L8,Equipment!$A$4:$I$204,2,FALSE) -> 110 | N8: =C8+VLOOKUP($J8,Equipment!$A$4:$I$204,3,FALSE)+VLOOKUP($K8,Equipment!$A$4:$I$204,3,FALSE)+VLOOKUP($L8,Equipment!$A$4:$I$204,3,FALSE) -> 40 | O8: =D8+VLOOKUP($J8,Equipment!$A$4:$I$204,4,FALSE)+VLOOKUP($K8,Equipment!$A$4:$I$204,4,FALSE)+VLOOKUP($L8,Equipment!$A$4:$I$204,4,FALSE) -> 12 | P8: =E8+VLOOKUP($J8,Equipment!$A$4:$I$204,5,FALSE)+VLOOKUP($K8,Equipment!$A$4:$I$204,5,FALSE)+VLOOKUP($L8,Equipment!$A$4:$I$204,5,FALSE) -> 13 | Q8: =F8+VLOOKUP($J8,Equipment!$A$4:$I$204,6,FALSE)+VLOOKUP($K8,Equipment!$A$4:$I$204,6,FALSE)+VLOOKUP($L8,Equipment!$A$4:$I$204,6,FALSE) -> 15 | R8: =G8+VLOOKUP($J8,Equipment!$A$4:$I$204,7,FALSE)+VLOOKUP($K8,Equipment!$A$4:$I$204,7,FALSE)+VLOOKUP($L8,Equipment!$A$4:$I$204,7,FALSE) -> 17 | S8: =H8+VLOOKUP($J8,Equipment!$A$4:$I$204,8,FALSE)+VLOOKUP($K8,Equipment!$A$4:$I$204,8,FALSE)+VLOOKUP($L8,Equipment!$A$4:$I$204,8,FALSE) -> 14 | T8: =I8+VLOOKUP($J8,Equipment!$A$4:$I$204,9,FALSE)+VLOOKUP($K8,Equipment!$A$4:$I$204,9,FALSE)+VLOOKUP($L8,Equipment!$A$4:$I$204,9,FALSE) -> 16
A9: Scout | B9: =VLOOKUP($L$4,INDIRECT($A9&"!$A$5:$I$103"),2,FALSE) -> 100 | C9: =VLOOKUP($L$4,INDIRECT($A9&"!$A$5:$I$103"),3,FALSE) -> 5 | D9: =VLOOKUP($L$4,INDIRECT($A9&"!$A$5:$I$103"),4,FALSE) -> 10 | E9: =VLOOKUP($L$4,INDIRECT($A9&"!$A$5:$I$103"),5,FALSE) -> 10 | F9: =VLOOKUP($L$4,INDIRECT($A9&"!$A$5:$I$103"),6,FALSE) -> 10 | G9: =VLOOKUP($L$4,INDIRECT($A9&"!$A$5:$I$103"),7,FALSE) -> 10 | H9: =VLOOKUP($L$4,INDIRECT($A9&"!$A$5:$I$103"),8,FALSE) -> 10 | I9: =VLOOKUP($L$4,INDIRECT($A9&"!$A$5:$I$103"),9,FALSE) -> 10 | J9: Rickety Bow | K9: (None) | L9: Worn Leather | M9: =B9+VLOOKUP($J9,Equipment!$A$4:$I$204,2,FALSE)+VLOOKUP($K9,Equipment!$A$4:$I$204,2,FALSE)+VLOOKUP($L9,Equipment!$A$4:$I$204,2,FALSE) -> 120 | N9: =C9+VLOOKUP($J9,Equipment!$A$4:$I$204,3,FALSE)+VLOOKUP($K9,Equipment!$A$4:$I$204,3,FALSE)+VLOOKUP($L9,Equipment!$A$4:$I$204,3,FALSE) -> 10 | O9: =D9+VLOOKUP($J9,Equipment!$A$4:$I$204,4,FALSE)+VLOOKUP($K9,Equipment!$A$4:$I$204,4,FALSE)+VLOOKUP($L9,Equipment!$A$4:$I$204,4,FALSE) -> 15 | P9: =E9+VLOOKUP($J9,Equipment!$A$4:$I$204,5,FALSE)+VLOOKUP($K9,Equipment!$A$4:$I$204,5,FALSE)+VLOOKUP($L9,Equipment!$A$4:$I$204,5,FALSE) -> 16 | Q9: =F9+VLOOKUP($J9,Equipment!$A$4:$I$204,6,FALSE)+VLOOKUP($K9,Equipment!$A$4:$I$204,6,FALSE)+VLOOKUP($L9,Equipment!$A$4:$I$204,6,FALSE) -> 12 | R9: =G9+VLOOKUP($J9,Equipment!$A$4:$I$204,7,FALSE)+VLOOKUP($K9,Equipment!$A$4:$I$204,7,FALSE)+VLOOKUP($L9,Equipment!$A$4:$I$204,7,FALSE) -> 13 | S9: =H9+VLOOKUP($J9,Equipment!$A$4:$I$204,8,FALSE)+VLOOKUP($K9,Equipment!$A$4:$I$204,8,FALSE)+VLOOKUP($L9,Equipment!$A$4:$I$204,8,FALSE) -> 18 | T9: =I9+VLOOKUP($J9,Equipment!$A$4:$I$204,9,FALSE)+VLOOKUP($K9,Equipment!$A$4:$I$204,9,FALSE)+VLOOKUP($L9,Equipment!$A$4:$I$204,9,FALSE) -> 17
A10: Gryn | B10: =VLOOKUP($L$4,INDIRECT($A10&"!$A$5:$I$103"),2,FALSE) -> 100 | C10: =VLOOKUP($L$4,INDIRECT($A10&"!$A$5:$I$103"),3,FALSE) -> 5 | D10: =VLOOKUP($L$4,INDIRECT($A10&"!$A$5:$I$103"),4,FALSE) -> 10 | E10: =VLOOKUP($L$4,INDIRECT($A10&"!$A$5:$I$103"),5,FALSE) -> 10 | F10: =VLOOKUP($L$4,INDIRECT($A10&"!$A$5:$I$103"),6,FALSE) -> 10 | G10: =VLOOKUP($L$4,INDIRECT($A10&"!$A$5:$I$103"),7,FALSE) -> 10 | H10: =VLOOKUP($L$4,INDIRECT($A10&"!$A$5:$I$103"),8,FALSE) -> 10 | I10: =VLOOKUP($L$4,INDIRECT($A10&"!$A$5:$I$103"),9,FALSE) -> 10 | J10: Spiked Glove | K10: (None) | L10: (None) | M10: =B10+VLOOKUP($J10,Equipment!$A$4:$I$204,2,FALSE)+VLOOKUP($K10,Equipment!$A$4:$I$204,2,FALSE)+VLOOKUP($L10,Equipment!$A$4:$I$204,2,FALSE) -> 100 | N10: =C10+VLOOKUP($J10,Equipment!$A$4:$I$204,3,FALSE)+VLOOKUP($K10,Equipment!$A$4:$I$204,3,FALSE)+VLOOKUP($L10,Equipment!$A$4:$I$204,3,FALSE) -> 5 | O10: =D10+VLOOKUP($J10,Equipment!$A$4:$I$204,4,FALSE)+VLOOKUP($K10,Equipment!$A$4:$I$204,4,FALSE)+VLOOKUP($L10,Equipment!$A$4:$I$204,4,FALSE) -> 17 | P10: =E10+VLOOKUP($J10,Equipment!$A$4:$I$204,5,FALSE)+VLOOKUP($K10,Equipment!$A$4:$I$204,5,FALSE)+VLOOKUP($L10,Equipment!$A$4:$I$204,5,FALSE) -> 12 | Q10: =F10+VLOOKUP($J10,Equipment!$A$4:$I$204,6,FALSE)+VLOOKUP($K10,Equipment!$A$4:$I$204,6,FALSE)+VLOOKUP($L10,Equipment!$A$4:$I$204,6,FALSE) -> 10 | R10: =G10+VLOOKUP($J10,Equipment!$A$4:$I$204,7,FALSE)+VLOOKUP($K10,Equipment!$A$4:$I$204,7,FALSE)+VLOOKUP($L10,Equipment!$A$4:$I$204,7,FALSE) -> 10 | S10: =H10+VLOOKUP($J10,Equipment!$A$4:$I$204,8,FALSE)+VLOOKUP($K10,Equipment!$A$4:$I$204,8,FALSE)+VLOOKUP($L10,Equipment!$A$4:$I$204,8,FALSE) -> 13 | T10: =I10+VLOOKUP($J10,Equipment!$A$4:$I$204,9,FALSE)+VLOOKUP($K10,Equipment!$A$4:$I$204,9,FALSE)+VLOOKUP($L10,Equipment!$A$4:$I$204,9,FALSE) -> 14
A11: Dumpy | B11: =VLOOKUP($L$4,INDIRECT($A11&"!$A$5:$I$103"),2,FALSE) -> 100 | C11: =VLOOKUP($L$4,INDIRECT($A11&"!$A$5:$I$103"),3,FALSE) -> 5 | D11: =VLOOKUP($L$4,INDIRECT($A11&"!$A$5:$I$103"),4,FALSE) -> 10 | E11: =VLOOKUP($L$4,INDIRECT($A11&"!$A$5:$I$103"),5,FALSE) -> 10 | F11: =VLOOKUP($L$4,INDIRECT($A11&"!$A$5:$I$103"),6,FALSE) -> 10 | G11: =VLOOKUP($L$4,INDIRECT($A11&"!$A$5:$I$103"),7,FALSE) -> 10 | H11: =VLOOKUP($L$4,INDIRECT($A11&"!$A$5:$I$103"),8,FALSE) -> 10 | I11: =VLOOKUP($L$4,INDIRECT($A11&"!$A$5:$I$103"),9,FALSE) -> 10 | J11: (None) | K11: (None) | L11: (None) | M11: =B11+VLOOKUP($J11,Equipment!$A$4:$I$204,2,FALSE)+VLOOKUP($K11,Equipment!$A$4:$I$204,2,FALSE)+VLOOKUP($L11,Equipment!$A$4:$I$204,2,FALSE) -> 100 | N11: =C11+VLOOKUP($J11,Equipment!$A$4:$I$204,3,FALSE)+VLOOKUP($K11,Equipment!$A$4:$I$204,3,FALSE)+VLOOKUP($L11,Equipment!$A$4:$I$204,3,FALSE) -> 5 | O11: =D11+VLOOKUP($J11,Equipment!$A$4:$I$204,4,FALSE)+VLOOKUP($K11,Equipment!$A$4:$I$204,4,FALSE)+VLOOKUP($L11,Equipment!$A$4:$I$204,4,FALSE) -> 10 | P11: =E11+VLOOKUP($J11,Equipment!$A$4:$I$204,5,FALSE)+VLOOKUP($K11,Equipment!$A$4:$I$204,5,FALSE)+VLOOKUP($L11,Equipment!$A$4:$I$204,5,FALSE) -> 10 | Q11: =F11+VLOOKUP($J11,Equipment!$A$4:$I$204,6,FALSE)+VLOOKUP($K11,Equipment!$A$4:$I$204,6,FALSE)+VLOOKUP($L11,Equipment!$A$4:$I$204,6,FALSE) -> 10 | R11: =G11+VLOOKUP($J11,Equipment!$A$4:$I$204,7,FALSE)+VLOOKUP($K11,Equipment!$A$4:$I$204,7,FALSE)+VLOOKUP($L11,Equipment!$A$4:$I$204,7,FALSE) -> 10 | S11: =H11+VLOOKUP($J11,Equipment!$A$4:$I$204,8,FALSE)+VLOOKUP($K11,Equipment!$A$4:$I$204,8,FALSE)+VLOOKUP($L11,Equipment!$A$4:$I$204,8,FALSE) -> 10 | T11: =I11+VLOOKUP($J11,Equipment!$A$4:$I$204,9,FALSE)+VLOOKUP($K11,Equipment!$A$4:$I$204,9,FALSE)+VLOOKUP($L11,Equipment!$A$4:$I$204,9,FALSE) -> 10
A12: Ahmrin | B12: =VLOOKUP($L$4,INDIRECT($A12&"!$A$5:$I$103"),2,FALSE) -> 100 | C12: =VLOOKUP($L$4,INDIRECT($A12&"!$A$5:$I$103"),3,FALSE) -> 5 | D12: =VLOOKUP($L$4,INDIRECT($A12&"!$A$5:$I$103"),4,FALSE) -> 10 | E12: =VLOOKUP($L$4,INDIRECT($A12&"!$A$5:$I$103"),5,FALSE) -> 10 | F12: =VLOOKUP($L$4,INDIRECT($A12&"!$A$5:$I$103"),6,FALSE) -> 10 | G12: =VLOOKUP($L$4,INDIRECT($A12&"!$A$5:$I$103"),7,FALSE) -> 10 | H12: =VLOOKUP($L$4,INDIRECT($A12&"!$A$5:$I$103"),8,FALSE) -> 10 | I12: =VLOOKUP($L$4,INDIRECT($A12&"!$A$5:$I$103"),9,FALSE) -> 10 | J12: Longsword | K12: Shield | L12: Iron Mail | M12: =B12+VLOOKUP($J12,Equipment!$A$4:$I$204,2,FALSE)+VLOOKUP($K12,Equipment!$A$4:$I$204,2,FALSE)+VLOOKUP($L12,Equipment!$A$4:$I$204,2,FALSE) -> 180 | N12: =C12+VLOOKUP($J12,Equipment!$A$4:$I$204,3,FALSE)+VLOOKUP($K12,Equipment!$A$4:$I$204,3,FALSE)+VLOOKUP($L12,Equipment!$A$4:$I$204,3,FALSE) -> 15 | O12: =D12+VLOOKUP($J12,Equipment!$A$4:$I$204,4,FALSE)+VLOOKUP($K12,Equipment!$A$4:$I$204,4,FALSE)+VLOOKUP($L12,Equipment!$A$4:$I$204,4,FALSE) -> 30 | P12: =E12+VLOOKUP($J12,Equipment!$A$4:$I$204,5,FALSE)+VLOOKUP($K12,Equipment!$A$4:$I$204,5,FALSE)+VLOOKUP($L12,Equipment!$A$4:$I$204,5,FALSE) -> 35 | Q12: =F12+VLOOKUP($J12,Equipment!$A$4:$I$204,6,FALSE)+VLOOKUP($K12,Equipment!$A$4:$I$204,6,FALSE)+VLOOKUP($L12,Equipment!$A$4:$I$204,6,FALSE) -> 20 | R12: =G12+VLOOKUP($J12,Equipment!$A$4:$I$204,7,FALSE)+VLOOKUP($K12,Equipment!$A$4:$I$204,7,FALSE)+VLOOKUP($L12,Equipment!$A$4:$I$204,7,FALSE) -> 27 | S12: =H12+VLOOKUP($J12,Equipment!$A$4:$I$204,8,FALSE)+VLOOKUP($K12,Equipment!$A$4:$I$204,8,FALSE)+VLOOKUP($L12,Equipment!$A$4:$I$204,8,FALSE) -> 13 | T12: =I12+VLOOKUP($J12,Equipment!$A$4:$I$204,9,FALSE)+VLOOKUP($K12,Equipment!$A$4:$I$204,9,FALSE)+VLOOKUP($L12,Equipment!$A$4:$I$204,9,FALSE) -> 14
A13: Leira | B13: =VLOOKUP($L$4,INDIRECT($A13&"!$A$5:$I$103"),2,FALSE) -> 100 | C13: =VLOOKUP($L$4,INDIRECT($A13&"!$A$5:$I$103"),3,FALSE) -> 5 | D13: =VLOOKUP($L$4,INDIRECT($A13&"!$A$5:$I$103"),4,FALSE) -> 10 | E13: =VLOOKUP($L$4,INDIRECT($A13&"!$A$5:$I$103"),5,FALSE) -> 10 | F13: =VLOOKUP($L$4,INDIRECT($A13&"!$A$5:$I$103"),6,FALSE) -> 10 | G13: =VLOOKUP($L$4,INDIRECT($A13&"!$A$5:$I$103"),7,FALSE) -> 10 | H13: =VLOOKUP($L$4,INDIRECT($A13&"!$A$5:$I$103"),8,FALSE) -> 10 | I13: =VLOOKUP($L$4,INDIRECT($A13&"!$A$5:$I$103"),9,FALSE) -> 10 | J13: Folding Bow | K13: Lute | L13: Worn Leather | M13: =B13+VLOOKUP($J13,Equipment!$A$4:$I$204,2,FALSE)+VLOOKUP($K13,Equipment!$A$4:$I$204,2,FALSE)+VLOOKUP($L13,Equipment!$A$4:$I$204,2,FALSE) -> 120 | N13: =C13+VLOOKUP($J13,Equipment!$A$4:$I$204,3,FALSE)+VLOOKUP($K13,Equipment!$A$4:$I$204,3,FALSE)+VLOOKUP($L13,Equipment!$A$4:$I$204,3,FALSE) -> 20 | O13: =D13+VLOOKUP($J13,Equipment!$A$4:$I$204,4,FALSE)+VLOOKUP($K13,Equipment!$A$4:$I$204,4,FALSE)+VLOOKUP($L13,Equipment!$A$4:$I$204,4,FALSE) -> 15 | P13: =E13+VLOOKUP($J13,Equipment!$A$4:$I$204,5,FALSE)+VLOOKUP($K13,Equipment!$A$4:$I$204,5,FALSE)+VLOOKUP($L13,Equipment!$A$4:$I$204,5,FALSE) -> 16 | Q13: =F13+VLOOKUP($J13,Equipment!$A$4:$I$204,6,FALSE)+VLOOKUP($K13,Equipment!$A$4:$I$204,6,FALSE)+VLOOKUP($L13,Equipment!$A$4:$I$204,6,FALSE) -> 15 | R13: =G13+VLOOKUP($J13,Equipment!$A$4:$I$204,7,FALSE)+VLOOKUP($K13,Equipment!$A$4:$I$204,7,FALSE)+VLOOKUP($L13,Equipment!$A$4:$I$204,7,FALSE) -> 13 | S13: =H13+VLOOKUP($J13,Equipment!$A$4:$I$204,8,FALSE)+VLOOKUP($K13,Equipment!$A$4:$I$204,8,FALSE)+VLOOKUP($L13,Equipment!$A$4:$I$204,8,FALSE) -> 18 | T13: =I13+VLOOKUP($J13,Equipment!$A$4:$I$204,9,FALSE)+VLOOKUP($K13,Equipment!$A$4:$I$204,9,FALSE)+VLOOKUP($L13,Equipment!$A$4:$I$204,9,FALSE) -> 14
A14: Hero8 | B14: =VLOOKUP($L$4,INDIRECT($A14&"!$A$5:$I$103"),2,FALSE) -> 100 | C14: =VLOOKUP($L$4,INDIRECT($A14&"!$A$5:$I$103"),3,FALSE) -> 5 | D14: =VLOOKUP($L$4,INDIRECT($A14&"!$A$5:$I$103"),4,FALSE) -> 10 | E14: =VLOOKUP($L$4,INDIRECT($A14&"!$A$5:$I$103"),5,FALSE) -> 10 | F14: =VLOOKUP($L$4,INDIRECT($A14&"!$A$5:$I$103"),6,FALSE) -> 10 | G14: =VLOOKUP($L$4,INDIRECT($A14&"!$A$5:$I$103"),7,FALSE) -> 10 | H14: =VLOOKUP($L$4,INDIRECT($A14&"!$A$5:$I$103"),8,FALSE) -> 10 | I14: =VLOOKUP($L$4,INDIRECT($A14&"!$A$5:$I$103"),9,FALSE) -> 10 | J14: (None) | K14: (None) | L14: (None) | M14: =B14+VLOOKUP($J14,Equipment!$A$4:$I$204,2,FALSE)+VLOOKUP($K14,Equipment!$A$4:$I$204,2,FALSE)+VLOOKUP($L14,Equipment!$A$4:$I$204,2,FALSE) -> 100 | N14: =C14+VLOOKUP($J14,Equipment!$A$4:$I$204,3,FALSE)+VLOOKUP($K14,Equipment!$A$4:$I$204,3,FALSE)+VLOOKUP($L14,Equipment!$A$4:$I$204,3,FALSE) -> 5 | O14: =D14+VLOOKUP($J14,Equipment!$A$4:$I$204,4,FALSE)+VLOOKUP($K14,Equipment!$A$4:$I$204,4,FALSE)+VLOOKUP($L14,Equipment!$A$4:$I$204,4,FALSE) -> 10 | P14: =E14+VLOOKUP($J14,Equipment!$A$4:$I$204,5,FALSE)+VLOOKUP($K14,Equipment!$A$4:$I$204,5,FALSE)+VLOOKUP($L14,Equipment!$A$4:$I$204,5,FALSE) -> 10 | Q14: =F14+VLOOKUP($J14,Equipment!$A$4:$I$204,6,FALSE)+VLOOKUP($K14,Equipment!$A$4:$I$204,6,FALSE)+VLOOKUP($L14,Equipment!$A$4:$I$204,6,FALSE) -> 10 | R14: =G14+VLOOKUP($J14,Equipment!$A$4:$I$204,7,FALSE)+VLOOKUP($K14,Equipment!$A$4:$I$204,7,FALSE)+VLOOKUP($L14,Equipment!$A$4:$I$204,7,FALSE) -> 10 | S14: =H14+VLOOKUP($J14,Equipment!$A$4:$I$204,8,FALSE)+VLOOKUP($K14,Equipment!$A$4:$I$204,8,FALSE)+VLOOKUP($L14,Equipment!$A$4:$I$204,8,FALSE) -> 10 | T14: =I14+VLOOKUP($J14,Equipment!$A$4:$I$204,9,FALSE)+VLOOKUP($K14,Equipment!$A$4:$I$204,9,FALSE)+VLOOKUP($L14,Equipment!$A$4:$I$204,9,FALSE) -> 10
A15: Hero9 | B15: =VLOOKUP($L$4,INDIRECT($A15&"!$A$5:$I$103"),2,FALSE) -> 100 | C15: =VLOOKUP($L$4,INDIRECT($A15&"!$A$5:$I$103"),3,FALSE) -> 5 | D15: =VLOOKUP($L$4,INDIRECT($A15&"!$A$5:$I$103"),4,FALSE) -> 10 | E15: =VLOOKUP($L$4,INDIRECT($A15&"!$A$5:$I$103"),5,FALSE) -> 10 | F15: =VLOOKUP($L$4,INDIRECT($A15&"!$A$5:$I$103"),6,FALSE) -> 10 | G15: =VLOOKUP($L$4,INDIRECT($A15&"!$A$5:$I$103"),7,FALSE) -> 10 | H15: =VLOOKUP($L$4,INDIRECT($A15&"!$A$5:$I$103"),8,FALSE) -> 10 | I15: =VLOOKUP($L$4,INDIRECT($A15&"!$A$5:$I$103"),9,FALSE) -> 10 | J15: (None) | K15: (None) | L15: (None) | M15: =B15+VLOOKUP($J15,Equipment!$A$4:$I$204,2,FALSE)+VLOOKUP($K15,Equipment!$A$4:$I$204,2,FALSE)+VLOOKUP($L15,Equipment!$A$4:$I$204,2,FALSE) -> 100 | N15: =C15+VLOOKUP($J15,Equipment!$A$4:$I$204,3,FALSE)+VLOOKUP($K15,Equipment!$A$4:$I$204,3,FALSE)+VLOOKUP($L15,Equipment!$A$4:$I$204,3,FALSE) -> 5 | O15: =D15+VLOOKUP($J15,Equipment!$A$4:$I$204,4,FALSE)+VLOOKUP($K15,Equipment!$A$4:$I$204,4,FALSE)+VLOOKUP($L15,Equipment!$A$4:$I$204,4,FALSE) -> 10 | P15: =E15+VLOOKUP($J15,Equipment!$A$4:$I$204,5,FALSE)+VLOOKUP($K15,Equipment!$A$4:$I$204,5,FALSE)+VLOOKUP($L15,Equipment!$A$4:$I$204,5,FALSE) -> 10 | Q15: =F15+VLOOKUP($J15,Equipment!$A$4:$I$204,6,FALSE)+VLOOKUP($K15,Equipment!$A$4:$I$204,6,FALSE)+VLOOKUP($L15,Equipment!$A$4:$I$204,6,FALSE) -> 10 | R15: =G15+VLOOKUP($J15,Equipment!$A$4:$I$204,7,FALSE)+VLOOKUP($K15,Equipment!$A$4:$I$204,7,FALSE)+VLOOKUP($L15,Equipment!$A$4:$I$204,7,FALSE) -> 10 | S15: =H15+VLOOKUP($J15,Equipment!$A$4:$I$204,8,FALSE)+VLOOKUP($K15,Equipment!$A$4:$I$204,8,FALSE)+VLOOKUP($L15,Equipment!$A$4:$I$204,8,FALSE) -> 10 | T15: =I15+VLOOKUP($J15,Equipment!$A$4:$I$204,9,FALSE)+VLOOKUP($K15,Equipment!$A$4:$I$204,9,FALSE)+VLOOKUP($L15,Equipment!$A$4:$I$204,9,FALSE) -> 10
A16: Hero10 | B16: =VLOOKUP($L$4,INDIRECT($A16&"!$A$5:$I$103"),2,FALSE) -> 100 | C16: =VLOOKUP($L$4,INDIRECT($A16&"!$A$5:$I$103"),3,FALSE) -> 5 | D16: =VLOOKUP($L$4,INDIRECT($A16&"!$A$5:$I$103"),4,FALSE) -> 10 | E16: =VLOOKUP($L$4,INDIRECT($A16&"!$A$5:$I$103"),5,FALSE) -> 10 | F16: =VLOOKUP($L$4,INDIRECT($A16&"!$A$5:$I$103"),6,FALSE) -> 10 | G16: =VLOOKUP($L$4,INDIRECT($A16&"!$A$5:$I$103"),7,FALSE) -> 10 | H16: =VLOOKUP($L$4,INDIRECT($A16&"!$A$5:$I$103"),8,FALSE) -> 10 | I16: =VLOOKUP($L$4,INDIRECT($A16&"!$A$5:$I$103"),9,FALSE) -> 10 | J16: (None) | K16: (None) | L16: (None) | M16: =B16+VLOOKUP($J16,Equipment!$A$4:$I$204,2,FALSE)+VLOOKUP($K16,Equipment!$A$4:$I$204,2,FALSE)+VLOOKUP($L16,Equipment!$A$4:$I$204,2,FALSE) -> 100 | N16: =C16+VLOOKUP($J16,Equipment!$A$4:$I$204,3,FALSE)+VLOOKUP($K16,Equipment!$A$4:$I$204,3,FALSE)+VLOOKUP($L16,Equipment!$A$4:$I$204,3,FALSE) -> 5 | O16: =D16+VLOOKUP($J16,Equipment!$A$4:$I$204,4,FALSE)+VLOOKUP($K16,Equipment!$A$4:$I$204,4,FALSE)+VLOOKUP($L16,Equipment!$A$4:$I$204,4,FALSE) -> 10 | P16: =E16+VLOOKUP($J16,Equipment!$A$4:$I$204,5,FALSE)+VLOOKUP($K16,Equipment!$A$4:$I$204,5,FALSE)+VLOOKUP($L16,Equipment!$A$4:$I$204,5,FALSE) -> 10 | Q16: =F16+VLOOKUP($J16,Equipment!$A$4:$I$204,6,FALSE)+VLOOKUP($K16,Equipment!$A$4:$I$204,6,FALSE)+VLOOKUP($L16,Equipment!$A$4:$I$204,6,FALSE) -> 10 | R16: =G16+VLOOKUP($J16,Equipment!$A$4:$I$204,7,FALSE)+VLOOKUP($K16,Equipment!$A$4:$I$204,7,FALSE)+VLOOKUP($L16,Equipment!$A$4:$I$204,7,FALSE) -> 10 | S16: =H16+VLOOKUP($J16,Equipment!$A$4:$I$204,8,FALSE)+VLOOKUP($K16,Equipment!$A$4:$I$204,8,FALSE)+VLOOKUP($L16,Equipment!$A$4:$I$204,8,FALSE) -> 10 | T16: =I16+VLOOKUP($J16,Equipment!$A$4:$I$204,9,FALSE)+VLOOKUP($K16,Equipment!$A$4:$I$204,9,FALSE)+VLOOKUP($L16,Equipment!$A$4:$I$204,9,FALSE) -> 10
A17: Hero11 | B17: =VLOOKUP($L$4,INDIRECT($A17&"!$A$5:$I$103"),2,FALSE) -> 100 | C17: =VLOOKUP($L$4,INDIRECT($A17&"!$A$5:$I$103"),3,FALSE) -> 5 | D17: =VLOOKUP($L$4,INDIRECT($A17&"!$A$5:$I$103"),4,FALSE) -> 10 | E17: =VLOOKUP($L$4,INDIRECT($A17&"!$A$5:$I$103"),5,FALSE) -> 10 | F17: =VLOOKUP($L$4,INDIRECT($A17&"!$A$5:$I$103"),6,FALSE) -> 10 | G17: =VLOOKUP($L$4,INDIRECT($A17&"!$A$5:$I$103"),7,FALSE) -> 10 | H17: =VLOOKUP($L$4,INDIRECT($A17&"!$A$5:$I$103"),8,FALSE) -> 10 | I17: =VLOOKUP($L$4,INDIRECT($A17&"!$A$5:$I$103"),9,FALSE) -> 10 | J17: (None) | K17: (None) | L17: (None) | M17: =B17+VLOOKUP($J17,Equipment!$A$4:$I$204,2,FALSE)+VLOOKUP($K17,Equipment!$A$4:$I$204,2,FALSE)+VLOOKUP($L17,Equipment!$A$4:$I$204,2,FALSE) -> 100 | N17: =C17+VLOOKUP($J17,Equipment!$A$4:$I$204,3,FALSE)+VLOOKUP($K17,Equipment!$A$4:$I$204,3,FALSE)+VLOOKUP($L17,Equipment!$A$4:$I$204,3,FALSE) -> 5 | O17: =D17+VLOOKUP($J17,Equipment!$A$4:$I$204,4,FALSE)+VLOOKUP($K17,Equipment!$A$4:$I$204,4,FALSE)+VLOOKUP($L17,Equipment!$A$4:$I$204,4,FALSE) -> 10 | P17: =E17+VLOOKUP($J17,Equipment!$A$4:$I$204,5,FALSE)+VLOOKUP($K17,Equipment!$A$4:$I$204,5,FALSE)+VLOOKUP($L17,Equipment!$A$4:$I$204,5,FALSE) -> 10 | Q17: =F17+VLOOKUP($J17,Equipment!$A$4:$I$204,6,FALSE)+VLOOKUP($K17,Equipment!$A$4:$I$204,6,FALSE)+VLOOKUP($L17,Equipment!$A$4:$I$204,6,FALSE) -> 10 | R17: =G17+VLOOKUP($J17,Equipment!$A$4:$I$204,7,FALSE)+VLOOKUP($K17,Equipment!$A$4:$I$204,7,FALSE)+VLOOKUP($L17,Equipment!$A$4:$I$204,7,FALSE) -> 10 | S17: =H17+VLOOKUP($J17,Equipment!$A$4:$I$204,8,FALSE)+VLOOKUP($K17,Equipment!$A$4:$I$204,8,FALSE)+VLOOKUP($L17,Equipment!$A$4:$I$204,8,FALSE) -> 10 | T17: =I17+VLOOKUP($J17,Equipment!$A$4:$I$204,9,FALSE)+VLOOKUP($K17,Equipment!$A$4:$I$204,9,FALSE)+VLOOKUP($L17,Equipment!$A$4:$I$204,9,FALSE) -> 10
A18: Hero12 | B18: =VLOOKUP($L$4,INDIRECT($A18&"!$A$5:$I$103"),2,FALSE) -> 100 | C18: =VLOOKUP($L$4,INDIRECT($A18&"!$A$5:$I$103"),3,FALSE) -> 5 | D18: =VLOOKUP($L$4,INDIRECT($A18&"!$A$5:$I$103"),4,FALSE) -> 10 | E18: =VLOOKUP($L$4,INDIRECT($A18&"!$A$5:$I$103"),5,FALSE) -> 10 | F18: =VLOOKUP($L$4,INDIRECT($A18&"!$A$5:$I$103"),6,FALSE) -> 10 | G18: =VLOOKUP($L$4,INDIRECT($A18&"!$A$5:$I$103"),7,FALSE) -> 10 | H18: =VLOOKUP($L$4,INDIRECT($A18&"!$A$5:$I$103"),8,FALSE) -> 10 | I18: =VLOOKUP($L$4,INDIRECT($A18&"!$A$5:$I$103"),9,FALSE) -> 10 | J18: (None) | K18: (None) | L18: (None) | M18: =B18+VLOOKUP($J18,Equipment!$A$4:$I$204,2,FALSE)+VLOOKUP($K18,Equipment!$A$4:$I$204,2,FALSE)+VLOOKUP($L18,Equipment!$A$4:$I$204,2,FALSE) -> 100 | N18: =C18+VLOOKUP($J18,Equipment!$A$4:$I$204,3,FALSE)+VLOOKUP($K18,Equipment!$A$4:$I$204,3,FALSE)+VLOOKUP($L18,Equipment!$A$4:$I$204,3,FALSE) -> 5 | O18: =D18+VLOOKUP($J18,Equipment!$A$4:$I$204,4,FALSE)+VLOOKUP($K18,Equipment!$A$4:$I$204,4,FALSE)+VLOOKUP($L18,Equipment!$A$4:$I$204,4,FALSE) -> 10 | P18: =E18+VLOOKUP($J18,Equipment!$A$4:$I$204,5,FALSE)+VLOOKUP($K18,Equipment!$A$4:$I$204,5,FALSE)+VLOOKUP($L18,Equipment!$A$4:$I$204,5,FALSE) -> 10 | Q18: =F18+VLOOKUP($J18,Equipment!$A$4:$I$204,6,FALSE)+VLOOKUP($K18,Equipment!$A$4:$I$204,6,FALSE)+VLOOKUP($L18,Equipment!$A$4:$I$204,6,FALSE) -> 10 | R18: =G18+VLOOKUP($J18,Equipment!$A$4:$I$204,7,FALSE)+VLOOKUP($K18,Equipment!$A$4:$I$204,7,FALSE)+VLOOKUP($L18,Equipment!$A$4:$I$204,7,FALSE) -> 10 | S18: =H18+VLOOKUP($J18,Equipment!$A$4:$I$204,8,FALSE)+VLOOKUP($K18,Equipment!$A$4:$I$204,8,FALSE)+VLOOKUP($L18,Equipment!$A$4:$I$204,8,FALSE) -> 10 | T18: =I18+VLOOKUP($J18,Equipment!$A$4:$I$204,9,FALSE)+VLOOKUP($K18,Equipment!$A$4:$I$204,9,FALSE)+VLOOKUP($L18,Equipment!$A$4:$I$204,9,FALSE) -> 10
... A26: Hero20 | B26: =VLOOKUP($L$4,INDIRECT($A26&"!$A$5:$I$103"),2,FALSE) -> 100 | C26: =VLOOKUP($L$4,INDIRECT($A26&"!$A$5:$I$103"),3,FALSE) -> 5 | D26: =VLOOKUP($L$4,INDIRECT($A26&"!$A$5:$I$103"),4,FALSE) -> 10 | E26: =VLOOKUP($L$4,INDIRECT($A26&"!$A$5:$I$103"),5,FALSE) -> 10 | F26: =VLOOKUP($L$4,INDIRECT($A26&"!$A$5:$I$103"),6,FALSE) -> 10 | G26: =VLOOKUP($L$4,INDIRECT($A26&"!$A$5:$I$103"),7,FALSE) -> 10 | H26: =VLOOKUP($L$4,INDIRECT($A26&"!$A$5:$I$103"),8,FALSE) -> 10 | I26: =VLOOKUP($L$4,INDIRECT($A26&"!$A$5:$I$103"),9,FALSE) -> 10 | J26: (None) | K26: (None) | L26: (None) | M26: =B26+VLOOKUP($J26,Equipment!$A$4:$I$204,2,FALSE)+VLOOKUP($K26,Equipment!$A$4:$I$204,2,FALSE)+VLOOKUP($L26,Equipment!$A$4:$I$204,2,FALSE) -> 100 | N26: =C26+VLOOKUP($J26,Equipment!$A$4:$I$204,3,FALSE)+VLOOKUP($K26,Equipment!$A$4:$I$204,3,FALSE)+VLOOKUP($L26,Equipment!$A$4:$I$204,3,FALSE) -> 5 | O26: =D26+VLOOKUP($J26,Equipment!$A$4:$I$204,4,FALSE)+VLOOKUP($K26,Equipment!$A$4:$I$204,4,FALSE)+VLOOKUP($L26,Equipment!$A$4:$I$204,4,FALSE) -> 10 | P26: =E26+VLOOKUP($J26,Equipment!$A$4:$I$204,5,FALSE)+VLOOKUP($K26,Equipment!$A$4:$I$204,5,FALSE)+VLOOKUP($L26,Equipment!$A$4:$I$204,5,FALSE) -> 10 | Q26: =F26+VLOOKUP($J26,Equipment!$A$4:$I$204,6,FALSE)+VLOOKUP($K26,Equipment!$A$4:$I$204,6,FALSE)+VLOOKUP($L26,Equipment!$A$4:$I$204,6,FALSE) -> 10 | R26: =G26+VLOOKUP($J26,Equipment!$A$4:$I$204,7,FALSE)+VLOOKUP($K26,Equipment!$A$4:$I$204,7,FALSE)+VLOOKUP($L26,Equipment!$A$4:$I$204,7,FALSE) -> 10 | S26: =H26+VLOOKUP($J26,Equipment!$A$4:$I$204,8,FALSE)+VLOOKUP($K26,Equipment!$A$4:$I$204,8,FALSE)+VLOOKUP($L26,Equipment!$A$4:$I$204,8,FALSE) -> 10 | T26: =I26+VLOOKUP($J26,Equipment!$A$4:$I$204,9,FALSE)+VLOOKUP($K26,Equipment!$A$4:$I$204,9,FALSE)+VLOOKUP($L26,Equipment!$A$4:$I$204,9,FALSE) -> 10
F29: Player Buff | H29: Enemy Buff
A30: Player Skills | B30: Character | D30: Dmg | E30: Hits | F30: +20% | G30: +40% | H30: +10% | I30: +25% | L30: Enemy Skill | M30: =A7 -> Soldier | N30: =A8 -> Sorcerer | O30: =A9 -> Scout | P30: =A10 -> Gryn | Q30: =A11 -> Dumpy | R30: =A12 -> Ahmrin | S30: =A13 -> Leira | T30: =A14 -> Hero8 | U30: =A15 -> Hero9 | V30: =A16 -> Hero10 | W30: =A17 -> Hero11 | X30: =A18 -> Hero12 | Y30: =A19 -> Hero13 | Z30: =A20 -> Hero14 | AA30: =A21 -> Hero15 | AB30: =A22 -> Hero16 | AC30: =A23 -> Hero17 | AD30: =A24 -> Hero18 | AE30: =A25 -> Hero19 | AF30: =A26 -> Hero20
A31: =Skills!A4 -> Slash (Soldier) | B31: =VLOOKUP($A31,Skills!$A$4:$C$304,2,FALSE) -> Soldier | D31: =ROUND(VLOOKUP(A31,Skills!A4:K304,3,FALSE) +((VLOOKUP(B31,$A$7:$T$26,15,FALSE)*VLOOKUP(A31,Skills!$A$4:$K$304,4,FALSE)) +(VLOOKUP(B31,$A$7:$T$26,17,FALSE)*VLOOKUP(A31,Skills!$A$4:$K$304,5,FALSE)) +(VLOOKUP(B31,$A$7:$T$26,19,FALSE)*VLOOKUP(A31,Skills!$A$4:$K$304,6,FALSE)) +(VLOOKUP(B31,$A$7:$T26,20,FALSE)*VLOOKUP(A31,Skills!$A$4:$K$304,7,FALSE))) -(($E$4*VLOOKUP(A31,Skills!$A$4:$K$304,8,FALSE)) +($F$4*VLOOKUP(A31,Skills!$A$4:$K$304,9,FALSE)) +($H$4*VLOOKUP(A31,Skills!$A$4:$K$304,10,FALSE)) +($I$4*VLOOKUP(A31,Skills!$A$4:$K$304,11,FALSE))),0) -> 37 | E31: =ROUND($B$4/D31,1) -> 2.7 | F31: =ROUND(VLOOKUP(A31,Skills!A4:K304,3,FALSE) +(((VLOOKUP(B31,$A$7:$T$26,15,FALSE)*1.2)*VLOOKUP(A31,Skills!$A$4:$K$304,4,FALSE)) +((VLOOKUP(B31,$A$7:$T$26,17,FALSE)*1.2)*VLOOKUP(A31,Skills!$A$4:$K$304,5,FALSE)) +(VLOOKUP(B31,$A$7:$T$26,19,FALSE)*VLOOKUP(A31,Skills!$A$4:$K$304,6,FALSE)) +(VLOOKUP(B31,$A$7:$T26,20,FALSE)*VLOOKUP(A31,Skills!$A$4:$K$304,7,FALSE))) -(($E$4*VLOOKUP(A31,Skills!$A$4:$K$304,8,FALSE)) +($F$4*VLOOKUP(A31,Skills!$A$4:$K$304,9,FALSE)) +($H$4*VLOOKUP(A31,Skills!$A$4:$K$304,10,FALSE)) +($I$4*VLOOKUP(A31,Skills!$A$4:$K$304,11,FALSE))),0) -> 48 | G31: =ROUND(VLOOKUP(A31,Skills!A4:K304,3,FALSE) +(((VLOOKUP(B31,$A$7:$T$26,15,FALSE)*1.4)*VLOOKUP(A31,Skills!$A$4:$K$304,4,FALSE)) +((VLOOKUP(B31,$A$7:$T$26,17,FALSE)*1.4)*VLOOKUP(A31,Skills!$A$4:$K$304,5,FALSE)) +(VLOOKUP(B31,$A$7:$T$26,19,FALSE)*VLOOKUP(A31,Skills!$A$4:$K$304,6,FALSE)) +(VLOOKUP(B31,$A$7:$T26,20,FALSE)*VLOOKUP(A31,Skills!$A$4:$K$304,7,FALSE))) -(($E$4*VLOOKUP(A31,Skills!$A$4:$K$304,8,FALSE)) +($F$4*VLOOKUP(A31,Skills!$A$4:$K$304,9,FALSE)) +($H$4*VLOOKUP(A31,Skills!$A$4:$K$304,10,FALSE)) +($I$4*VLOOKUP(A31,Skills!$A$4:$K$304,11,FALSE))),0) -> 60 | H31: =ROUND(VLOOKUP(A31,Skills!A4:K304,3,FALSE) +((VLOOKUP(B31,$A$7:$T$26,15,FALSE)*VLOOKUP(A31,Skills!$A$4:$K$304,4,FALSE)) +(VLOOKUP(B31,$A$7:$T$26,17,FALSE)*VLOOKUP(A31,Skills!$A$4:$K$304,5,FALSE)) +(VLOOKUP(B31,$A$7:$T$26,19,FALSE)*VLOOKUP(A31,Skills!$A$4:$K$304,6,FALSE)) +(VLOOKUP(B31,$A$7:$T26,20,FALSE)*VLOOKUP(A31,Skills!$A$4:$K$304,7,FALSE))) -((($E$4*1.2)*VLOOKUP(A31,Skills!$A$4:$K$304,8,FALSE)) +(($F$4*1.2)*VLOOKUP(A31,Skills!$A$4:$K$304,9,FALSE)) +($H$4*VLOOKUP(A31,Skills!$A$4:$K$304,10,FALSE)) +($I$4*VLOOKUP(A31,Skills!$A$4:$K$304,11,FALSE))),0) -> 33 | I31: =ROUND(VLOOKUP(A31,Skills!A4:K304,3,FALSE) +((VLOOKUP(B31,$A$7:$T$26,15,FALSE)*VLOOKUP(A31,Skills!$A$4:$K$304,4,FALSE)) +(VLOOKUP(B31,$A$7:$T$26,17,FALSE)*VLOOKUP(A31,Skills!$A$4:$K$304,5,FALSE)) +(VLOOKUP(B31,$A$7:$T$26,19,FALSE)*VLOOKUP(A31,Skills!$A$4:$K$304,6,FALSE)) +(VLOOKUP(B31,$A$7:$T26,20,FALSE)*VLOOKUP(A31,Skills!$A$4:$K$304,7,FALSE))) -((($E$4*1.4)*VLOOKUP(A31,Skills!$A$4:$K$304,8,FALSE)) +(($F$4*1.4)*VLOOKUP(A31,Skills!$A$4:$K$304,9,FALSE)) +($H$4*VLOOKUP(A31,Skills!$A$4:$K$304,10,FALSE)) +($I$4*VLOOKUP(A31,Skills!$A$4:$K$304,11,FALSE))),0) -> 29 | L31: =EnemySkills!A4 -> Claw | M31: =ROUND(VLOOKUP($L31,EnemySkills!$A$4:$K$304,3,FALSE) +( ($D$4*VLOOKUP($L31,EnemySkills!$A$4:$K$304,4,FALSE)) +($F$4*VLOOKUP($L31,EnemySkills!$A$4:$K$304,5,FALSE)) +($H$4*VLOOKUP($L31,EnemySkills!$A$4:$K$304,6,FALSE)) +($I$4*VLOOKUP($L31,EnemySkills!$A$4:$K$304,7,FALSE)) )-( (VLOOKUP(M$30,$A$7:$T$26,16,FALSE)*VLOOKUP($L31,EnemySkills!$A$4:$K$304,8,FALSE)) +(VLOOKUP(M$30,$A$7:$T$26,18,FALSE)*VLOOKUP($L31,EnemySkills!$A$4:$K$304,9,FALSE)) +(VLOOKUP(M$30,$A$7:$T$26,19,FALSE)*VLOOKUP($L31,EnemySkills!$A$4:$K$304,10,FALSE)) +(VLOOKUP(M$30,$A$7:$T$26,20,FALSE)*VLOOKUP($L31,EnemySkills!$A$4:$K$304,11,FALSE)) ),0) -> 0 | N31: =ROUND(VLOOKUP($L31,EnemySkills!$A$4:$K$304,3,FALSE) +( ($D$4*VLOOKUP($L31,EnemySkills!$A$4:$K$304,4,FALSE)) +($F$4*VLOOKUP($L31,EnemySkills!$A$4:$K$304,5,FALSE)) +($H$4*VLOOKUP($L31,EnemySkills!$A$4:$K$304,6,FALSE)) +($I$4*VLOOKUP($L31,EnemySkills!$A$4:$K$304,7,FALSE)) )-( (VLOOKUP(N$30,$A$7:$T$26,16,FALSE)*VLOOKUP($L31,EnemySkills!$A$4:$K$304,8,FALSE)) +(VLOOKUP(N$30,$A$7:$T$26,18,FALSE)*VLOOKUP($L31,EnemySkills!$A$4:$K$304,9,FALSE)) +(VLOOKUP(N$30,$A$7:$T$26,19,FALSE)*VLOOKUP($L31,EnemySkills!$A$4:$K$304,10,FALSE)) +(VLOOKUP(N$30,$A$7:$T$26,20,FALSE)*VLOOKUP($L31,EnemySkills!$A$4:$K$304,11,FALSE)) ),0) -> 14 | O31: =ROUND(VLOOKUP($L31,EnemySkills!$A$4:$K$304,3,FALSE) +( ($D$4*VLOOKUP($L31,EnemySkills!$A$4:$K$304,4,FALSE)) +($F$4*VLOOKUP($L31,EnemySkills!$A$4:$K$304,5,FALSE)) +($H$4*VLOOKUP($L31,EnemySkills!$A$4:$K$304,6,FALSE)) +($I$4*VLOOKUP($L31,EnemySkills!$A$4:$K$304,7,FALSE)) )-( (VLOOKUP(O$30,$A$7:$T$26,16,FALSE)*VLOOKUP($L31,EnemySkills!$A$4:$K$304,8,FALSE)) +(VLOOKUP(O$30,$A$7:$T$26,18,FALSE)*VLOOKUP($L31,EnemySkills!$A$4:$K$304,9,FALSE)) +(VLOOKUP(O$30,$A$7:$T$26,19,FALSE)*VLOOKUP($L31,EnemySkills!$A$4:$K$304,10,FALSE)) +(VLOOKUP(O$30,$A$7:$T$26,20,FALSE)*VLOOKUP($L31,EnemySkills!$A$4:$K$304,11,FALSE)) ),0) -> 8 | P31: =ROUND(VLOOKUP($L31,EnemySkills!$A$4:$K$304,3,FALSE) +( ($D$4*VLOOKUP($L31,EnemySkills!$A$4:$K$304,4,FALSE)) +($F$4*VLOOKUP($L31,EnemySkills!$A$4:$K$304,5,FALSE)) +($H$4*VLOOKUP($L31,EnemySkills!$A$4:$K$304,6,FALSE)) +($I$4*VLOOKUP($L31,EnemySkills!$A$4:$K$304,7,FALSE)) )-( (VLOOKUP(P$30,$A$7:$T$26,16,FALSE)*VLOOKUP($L31,EnemySkills!$A$4:$K$304,8,FALSE)) +(VLOOKUP(P$30,$A$7:$T$26,18,FALSE)*VLOOKUP($L31,EnemySkills!$A$4:$K$304,9,FALSE)) +(VLOOKUP(P$30,$A$7:$T$26,19,FALSE)*VLOOKUP($L31,EnemySkills!$A$4:$K$304,10,FALSE)) +(VLOOKUP(P$30,$A$7:$T$26,20,FALSE)*VLOOKUP($L31,EnemySkills!$A$4:$K$304,11,FALSE)) ),0) -> 16 | Q31: =ROUND(VLOOKUP($L31,EnemySkills!$A$4:$K$304,3,FALSE) +( ($D$4*VLOOKUP($L31,EnemySkills!$A$4:$K$304,4,FALSE)) +($F$4*VLOOKUP($L31,EnemySkills!$A$4:$K$304,5,FALSE)) +($H$4*VLOOKUP($L31,EnemySkills!$A$4:$K$304,6,FALSE)) +($I$4*VLOOKUP($L31,EnemySkills!$A$4:$K$304,7,FALSE)) )-( (VLOOKUP(Q$30,$A$7:$T$26,16,FALSE)*VLOOKUP($L31,EnemySkills!$A$4:$K$304,8,FALSE)) +(VLOOKUP(Q$30,$A$7:$T$26,18,FALSE)*VLOOKUP($L31,EnemySkills!$A$4:$K$304,9,FALSE)) +(VLOOKUP(Q$30,$A$7:$T$26,19,FALSE)*VLOOKUP($L31,EnemySkills!$A$4:$K$304,10,FALSE)) +(VLOOKUP(Q$30,$A$7:$T$26,20,FALSE)*VLOOKUP($L31,EnemySkills!$A$4:$K$304,11,FALSE)) ),0) -> 20 | R31: =ROUND(VLOOKUP($L31,EnemySkills!$A$4:$K$304,3,FALSE) +( ($D$4*VLOOKUP($L31,EnemySkills!$A$4:$K$304,4,FALSE)) +($F$4*VLOOKUP($L31,EnemySkills!$A$4:$K$304,5,FALSE)) +($H$4*VLOOKUP($L31,EnemySkills!$A$4:$K$304,6,FALSE)) +($I$4*VLOOKUP($L31,EnemySkills!$A$4:$K$304,7,FALSE)) )-( (VLOOKUP(R$30,$A$7:$T$26,16,FALSE)*VLOOKUP($L31,EnemySkills!$A$4:$K$304,8,FALSE)) +(VLOOKUP(R$30,$A$7:$T$26,18,FALSE)*VLOOKUP($L31,EnemySkills!$A$4:$K$304,9,FALSE)) +(VLOOKUP(R$30,$A$7:$T$26,19,FALSE)*VLOOKUP($L31,EnemySkills!$A$4:$K$304,10,FALSE)) +(VLOOKUP(R$30,$A$7:$T$26,20,FALSE)*VLOOKUP($L31,EnemySkills!$A$4:$K$304,11,FALSE)) ),0) -> -30 | S31: =ROUND(VLOOKUP($L31,EnemySkills!$A$4:$K$304,3,FALSE) +( ($D$4*VLOOKUP($L31,EnemySkills!$A$4:$K$304,4,FALSE)) +($F$4*VLOOKUP($L31,EnemySkills!$A$4:$K$304,5,FALSE)) +($H$4*VLOOKUP($L31,EnemySkills!$A$4:$K$304,6,FALSE)) +($I$4*VLOOKUP($L31,EnemySkills!$A$4:$K$304,7,FALSE)) )-( (VLOOKUP(S$30,$A$7:$T$26,16,FALSE)*VLOOKUP($L31,EnemySkills!$A$4:$K$304,8,FALSE)) +(VLOOKUP(S$30,$A$7:$T$26,18,FALSE)*VLOOKUP($L31,EnemySkills!$A$4:$K$304,9,FALSE)) +(VLOOKUP(S$30,$A$7:$T$26,19,FALSE)*VLOOKUP($L31,EnemySkills!$A$4:$K$304,10,FALSE)) +(VLOOKUP(S$30,$A$7:$T$26,20,FALSE)*VLOOKUP($L31,EnemySkills!$A$4:$K$304,11,FALSE)) ),0) -> 8 | T31: =ROUND(VLOOKUP($L31,EnemySkills!$A$4:$K$304,3,FALSE) +( ($D$4*VLOOKUP($L31,EnemySkills!$A$4:$K$304,4,FALSE)) +($F$4*VLOOKUP($L31,EnemySkills!$A$4:$K$304,5,FALSE)) +($H$4*VLOOKUP($L31,EnemySkills!$A$4:$K$304,6,FALSE)) +($I$4*VLOOKUP($L31,EnemySkills!$A$4:$K$304,7,FALSE)) )-( (VLOOKUP(T$30,$A$7:$T$26,16,FALSE)*VLOOKUP($L31,EnemySkills!$A$4:$K$304,8,FALSE)) +(VLOOKUP(T$30,$A$7:$T$26,18,FALSE)*VLOOKUP($L31,EnemySkills!$A$4:$K$304,9,FALSE)) +(VLOOKUP(T$30,$A$7:$T$26,19,FALSE)*VLOOKUP($L31,EnemySkills!$A$4:$K$304,10,FALSE)) +(VLOOKUP(T$30,$A$7:$T$26,20,FALSE)*VLOOKUP($L31,EnemySkills!$A$4:$K$304,11,FALSE)) ),0) -> 20 | ... AF31: =ROUND(VLOOKUP($L31,EnemySkills!$A$4:$K$304,3,FALSE) +( ($D$4*VLOOKUP($L31,EnemySkills!$A$4:$K$304,4,FALSE)) +($F$4*VLOOKUP($L31,EnemySkills!$A$4:$K$304,5,FALSE)) +($H$4*VLOOKUP($L31,EnemySkills!$A$4:$K$304,6,FALSE)) +($I$4*VLOOKUP($L31,EnemySkills!$A$4:$K$304,7,FALSE)) )-( (VLOOKUP(AF$30,$A$7:$T$26,16,FALSE)*VLOOKUP($L31,EnemySkills!$A$4:$K$304,8,FALSE)) +(VLOOKUP(AF$30,$A$7:$T$26,18,FALSE)*VLOOKUP($L31,EnemySkills!$A$4:$K$304,9,FALSE)) +(VLOOKUP(AF$30,$A$7:$T$26,19,FALSE)*VLOOKUP($L31,EnemySkills!$A$4:$K$304,10,FALSE)) +(VLOOKUP(AF$30,$A$7:$T$26,20,FALSE)*VLOOKUP($L31,EnemySkills!$A$4:$K$304,11,FALSE)) ),0) -> 20
A32: =Skills!A5 -> Jagged Slash | B32: =VLOOKUP($A32,Skills!$A$4:$C$304,2,FALSE) -> Soldier | D32: =ROUND(VLOOKUP(A32,Skills!A5:K305,3,FALSE) +((VLOOKUP(B32,$A$7:$T$26,15,FALSE)*VLOOKUP(A32,Skills!$A$4:$K$304,4,FALSE)) +(VLOOKUP(B32,$A$7:$T$26,17,FALSE)*VLOOKUP(A32,Skills!$A$4:$K$304,5,FALSE)) +(VLOOKUP(B32,$A$7:$T$26,19,FALSE)*VLOOKUP(A32,Skills!$A$4:$K$304,6,FALSE)) +(VLOOKUP(B32,$A$7:$T27,20,FALSE)*VLOOKUP(A32,Skills!$A$4:$K$304,7,FALSE))) -(($E$4*VLOOKUP(A32,Skills!$A$4:$K$304,8,FALSE)) +($F$4*VLOOKUP(A32,Skills!$A$4:$K$304,9,FALSE)) +($H$4*VLOOKUP(A32,Skills!$A$4:$K$304,10,FALSE)) +($I$4*VLOOKUP(A32,Skills!$A$4:$K$304,11,FALSE))),0) -> 37 | E32: =ROUND($B$4/D32,1) -> 2.7 | F32: =ROUND(VLOOKUP(A32,Skills!A5:K305,3,FALSE) +(((VLOOKUP(B32,$A$7:$T$26,15,FALSE)*1.2)*VLOOKUP(A32,Skills!$A$4:$K$304,4,FALSE)) +((VLOOKUP(B32,$A$7:$T$26,17,FALSE)*1.2)*VLOOKUP(A32,Skills!$A$4:$K$304,5,FALSE)) +(VLOOKUP(B32,$A$7:$T$26,19,FALSE)*VLOOKUP(A32,Skills!$A$4:$K$304,6,FALSE)) +(VLOOKUP(B32,$A$7:$T27,20,FALSE)*VLOOKUP(A32,Skills!$A$4:$K$304,7,FALSE))) -(($E$4*VLOOKUP(A32,Skills!$A$4:$K$304,8,FALSE)) +($F$4*VLOOKUP(A32,Skills!$A$4:$K$304,9,FALSE)) +($H$4*VLOOKUP(A32,Skills!$A$4:$K$304,10,FALSE)) +($I$4*VLOOKUP(A32,Skills!$A$4:$K$304,11,FALSE))),0) -> 48 | G32: =ROUND(VLOOKUP(A32,Skills!A5:K305,3,FALSE) +(((VLOOKUP(B32,$A$7:$T$26,15,FALSE)*1.4)*VLOOKUP(A32,Skills!$A$4:$K$304,4,FALSE)) +((VLOOKUP(B32,$A$7:$T$26,17,FALSE)*1.4)*VLOOKUP(A32,Skills!$A$4:$K$304,5,FALSE)) +(VLOOKUP(B32,$A$7:$T$26,19,FALSE)*VLOOKUP(A32,Skills!$A$4:$K$304,6,FALSE)) +(VLOOKUP(B32,$A$7:$T27,20,FALSE)*VLOOKUP(A32,Skills!$A$4:$K$304,7,FALSE))) -(($E$4*VLOOKUP(A32,Skills!$A$4:$K$304,8,FALSE)) +($F$4*VLOOKUP(A32,Skills!$A$4:$K$304,9,FALSE)) +($H$4*VLOOKUP(A32,Skills!$A$4:$K$304,10,FALSE)) +($I$4*VLOOKUP(A32,Skills!$A$4:$K$304,11,FALSE))),0) -> 60 | H32: =ROUND(VLOOKUP(A32,Skills!A5:K305,3,FALSE) +((VLOOKUP(B32,$A$7:$T$26,15,FALSE)*VLOOKUP(A32,Skills!$A$4:$K$304,4,FALSE)) +(VLOOKUP(B32,$A$7:$T$26,17,FALSE)*VLOOKUP(A32,Skills!$A$4:$K$304,5,FALSE)) +(VLOOKUP(B32,$A$7:$T$26,19,FALSE)*VLOOKUP(A32,Skills!$A$4:$K$304,6,FALSE)) +(VLOOKUP(B32,$A$7:$T27,20,FALSE)*VLOOKUP(A32,Skills!$A$4:$K$304,7,FALSE))) -((($E$4*1.2)*VLOOKUP(A32,Skills!$A$4:$K$304,8,FALSE)) +(($F$4*1.2)*VLOOKUP(A32,Skills!$A$4:$K$304,9,FALSE)) +($H$4*VLOOKUP(A32,Skills!$A$4:$K$304,10,FALSE)) +($I$4*VLOOKUP(A32,Skills!$A$4:$K$304,11,FALSE))),0) -> 33 | I32: =ROUND(VLOOKUP(A32,Skills!A5:K305,3,FALSE) +((VLOOKUP(B32,$A$7:$T$26,15,FALSE)*VLOOKUP(A32,Skills!$A$4:$K$304,4,FALSE)) +(VLOOKUP(B32,$A$7:$T$26,17,FALSE)*VLOOKUP(A32,Skills!$A$4:$K$304,5,FALSE)) +(VLOOKUP(B32,$A$7:$T$26,19,FALSE)*VLOOKUP(A32,Skills!$A$4:$K$304,6,FALSE)) +(VLOOKUP(B32,$A$7:$T27,20,FALSE)*VLOOKUP(A32,Skills!$A$4:$K$304,7,FALSE))) -((($E$4*1.4)*VLOOKUP(A32,Skills!$A$4:$K$304,8,FALSE)) +(($F$4*1.4)*VLOOKUP(A32,Skills!$A$4:$K$304,9,FALSE)) +($H$4*VLOOKUP(A32,Skills!$A$4:$K$304,10,FALSE)) +($I$4*VLOOKUP(A32,Skills!$A$4:$K$304,11,FALSE))),0) -> 29 | L32: =EnemySkills!A5 -> Bite | M32: =ROUND(VLOOKUP($L32,EnemySkills!$A$4:$K$304,3,FALSE) +( ($D$4*VLOOKUP($L32,EnemySkills!$A$4:$K$304,4,FALSE)) +($F$4*VLOOKUP($L32,EnemySkills!$A$4:$K$304,5,FALSE)) +($H$4*VLOOKUP($L32,EnemySkills!$A$4:$K$304,6,FALSE)) +($I$4*VLOOKUP($L32,EnemySkills!$A$4:$K$304,7,FALSE)) )-( (VLOOKUP(M$30,$A$7:$T$26,16,FALSE)*VLOOKUP($L32,EnemySkills!$A$4:$K$304,8,FALSE)) +(VLOOKUP(M$30,$A$7:$T$26,18,FALSE)*VLOOKUP($L32,EnemySkills!$A$4:$K$304,9,FALSE)) +(VLOOKUP(M$30,$A$7:$T$26,19,FALSE)*VLOOKUP($L32,EnemySkills!$A$4:$K$304,10,FALSE)) +(VLOOKUP(M$30,$A$7:$T$26,20,FALSE)*VLOOKUP($L32,EnemySkills!$A$4:$K$304,11,FALSE)) ),0) -> 10 | N32: =ROUND(VLOOKUP($L32,EnemySkills!$A$4:$K$304,3,FALSE) +( ($D$4*VLOOKUP($L32,EnemySkills!$A$4:$K$304,4,FALSE)) +($F$4*VLOOKUP($L32,EnemySkills!$A$4:$K$304,5,FALSE)) +($H$4*VLOOKUP($L32,EnemySkills!$A$4:$K$304,6,FALSE)) +($I$4*VLOOKUP($L32,EnemySkills!$A$4:$K$304,7,FALSE)) )-( (VLOOKUP(N$30,$A$7:$T$26,16,FALSE)*VLOOKUP($L32,EnemySkills!$A$4:$K$304,8,FALSE)) +(VLOOKUP(N$30,$A$7:$T$26,18,FALSE)*VLOOKUP($L32,EnemySkills!$A$4:$K$304,9,FALSE)) +(VLOOKUP(N$30,$A$7:$T$26,19,FALSE)*VLOOKUP($L32,EnemySkills!$A$4:$K$304,10,FALSE)) +(VLOOKUP(N$30,$A$7:$T$26,20,FALSE)*VLOOKUP($L32,EnemySkills!$A$4:$K$304,11,FALSE)) ),0) -> 24 | O32: =ROUND(VLOOKUP($L32,EnemySkills!$A$4:$K$304,3,FALSE) +( ($D$4*VLOOKUP($L32,EnemySkills!$A$4:$K$304,4,FALSE)) +($F$4*VLOOKUP($L32,EnemySkills!$A$4:$K$304,5,FALSE)) +($H$4*VLOOKUP($L32,EnemySkills!$A$4:$K$304,6,FALSE)) +($I$4*VLOOKUP($L32,EnemySkills!$A$4:$K$304,7,FALSE)) )-( (VLOOKUP(O$30,$A$7:$T$26,16,FALSE)*VLOOKUP($L32,EnemySkills!$A$4:$K$304,8,FALSE)) +(VLOOKUP(O$30,$A$7:$T$26,18,FALSE)*VLOOKUP($L32,EnemySkills!$A$4:$K$304,9,FALSE)) +(VLOOKUP(O$30,$A$7:$T$26,19,FALSE)*VLOOKUP($L32,EnemySkills!$A$4:$K$304,10,FALSE)) +(VLOOKUP(O$30,$A$7:$T$26,20,FALSE)*VLOOKUP($L32,EnemySkills!$A$4:$K$304,11,FALSE)) ),0) -> 18 | P32: =ROUND(VLOOKUP($L32,EnemySkills!$A$4:$K$304,3,FALSE) +( ($D$4*VLOOKUP($L32,EnemySkills!$A$4:$K$304,4,FALSE)) +($F$4*VLOOKUP($L32,EnemySkills!$A$4:$K$304,5,FALSE)) +($H$4*VLOOKUP($L32,EnemySkills!$A$4:$K$304,6,FALSE)) +($I$4*VLOOKUP($L32,EnemySkills!$A$4:$K$304,7,FALSE)) )-( (VLOOKUP(P$30,$A$7:$T$26,16,FALSE)*VLOOKUP($L32,EnemySkills!$A$4:$K$304,8,FALSE)) +(VLOOKUP(P$30,$A$7:$T$26,18,FALSE)*VLOOKUP($L32,EnemySkills!$A$4:$K$304,9,FALSE)) +(VLOOKUP(P$30,$A$7:$T$26,19,FALSE)*VLOOKUP($L32,EnemySkills!$A$4:$K$304,10,FALSE)) +(VLOOKUP(P$30,$A$7:$T$26,20,FALSE)*VLOOKUP($L32,EnemySkills!$A$4:$K$304,11,FALSE)) ),0) -> 26 | Q32: =ROUND(VLOOKUP($L32,EnemySkills!$A$4:$K$304,3,FALSE) +( ($D$4*VLOOKUP($L32,EnemySkills!$A$4:$K$304,4,FALSE)) +($F$4*VLOOKUP($L32,EnemySkills!$A$4:$K$304,5,FALSE)) +($H$4*VLOOKUP($L32,EnemySkills!$A$4:$K$304,6,FALSE)) +($I$4*VLOOKUP($L32,EnemySkills!$A$4:$K$304,7,FALSE)) )-( (VLOOKUP(Q$30,$A$7:$T$26,16,FALSE)*VLOOKUP($L32,EnemySkills!$A$4:$K$304,8,FALSE)) +(VLOOKUP(Q$30,$A$7:$T$26,18,FALSE)*VLOOKUP($L32,EnemySkills!$A$4:$K$304,9,FALSE)) +(VLOOKUP(Q$30,$A$7:$T$26,19,FALSE)*VLOOKUP($L32,EnemySkills!$A$4:$K$304,10,FALSE)) +(VLOOKUP(Q$30,$A$7:$T$26,20,FALSE)*VLOOKUP($L32,EnemySkills!$A$4:$K$304,11,FALSE)) ),0) -> 30 | R32: =ROUND(VLOOKUP($L32,EnemySkills!$A$4:$K$304,3,FALSE) +( ($D$4*VLOOKUP($L32,EnemySkills!$A$4:$K$304,4,FALSE)) +($F$4*VLOOKUP($L32,EnemySkills!$A$4:$K$304,5,FALSE)) +($H$4*VLOOKUP($L32,EnemySkills!$A$4:$K$304,6,FALSE)) +($I$4*VLOOKUP($L32,EnemySkills!$A$4:$K$304,7,FALSE)) )-( (VLOOKUP(R$30,$A$7:$T$26,16,FALSE)*VLOOKUP($L32,EnemySkills!$A$4:$K$304,8,FALSE)) +(VLOOKUP(R$30,$A$7:$T$26,18,FALSE)*VLOOKUP($L32,EnemySkills!$A$4:$K$304,9,FALSE)) +(VLOOKUP(R$30,$A$7:$T$26,19,FALSE)*VLOOKUP($L32,EnemySkills!$A$4:$K$304,10,FALSE)) +(VLOOKUP(R$30,$A$7:$T$26,20,FALSE)*VLOOKUP($L32,EnemySkills!$A$4:$K$304,11,FALSE)) ),0) -> -20 | S32: =ROUND(VLOOKUP($L32,EnemySkills!$A$4:$K$304,3,FALSE) +( ($D$4*VLOOKUP($L32,EnemySkills!$A$4:$K$304,4,FALSE)) +($F$4*VLOOKUP($L32,EnemySkills!$A$4:$K$304,5,FALSE)) +($H$4*VLOOKUP($L32,EnemySkills!$A$4:$K$304,6,FALSE)) +($I$4*VLOOKUP($L32,EnemySkills!$A$4:$K$304,7,FALSE)) )-( (VLOOKUP(S$30,$A$7:$T$26,16,FALSE)*VLOOKUP($L32,EnemySkills!$A$4:$K$304,8,FALSE)) +(VLOOKUP(S$30,$A$7:$T$26,18,FALSE)*VLOOKUP($L32,EnemySkills!$A$4:$K$304,9,FALSE)) +(VLOOKUP(S$30,$A$7:$T$26,19,FALSE)*VLOOKUP($L32,EnemySkills!$A$4:$K$304,10,FALSE)) +(VLOOKUP(S$30,$A$7:$T$26,20,FALSE)*VLOOKUP($L32,EnemySkills!$A$4:$K$304,11,FALSE)) ),0) -> 18 | T32: =ROUND(VLOOKUP($L32,EnemySkills!$A$4:$K$304,3,FALSE) +( ($D$4*VLOOKUP($L32,EnemySkills!$A$4:$K$304,4,FALSE)) +($F$4*VLOOKUP($L32,EnemySkills!$A$4:$K$304,5,FALSE)) +($H$4*VLOOKUP($L32,EnemySkills!$A$4:$K$304,6,FALSE)) +($I$4*VLOOKUP($L32,EnemySkills!$A$4:$K$304,7,FALSE)) )-( (VLOOKUP(T$30,$A$7:$T$26,16,FALSE)*VLOOKUP($L32,EnemySkills!$A$4:$K$304,8,FALSE)) +(VLOOKUP(T$30,$A$7:$T$26,18,FALSE)*VLOOKUP($L32,EnemySkills!$A$4:$K$304,9,FALSE)) +(VLOOKUP(T$30,$A$7:$T$26,19,FALSE)*VLOOKUP($L32,EnemySkills!$A$4:$K$304,10,FALSE)) +(VLOOKUP(T$30,$A$7:$T$26,20,FALSE)*VLOOKUP($L32,EnemySkills!$A$4:$K$304,11,FALSE)) ),0) -> 30 | ... AF32: =ROUND(VLOOKUP($L32,EnemySkills!$A$4:$K$304,3,FALSE) +( ($D$4*VLOOKUP($L32,EnemySkills!$A$4:$K$304,4,FALSE)) +($F$4*VLOOKUP($L32,EnemySkills!$A$4:$K$304,5,FALSE)) +($H$4*VLOOKUP($L32,EnemySkills!$A$4:$K$304,6,FALSE)) +($I$4*VLOOKUP($L32,EnemySkills!$A$4:$K$304,7,FALSE)) )-( (VLOOKUP(AF$30,$A$7:$T$26,16,FALSE)*VLOOKUP($L32,EnemySkills!$A$4:$K$304,8,FALSE)) +(VLOOKUP(AF$30,$A$7:$T$26,18,FALSE)*VLOOKUP($L32,EnemySkills!$A$4:$K$304,9,FALSE)) +(VLOOKUP(AF$30,$A$7:$T$26,19,FALSE)*VLOOKUP($L32,EnemySkills!$A$4:$K$304,10,FALSE)) +(VLOOKUP(AF$30,$A$7:$T$26,20,FALSE)*VLOOKUP($L32,EnemySkills!$A$4:$K$304,11,FALSE)) ),0) -> 30
A33: =Skills!A6 -> Pommel Bash | B33: =VLOOKUP($A33,Skills!$A$4:$C$304,2,FALSE) -> Soldier | D33: =ROUND(VLOOKUP(A33,Skills!A6:K306,3,FALSE) +((VLOOKUP(B33,$A$7:$T$26,15,FALSE)*VLOOKUP(A33,Skills!$A$4:$K$304,4,FALSE)) +(VLOOKUP(B33,$A$7:$T$26,17,FALSE)*VLOOKUP(A33,Skills!$A$4:$K$304,5,FALSE)) +(VLOOKUP(B33,$A$7:$T$26,19,FALSE)*VLOOKUP(A33,Skills!$A$4:$K$304,6,FALSE)) +(VLOOKUP(B33,$A$7:$T28,20,FALSE)*VLOOKUP(A33,Skills!$A$4:$K$304,7,FALSE))) -(($E$4*VLOOKUP(A33,Skills!$A$4:$K$304,8,FALSE)) +($F$4*VLOOKUP(A33,Skills!$A$4:$K$304,9,FALSE)) +($H$4*VLOOKUP(A33,Skills!$A$4:$K$304,10,FALSE)) +($I$4*VLOOKUP(A33,Skills!$A$4:$K$304,11,FALSE))),0) -> 56 | E33: =ROUND($B$4/D33,1) -> 1.8 | F33: =ROUND(VLOOKUP(A33,Skills!A6:K306,3,FALSE) +(((VLOOKUP(B33,$A$7:$T$26,15,FALSE)*1.2)*VLOOKUP(A33,Skills!$A$4:$K$304,4,FALSE)) +((VLOOKUP(B33,$A$7:$T$26,17,FALSE)*1.2)*VLOOKUP(A33,Skills!$A$4:$K$304,5,FALSE)) +(VLOOKUP(B33,$A$7:$T$26,19,FALSE)*VLOOKUP(A33,Skills!$A$4:$K$304,6,FALSE)) +(VLOOKUP(B33,$A$7:$T28,20,FALSE)*VLOOKUP(A33,Skills!$A$4:$K$304,7,FALSE))) -(($E$4*VLOOKUP(A33,Skills!$A$4:$K$304,8,FALSE)) +($F$4*VLOOKUP(A33,Skills!$A$4:$K$304,9,FALSE)) +($H$4*VLOOKUP(A33,Skills!$A$4:$K$304,10,FALSE)) +($I$4*VLOOKUP(A33,Skills!$A$4:$K$304,11,FALSE))),0) -> 71 | G33: =ROUND(VLOOKUP(A33,Skills!A6:K306,3,FALSE) +(((VLOOKUP(B33,$A$7:$T$26,15,FALSE)*1.4)*VLOOKUP(A33,Skills!$A$4:$K$304,4,FALSE)) +((VLOOKUP(B33,$A$7:$T$26,17,FALSE)*1.4)*VLOOKUP(A33,Skills!$A$4:$K$304,5,FALSE)) +(VLOOKUP(B33,$A$7:$T$26,19,FALSE)*VLOOKUP(A33,Skills!$A$4:$K$304,6,FALSE)) +(VLOOKUP(B33,$A$7:$T28,20,FALSE)*VLOOKUP(A33,Skills!$A$4:$K$304,7,FALSE))) -(($E$4*VLOOKUP(A33,Skills!$A$4:$K$304,8,FALSE)) +($F$4*VLOOKUP(A33,Skills!$A$4:$K$304,9,FALSE)) +($H$4*VLOOKUP(A33,Skills!$A$4:$K$304,10,FALSE)) +($I$4*VLOOKUP(A33,Skills!$A$4:$K$304,11,FALSE))),0) -> 86 | H33: =ROUND(VLOOKUP(A33,Skills!A6:K306,3,FALSE) +((VLOOKUP(B33,$A$7:$T$26,15,FALSE)*VLOOKUP(A33,Skills!$A$4:$K$304,4,FALSE)) +(VLOOKUP(B33,$A$7:$T$26,17,FALSE)*VLOOKUP(A33,Skills!$A$4:$K$304,5,FALSE)) +(VLOOKUP(B33,$A$7:$T$26,19,FALSE)*VLOOKUP(A33,Skills!$A$4:$K$304,6,FALSE)) +(VLOOKUP(B33,$A$7:$T28,20,FALSE)*VLOOKUP(A33,Skills!$A$4:$K$304,7,FALSE))) -((($E$4*1.2)*VLOOKUP(A33,Skills!$A$4:$K$304,8,FALSE)) +(($F$4*1.2)*VLOOKUP(A33,Skills!$A$4:$K$304,9,FALSE)) +($H$4*VLOOKUP(A33,Skills!$A$4:$K$304,10,FALSE)) +($I$4*VLOOKUP(A33,Skills!$A$4:$K$304,11,FALSE))),0) -> 52 | I33: =ROUND(VLOOKUP(A33,Skills!A6:K306,3,FALSE) +((VLOOKUP(B33,$A$7:$T$26,15,FALSE)*VLOOKUP(A33,Skills!$A$4:$K$304,4,FALSE)) +(VLOOKUP(B33,$A$7:$T$26,17,FALSE)*VLOOKUP(A33,Skills!$A$4:$K$304,5,FALSE)) +(VLOOKUP(B33,$A$7:$T$26,19,FALSE)*VLOOKUP(A33,Skills!$A$4:$K$304,6,FALSE)) +(VLOOKUP(B33,$A$7:$T28,20,FALSE)*VLOOKUP(A33,Skills!$A$4:$K$304,7,FALSE))) -((($E$4*1.4)*VLOOKUP(A33,Skills!$A$4:$K$304,8,FALSE)) +(($F$4*1.4)*VLOOKUP(A33,Skills!$A$4:$K$304,9,FALSE)) +($H$4*VLOOKUP(A33,Skills!$A$4:$K$304,10,FALSE)) +($I$4*VLOOKUP(A33,Skills!$A$4:$K$304,11,FALSE))),0) -> 48 | L33: =EnemySkills!A6 -> Pounce | M33: =ROUND(VLOOKUP($L33,EnemySkills!$A$4:$K$304,3,FALSE) +( ($D$4*VLOOKUP($L33,EnemySkills!$A$4:$K$304,4,FALSE)) +($F$4*VLOOKUP($L33,EnemySkills!$A$4:$K$304,5,FALSE)) +($H$4*VLOOKUP($L33,EnemySkills!$A$4:$K$304,6,FALSE)) +($I$4*VLOOKUP($L33,EnemySkills!$A$4:$K$304,7,FALSE)) )-( (VLOOKUP(M$30,$A$7:$T$26,16,FALSE)*VLOOKUP($L33,EnemySkills!$A$4:$K$304,8,FALSE)) +(VLOOKUP(M$30,$A$7:$T$26,18,FALSE)*VLOOKUP($L33,EnemySkills!$A$4:$K$304,9,FALSE)) +(VLOOKUP(M$30,$A$7:$T$26,19,FALSE)*VLOOKUP($L33,EnemySkills!$A$4:$K$304,10,FALSE)) +(VLOOKUP(M$30,$A$7:$T$26,20,FALSE)*VLOOKUP($L33,EnemySkills!$A$4:$K$304,11,FALSE)) ),0) -> 20 | N33: =ROUND(VLOOKUP($L33,EnemySkills!$A$4:$K$304,3,FALSE) +( ($D$4*VLOOKUP($L33,EnemySkills!$A$4:$K$304,4,FALSE)) +($F$4*VLOOKUP($L33,EnemySkills!$A$4:$K$304,5,FALSE)) +($H$4*VLOOKUP($L33,EnemySkills!$A$4:$K$304,6,FALSE)) +($I$4*VLOOKUP($L33,EnemySkills!$A$4:$K$304,7,FALSE)) )-( (VLOOKUP(N$30,$A$7:$T$26,16,FALSE)*VLOOKUP($L33,EnemySkills!$A$4:$K$304,8,FALSE)) +(VLOOKUP(N$30,$A$7:$T$26,18,FALSE)*VLOOKUP($L33,EnemySkills!$A$4:$K$304,9,FALSE)) +(VLOOKUP(N$30,$A$7:$T$26,19,FALSE)*VLOOKUP($L33,EnemySkills!$A$4:$K$304,10,FALSE)) +(VLOOKUP(N$30,$A$7:$T$26,20,FALSE)*VLOOKUP($L33,EnemySkills!$A$4:$K$304,11,FALSE)) ),0) -> 20 | O33: =ROUND(VLOOKUP($L33,EnemySkills!$A$4:$K$304,3,FALSE) +( ($D$4*VLOOKUP($L33,EnemySkills!$A$4:$K$304,4,FALSE)) +($F$4*VLOOKUP($L33,EnemySkills!$A$4:$K$304,5,FALSE)) +($H$4*VLOOKUP($L33,EnemySkills!$A$4:$K$304,6,FALSE)) +($I$4*VLOOKUP($L33,EnemySkills!$A$4:$K$304,7,FALSE)) )-( (VLOOKUP(O$30,$A$7:$T$26,16,FALSE)*VLOOKUP($L33,EnemySkills!$A$4:$K$304,8,FALSE)) +(VLOOKUP(O$30,$A$7:$T$26,18,FALSE)*VLOOKUP($L33,EnemySkills!$A$4:$K$304,9,FALSE)) +(VLOOKUP(O$30,$A$7:$T$26,19,FALSE)*VLOOKUP($L33,EnemySkills!$A$4:$K$304,10,FALSE)) +(VLOOKUP(O$30,$A$7:$T$26,20,FALSE)*VLOOKUP($L33,EnemySkills!$A$4:$K$304,11,FALSE)) ),0) -> 20 | P33: =ROUND(VLOOKUP($L33,EnemySkills!$A$4:$K$304,3,FALSE) +( ($D$4*VLOOKUP($L33,EnemySkills!$A$4:$K$304,4,FALSE)) +($F$4*VLOOKUP($L33,EnemySkills!$A$4:$K$304,5,FALSE)) +($H$4*VLOOKUP($L33,EnemySkills!$A$4:$K$304,6,FALSE)) +($I$4*VLOOKUP($L33,EnemySkills!$A$4:$K$304,7,FALSE)) )-( (VLOOKUP(P$30,$A$7:$T$26,16,FALSE)*VLOOKUP($L33,EnemySkills!$A$4:$K$304,8,FALSE)) +(VLOOKUP(P$30,$A$7:$T$26,18,FALSE)*VLOOKUP($L33,EnemySkills!$A$4:$K$304,9,FALSE)) +(VLOOKUP(P$30,$A$7:$T$26,19,FALSE)*VLOOKUP($L33,EnemySkills!$A$4:$K$304,10,FALSE)) +(VLOOKUP(P$30,$A$7:$T$26,20,FALSE)*VLOOKUP($L33,EnemySkills!$A$4:$K$304,11,FALSE)) ),0) -> 20 | Q33: =ROUND(VLOOKUP($L33,EnemySkills!$A$4:$K$304,3,FALSE) +( ($D$4*VLOOKUP($L33,EnemySkills!$A$4:$K$304,4,FALSE)) +($F$4*VLOOKUP($L33,EnemySkills!$A$4:$K$304,5,FALSE)) +($H$4*VLOOKUP($L33,EnemySkills!$A$4:$K$304,6,FALSE)) +($I$4*VLOOKUP($L33,EnemySkills!$A$4:$K$304,7,FALSE)) )-( (VLOOKUP(Q$30,$A$7:$T$26,16,FALSE)*VLOOKUP($L33,EnemySkills!$A$4:$K$304,8,FALSE)) +(VLOOKUP(Q$30,$A$7:$T$26,18,FALSE)*VLOOKUP($L33,EnemySkills!$A$4:$K$304,9,FALSE)) +(VLOOKUP(Q$30,$A$7:$T$26,19,FALSE)*VLOOKUP($L33,EnemySkills!$A$4:$K$304,10,FALSE)) +(VLOOKUP(Q$30,$A$7:$T$26,20,FALSE)*VLOOKUP($L33,EnemySkills!$A$4:$K$304,11,FALSE)) ),0) -> 20 | R33: =ROUND(VLOOKUP($L33,EnemySkills!$A$4:$K$304,3,FALSE) +( ($D$4*VLOOKUP($L33,EnemySkills!$A$4:$K$304,4,FALSE)) +($F$4*VLOOKUP($L33,EnemySkills!$A$4:$K$304,5,FALSE)) +($H$4*VLOOKUP($L33,EnemySkills!$A$4:$K$304,6,FALSE)) +($I$4*VLOOKUP($L33,EnemySkills!$A$4:$K$304,7,FALSE)) )-( (VLOOKUP(R$30,$A$7:$T$26,16,FALSE)*VLOOKUP($L33,EnemySkills!$A$4:$K$304,8,FALSE)) +(VLOOKUP(R$30,$A$7:$T$26,18,FALSE)*VLOOKUP($L33,EnemySkills!$A$4:$K$304,9,FALSE)) +(VLOOKUP(R$30,$A$7:$T$26,19,FALSE)*VLOOKUP($L33,EnemySkills!$A$4:$K$304,10,FALSE)) +(VLOOKUP(R$30,$A$7:$T$26,20,FALSE)*VLOOKUP($L33,EnemySkills!$A$4:$K$304,11,FALSE)) ),0) -> 20 | S33: =ROUND(VLOOKUP($L33,EnemySkills!$A$4:$K$304,3,FALSE) +( ($D$4*VLOOKUP($L33,EnemySkills!$A$4:$K$304,4,FALSE)) +($F$4*VLOOKUP($L33,EnemySkills!$A$4:$K$304,5,FALSE)) +($H$4*VLOOKUP($L33,EnemySkills!$A$4:$K$304,6,FALSE)) +($I$4*VLOOKUP($L33,EnemySkills!$A$4:$K$304,7,FALSE)) )-( (VLOOKUP(S$30,$A$7:$T$26,16,FALSE)*VLOOKUP($L33,EnemySkills!$A$4:$K$304,8,FALSE)) +(VLOOKUP(S$30,$A$7:$T$26,18,FALSE)*VLOOKUP($L33,EnemySkills!$A$4:$K$304,9,FALSE)) +(VLOOKUP(S$30,$A$7:$T$26,19,FALSE)*VLOOKUP($L33,EnemySkills!$A$4:$K$304,10,FALSE)) +(VLOOKUP(S$30,$A$7:$T$26,20,FALSE)*VLOOKUP($L33,EnemySkills!$A$4:$K$304,11,FALSE)) ),0) -> 20 | T33: =ROUND(VLOOKUP($L33,EnemySkills!$A$4:$K$304,3,FALSE) +( ($D$4*VLOOKUP($L33,EnemySkills!$A$4:$K$304,4,FALSE)) +($F$4*VLOOKUP($L33,EnemySkills!$A$4:$K$304,5,FALSE)) +($H$4*VLOOKUP($L33,EnemySkills!$A$4:$K$304,6,FALSE)) +($I$4*VLOOKUP($L33,EnemySkills!$A$4:$K$304,7,FALSE)) )-( (VLOOKUP(T$30,$A$7:$T$26,16,FALSE)*VLOOKUP($L33,EnemySkills!$A$4:$K$304,8,FALSE)) +(VLOOKUP(T$30,$A$7:$T$26,18,FALSE)*VLOOKUP($L33,EnemySkills!$A$4:$K$304,9,FALSE)) +(VLOOKUP(T$30,$A$7:$T$26,19,FALSE)*VLOOKUP($L33,EnemySkills!$A$4:$K$304,10,FALSE)) +(VLOOKUP(T$30,$A$7:$T$26,20,FALSE)*VLOOKUP($L33,EnemySkills!$A$4:$K$304,11,FALSE)) ),0) -> 20 | ... AF33: =ROUND(VLOOKUP($L33,EnemySkills!$A$4:$K$304,3,FALSE) +( ($D$4*VLOOKUP($L33,EnemySkills!$A$4:$K$304,4,FALSE)) +($F$4*VLOOKUP($L33,EnemySkills!$A$4:$K$304,5,FALSE)) +($H$4*VLOOKUP($L33,EnemySkills!$A$4:$K$304,6,FALSE)) +($I$4*VLOOKUP($L33,EnemySkills!$A$4:$K$304,7,FALSE)) )-( (VLOOKUP(AF$30,$A$7:$T$26,16,FALSE)*VLOOKUP($L33,EnemySkills!$A$4:$K$304,8,FALSE)) +(VLOOKUP(AF$30,$A$7:$T$26,18,FALSE)*VLOOKUP($L33,EnemySkills!$A$4:$K$304,9,FALSE)) +(VLOOKUP(AF$30,$A$7:$T$26,19,FALSE)*VLOOKUP($L33,EnemySkills!$A$4:$K$304,10,FALSE)) +(VLOOKUP(AF$30,$A$7:$T$26,20,FALSE)*VLOOKUP($L33,EnemySkills!$A$4:$K$304,11,FALSE)) ),0) -> 20
A34: =Skills!A7 -> Inspiring Charge | B34: =VLOOKUP($A34,Skills!$A$4:$C$304,2,FALSE) -> Soldier | D34: =ROUND(VLOOKUP(A34,Skills!A7:K307,3,FALSE) +((VLOOKUP(B34,$A$7:$T$26,15,FALSE)*VLOOKUP(A34,Skills!$A$4:$K$304,4,FALSE)) +(VLOOKUP(B34,$A$7:$T$26,17,FALSE)*VLOOKUP(A34,Skills!$A$4:$K$304,5,FALSE)) +(VLOOKUP(B34,$A$7:$T$26,19,FALSE)*VLOOKUP(A34,Skills!$A$4:$K$304,6,FALSE)) +(VLOOKUP(B34,$A$7:$T29,20,FALSE)*VLOOKUP(A34,Skills!$A$4:$K$304,7,FALSE))) -(($E$4*VLOOKUP(A34,Skills!$A$4:$K$304,8,FALSE)) +($F$4*VLOOKUP(A34,Skills!$A$4:$K$304,9,FALSE)) +($H$4*VLOOKUP(A34,Skills!$A$4:$K$304,10,FALSE)) +($I$4*VLOOKUP(A34,Skills!$A$4:$K$304,11,FALSE))),0) -> 61 | E34: =ROUND($B$4/D34,1) -> 1.6 | F34: =ROUND(VLOOKUP(A34,Skills!A7:K307,3,FALSE) +(((VLOOKUP(B34,$A$7:$T$26,15,FALSE)*1.2)*VLOOKUP(A34,Skills!$A$4:$K$304,4,FALSE)) +((VLOOKUP(B34,$A$7:$T$26,17,FALSE)*1.2)*VLOOKUP(A34,Skills!$A$4:$K$304,5,FALSE)) +(VLOOKUP(B34,$A$7:$T$26,19,FALSE)*VLOOKUP(A34,Skills!$A$4:$K$304,6,FALSE)) +(VLOOKUP(B34,$A$7:$T29,20,FALSE)*VLOOKUP(A34,Skills!$A$4:$K$304,7,FALSE))) -(($E$4*VLOOKUP(A34,Skills!$A$4:$K$304,8,FALSE)) +($F$4*VLOOKUP(A34,Skills!$A$4:$K$304,9,FALSE)) +($H$4*VLOOKUP(A34,Skills!$A$4:$K$304,10,FALSE)) +($I$4*VLOOKUP(A34,Skills!$A$4:$K$304,11,FALSE))),0) -> 76 | G34: =ROUND(VLOOKUP(A34,Skills!A7:K307,3,FALSE) +(((VLOOKUP(B34,$A$7:$T$26,15,FALSE)*1.4)*VLOOKUP(A34,Skills!$A$4:$K$304,4,FALSE)) +((VLOOKUP(B34,$A$7:$T$26,17,FALSE)*1.4)*VLOOKUP(A34,Skills!$A$4:$K$304,5,FALSE)) +(VLOOKUP(B34,$A$7:$T$26,19,FALSE)*VLOOKUP(A34,Skills!$A$4:$K$304,6,FALSE)) +(VLOOKUP(B34,$A$7:$T29,20,FALSE)*VLOOKUP(A34,Skills!$A$4:$K$304,7,FALSE))) -(($E$4*VLOOKUP(A34,Skills!$A$4:$K$304,8,FALSE)) +($F$4*VLOOKUP(A34,Skills!$A$4:$K$304,9,FALSE)) +($H$4*VLOOKUP(A34,Skills!$A$4:$K$304,10,FALSE)) +($I$4*VLOOKUP(A34,Skills!$A$4:$K$304,11,FALSE))),0) -> 91 | H34: =ROUND(VLOOKUP(A34,Skills!A7:K307,3,FALSE) +((VLOOKUP(B34,$A$7:$T$26,15,FALSE)*VLOOKUP(A34,Skills!$A$4:$K$304,4,FALSE)) +(VLOOKUP(B34,$A$7:$T$26,17,FALSE)*VLOOKUP(A34,Skills!$A$4:$K$304,5,FALSE)) +(VLOOKUP(B34,$A$7:$T$26,19,FALSE)*VLOOKUP(A34,Skills!$A$4:$K$304,6,FALSE)) +(VLOOKUP(B34,$A$7:$T29,20,FALSE)*VLOOKUP(A34,Skills!$A$4:$K$304,7,FALSE))) -((($E$4*1.2)*VLOOKUP(A34,Skills!$A$4:$K$304,8,FALSE)) +(($F$4*1.2)*VLOOKUP(A34,Skills!$A$4:$K$304,9,FALSE)) +($H$4*VLOOKUP(A34,Skills!$A$4:$K$304,10,FALSE)) +($I$4*VLOOKUP(A34,Skills!$A$4:$K$304,11,FALSE))),0) -> 57 | I34: =ROUND(VLOOKUP(A34,Skills!A7:K307,3,FALSE) +((VLOOKUP(B34,$A$7:$T$26,15,FALSE)*VLOOKUP(A34,Skills!$A$4:$K$304,4,FALSE)) +(VLOOKUP(B34,$A$7:$T$26,17,FALSE)*VLOOKUP(A34,Skills!$A$4:$K$304,5,FALSE)) +(VLOOKUP(B34,$A$7:$T$26,19,FALSE)*VLOOKUP(A34,Skills!$A$4:$K$304,6,FALSE)) +(VLOOKUP(B34,$A$7:$T29,20,FALSE)*VLOOKUP(A34,Skills!$A$4:$K$304,7,FALSE))) -((($E$4*1.4)*VLOOKUP(A34,Skills!$A$4:$K$304,8,FALSE)) +(($F$4*1.4)*VLOOKUP(A34,Skills!$A$4:$K$304,9,FALSE)) +($H$4*VLOOKUP(A34,Skills!$A$4:$K$304,10,FALSE)) +($I$4*VLOOKUP(A34,Skills!$A$4:$K$304,11,FALSE))),0) -> 53 | L34: =EnemySkills!A7 -> Putrid Cloud | M34: =ROUND(VLOOKUP($L34,EnemySkills!$A$4:$K$304,3,FALSE) +( ($D$4*VLOOKUP($L34,EnemySkills!$A$4:$K$304,4,FALSE)) +($F$4*VLOOKUP($L34,EnemySkills!$A$4:$K$304,5,FALSE)) +($H$4*VLOOKUP($L34,EnemySkills!$A$4:$K$304,6,FALSE)) +($I$4*VLOOKUP($L34,EnemySkills!$A$4:$K$304,7,FALSE)) )-( (VLOOKUP(M$30,$A$7:$T$26,16,FALSE)*VLOOKUP($L34,EnemySkills!$A$4:$K$304,8,FALSE)) +(VLOOKUP(M$30,$A$7:$T$26,18,FALSE)*VLOOKUP($L34,EnemySkills!$A$4:$K$304,9,FALSE)) +(VLOOKUP(M$30,$A$7:$T$26,19,FALSE)*VLOOKUP($L34,EnemySkills!$A$4:$K$304,10,FALSE)) +(VLOOKUP(M$30,$A$7:$T$26,20,FALSE)*VLOOKUP($L34,EnemySkills!$A$4:$K$304,11,FALSE)) ),0) -> 10 | N34: =ROUND(VLOOKUP($L34,EnemySkills!$A$4:$K$304,3,FALSE) +( ($D$4*VLOOKUP($L34,EnemySkills!$A$4:$K$304,4,FALSE)) +($F$4*VLOOKUP($L34,EnemySkills!$A$4:$K$304,5,FALSE)) +($H$4*VLOOKUP($L34,EnemySkills!$A$4:$K$304,6,FALSE)) +($I$4*VLOOKUP($L34,EnemySkills!$A$4:$K$304,7,FALSE)) )-( (VLOOKUP(N$30,$A$7:$T$26,16,FALSE)*VLOOKUP($L34,EnemySkills!$A$4:$K$304,8,FALSE)) +(VLOOKUP(N$30,$A$7:$T$26,18,FALSE)*VLOOKUP($L34,EnemySkills!$A$4:$K$304,9,FALSE)) +(VLOOKUP(N$30,$A$7:$T$26,19,FALSE)*VLOOKUP($L34,EnemySkills!$A$4:$K$304,10,FALSE)) +(VLOOKUP(N$30,$A$7:$T$26,20,FALSE)*VLOOKUP($L34,EnemySkills!$A$4:$K$304,11,FALSE)) ),0) -> 10 | O34: =ROUND(VLOOKUP($L34,EnemySkills!$A$4:$K$304,3,FALSE) +( ($D$4*VLOOKUP($L34,EnemySkills!$A$4:$K$304,4,FALSE)) +($F$4*VLOOKUP($L34,EnemySkills!$A$4:$K$304,5,FALSE)) +($H$4*VLOOKUP($L34,EnemySkills!$A$4:$K$304,6,FALSE)) +($I$4*VLOOKUP($L34,EnemySkills!$A$4:$K$304,7,FALSE)) )-( (VLOOKUP(O$30,$A$7:$T$26,16,FALSE)*VLOOKUP($L34,EnemySkills!$A$4:$K$304,8,FALSE)) +(VLOOKUP(O$30,$A$7:$T$26,18,FALSE)*VLOOKUP($L34,EnemySkills!$A$4:$K$304,9,FALSE)) +(VLOOKUP(O$30,$A$7:$T$26,19,FALSE)*VLOOKUP($L34,EnemySkills!$A$4:$K$304,10,FALSE)) +(VLOOKUP(O$30,$A$7:$T$26,20,FALSE)*VLOOKUP($L34,EnemySkills!$A$4:$K$304,11,FALSE)) ),0) -> 10 | P34: =ROUND(VLOOKUP($L34,EnemySkills!$A$4:$K$304,3,FALSE) +( ($D$4*VLOOKUP($L34,EnemySkills!$A$4:$K$304,4,FALSE)) +($F$4*VLOOKUP($L34,EnemySkills!$A$4:$K$304,5,FALSE)) +($H$4*VLOOKUP($L34,EnemySkills!$A$4:$K$304,6,FALSE)) +($I$4*VLOOKUP($L34,EnemySkills!$A$4:$K$304,7,FALSE)) )-( (VLOOKUP(P$30,$A$7:$T$26,16,FALSE)*VLOOKUP($L34,EnemySkills!$A$4:$K$304,8,FALSE)) +(VLOOKUP(P$30,$A$7:$T$26,18,FALSE)*VLOOKUP($L34,EnemySkills!$A$4:$K$304,9,FALSE)) +(VLOOKUP(P$30,$A$7:$T$26,19,FALSE)*VLOOKUP($L34,EnemySkills!$A$4:$K$304,10,FALSE)) +(VLOOKUP(P$30,$A$7:$T$26,20,FALSE)*VLOOKUP($L34,EnemySkills!$A$4:$K$304,11,FALSE)) ),0) -> 10 | Q34: =ROUND(VLOOKUP($L34,EnemySkills!$A$4:$K$304,3,FALSE) +( ($D$4*VLOOKUP($L34,EnemySkills!$A$4:$K$304,4,FALSE)) +($F$4*VLOOKUP($L34,EnemySkills!$A$4:$K$304,5,FALSE)) +($H$4*VLOOKUP($L34,EnemySkills!$A$4:$K$304,6,FALSE)) +($I$4*VLOOKUP($L34,EnemySkills!$A$4:$K$304,7,FALSE)) )-( (VLOOKUP(Q$30,$A$7:$T$26,16,FALSE)*VLOOKUP($L34,EnemySkills!$A$4:$K$304,8,FALSE)) +(VLOOKUP(Q$30,$A$7:$T$26,18,FALSE)*VLOOKUP($L34,EnemySkills!$A$4:$K$304,9,FALSE)) +(VLOOKUP(Q$30,$A$7:$T$26,19,FALSE)*VLOOKUP($L34,EnemySkills!$A$4:$K$304,10,FALSE)) +(VLOOKUP(Q$30,$A$7:$T$26,20,FALSE)*VLOOKUP($L34,EnemySkills!$A$4:$K$304,11,FALSE)) ),0) -> 10 | R34: =ROUND(VLOOKUP($L34,EnemySkills!$A$4:$K$304,3,FALSE) +( ($D$4*VLOOKUP($L34,EnemySkills!$A$4:$K$304,4,FALSE)) +($F$4*VLOOKUP($L34,EnemySkills!$A$4:$K$304,5,FALSE)) +($H$4*VLOOKUP($L34,EnemySkills!$A$4:$K$304,6,FALSE)) +($I$4*VLOOKUP($L34,EnemySkills!$A$4:$K$304,7,FALSE)) )-( (VLOOKUP(R$30,$A$7:$T$26,16,FALSE)*VLOOKUP($L34,EnemySkills!$A$4:$K$304,8,FALSE)) +(VLOOKUP(R$30,$A$7:$T$26,18,FALSE)*VLOOKUP($L34,EnemySkills!$A$4:$K$304,9,FALSE)) +(VLOOKUP(R$30,$A$7:$T$26,19,FALSE)*VLOOKUP($L34,EnemySkills!$A$4:$K$304,10,FALSE)) +(VLOOKUP(R$30,$A$7:$T$26,20,FALSE)*VLOOKUP($L34,EnemySkills!$A$4:$K$304,11,FALSE)) ),0) -> 10 | S34: =ROUND(VLOOKUP($L34,EnemySkills!$A$4:$K$304,3,FALSE) +( ($D$4*VLOOKUP($L34,EnemySkills!$A$4:$K$304,4,FALSE)) +($F$4*VLOOKUP($L34,EnemySkills!$A$4:$K$304,5,FALSE)) +($H$4*VLOOKUP($L34,EnemySkills!$A$4:$K$304,6,FALSE)) +($I$4*VLOOKUP($L34,EnemySkills!$A$4:$K$304,7,FALSE)) )-( (VLOOKUP(S$30,$A$7:$T$26,16,FALSE)*VLOOKUP($L34,EnemySkills!$A$4:$K$304,8,FALSE)) +(VLOOKUP(S$30,$A$7:$T$26,18,FALSE)*VLOOKUP($L34,EnemySkills!$A$4:$K$304,9,FALSE)) +(VLOOKUP(S$30,$A$7:$T$26,19,FALSE)*VLOOKUP($L34,EnemySkills!$A$4:$K$304,10,FALSE)) +(VLOOKUP(S$30,$A$7:$T$26,20,FALSE)*VLOOKUP($L34,EnemySkills!$A$4:$K$304,11,FALSE)) ),0) -> 10 | T34: =ROUND(VLOOKUP($L34,EnemySkills!$A$4:$K$304,3,FALSE) +( ($D$4*VLOOKUP($L34,EnemySkills!$A$4:$K$304,4,FALSE)) +($F$4*VLOOKUP($L34,EnemySkills!$A$4:$K$304,5,FALSE)) +($H$4*VLOOKUP($L34,EnemySkills!$A$4:$K$304,6,FALSE)) +($I$4*VLOOKUP($L34,EnemySkills!$A$4:$K$304,7,FALSE)) )-( (VLOOKUP(T$30,$A$7:$T$26,16,FALSE)*VLOOKUP($L34,EnemySkills!$A$4:$K$304,8,FALSE)) +(VLOOKUP(T$30,$A$7:$T$26,18,FALSE)*VLOOKUP($L34,EnemySkills!$A$4:$K$304,9,FALSE)) +(VLOOKUP(T$30,$A$7:$T$26,19,FALSE)*VLOOKUP($L34,EnemySkills!$A$4:$K$304,10,FALSE)) +(VLOOKUP(T$30,$A$7:$T$26,20,FALSE)*VLOOKUP($L34,EnemySkills!$A$4:$K$304,11,FALSE)) ),0) -> 10 | ... AF34: =ROUND(VLOOKUP($L34,EnemySkills!$A$4:$K$304,3,FALSE) +( ($D$4*VLOOKUP($L34,EnemySkills!$A$4:$K$304,4,FALSE)) +($F$4*VLOOKUP($L34,EnemySkills!$A$4:$K$304,5,FALSE)) +($H$4*VLOOKUP($L34,EnemySkills!$A$4:$K$304,6,FALSE)) +($I$4*VLOOKUP($L34,EnemySkills!$A$4:$K$304,7,FALSE)) )-( (VLOOKUP(AF$30,$A$7:$T$26,16,FALSE)*VLOOKUP($L34,EnemySkills!$A$4:$K$304,8,FALSE)) +(VLOOKUP(AF$30,$A$7:$T$26,18,FALSE)*VLOOKUP($L34,EnemySkills!$A$4:$K$304,9,FALSE)) +(VLOOKUP(AF$30,$A$7:$T$26,19,FALSE)*VLOOKUP($L34,EnemySkills!$A$4:$K$304,10,FALSE)) +(VLOOKUP(AF$30,$A$7:$T$26,20,FALSE)*VLOOKUP($L34,EnemySkills!$A$4:$K$304,11,FALSE)) ),0) -> 10
